BEGIN:VCALENDAR
VERSION:2.0
PRODID:-//Sabre//Sabre VObject 4.5.1//EN
CALSCALE:GREGORIAN
X-WR-TIMEZONE:America/New_York
BEGIN:VEVENT
UID:sabre-vobject-02495320-231e-46e8-bde2-e7fc45acb198
DTSTAMP:20260420T140941Z
SUMMARY:Sondage sur les aménagements de Gray Rocks
DESCRIPTION:\n\nhttps://vdmt.ca/evenements/sondage/sondage-sur-les-amenagem
 ents-de-gray-rocks
LOCATION:En ligne
DTSTART;TZID=America/New_York:20251204T000000
DTEND;TZID=America/New_York:20251204T235900
END:VEVENT
BEGIN:VEVENT
UID:sabre-vobject-e95da39a-fee6-4b32-83ea-ad9f3fdd309a
DTSTAMP:20260420T140941Z
SUMMARY:Sondage sur les aménagements de Gray Rocks
DESCRIPTION:\n\nhttps://vdmt.ca/evenements/sondage/sondage-sur-les-amenagem
 ents-de-gray-rocks
LOCATION:En ligne
DTSTART;TZID=America/New_York:20251205T000000
DTEND;TZID=America/New_York:20251205T235900
END:VEVENT
BEGIN:VEVENT
UID:sabre-vobject-ac411ab2-23ba-4b98-8943-9523bf34587d
DTSTAMP:20260420T140941Z
SUMMARY:Sondage sur les aménagements de Gray Rocks
DESCRIPTION:\n\nhttps://vdmt.ca/evenements/sondage/sondage-sur-les-amenagem
 ents-de-gray-rocks
LOCATION:En ligne
DTSTART;TZID=America/New_York:20251206T000000
DTEND;TZID=America/New_York:20251206T235900
END:VEVENT
BEGIN:VEVENT
UID:sabre-vobject-52a0598b-59d2-4377-8e2b-1e8fad031512
DTSTAMP:20260420T140941Z
SUMMARY:Sondage sur les aménagements de Gray Rocks
DESCRIPTION:\n\nhttps://vdmt.ca/evenements/sondage/sondage-sur-les-amenagem
 ents-de-gray-rocks
LOCATION:En ligne
DTSTART;TZID=America/New_York:20251207T000000
DTEND;TZID=America/New_York:20251207T235900
END:VEVENT
BEGIN:VEVENT
UID:sabre-vobject-cf3c5462-7e50-4a90-a2b3-2086f8e72a52
DTSTAMP:20260420T140941Z
SUMMARY:Sondage sur les aménagements de Gray Rocks
DESCRIPTION:\n\nhttps://vdmt.ca/evenements/sondage/sondage-sur-les-amenagem
 ents-de-gray-rocks
LOCATION:En ligne
DTSTART;TZID=America/New_York:20251208T000000
DTEND;TZID=America/New_York:20251208T235900
END:VEVENT
BEGIN:VEVENT
UID:sabre-vobject-50ca3ee8-f34b-4ec1-89d4-53c9435bf2f9
DTSTAMP:20260420T140941Z
SUMMARY:Sondage sur les aménagements de Gray Rocks
DESCRIPTION:\n\nhttps://vdmt.ca/evenements/sondage/sondage-sur-les-amenagem
 ents-de-gray-rocks
LOCATION:En ligne
DTSTART;TZID=America/New_York:20251209T000000
DTEND;TZID=America/New_York:20251209T235900
END:VEVENT
BEGIN:VEVENT
UID:sabre-vobject-d04258d2-6a00-484c-88c4-d20b9eafec6f
DTSTAMP:20260420T140941Z
SUMMARY:Sondage sur les aménagements de Gray Rocks
DESCRIPTION:\n\nhttps://vdmt.ca/evenements/sondage/sondage-sur-les-amenagem
 ents-de-gray-rocks
LOCATION:En ligne
DTSTART;TZID=America/New_York:20251210T000000
DTEND;TZID=America/New_York:20251210T235900
END:VEVENT
BEGIN:VEVENT
UID:sabre-vobject-cf66ae62-799e-4bfc-b59f-8893432eba63
DTSTAMP:20260420T140941Z
SUMMARY:Sondage sur les aménagements de Gray Rocks
DESCRIPTION:\n\nhttps://vdmt.ca/evenements/sondage/sondage-sur-les-amenagem
 ents-de-gray-rocks
LOCATION:En ligne
DTSTART;TZID=America/New_York:20251211T000000
DTEND;TZID=America/New_York:20251211T235900
END:VEVENT
BEGIN:VEVENT
UID:sabre-vobject-a937ccaa-262b-49bd-b163-567b063a7710
DTSTAMP:20260420T140941Z
SUMMARY:Sondage sur les aménagements de Gray Rocks
DESCRIPTION:\n\nhttps://vdmt.ca/evenements/sondage/sondage-sur-les-amenagem
 ents-de-gray-rocks
LOCATION:En ligne
DTSTART;TZID=America/New_York:20251212T000000
DTEND;TZID=America/New_York:20251212T235900
END:VEVENT
BEGIN:VEVENT
UID:sabre-vobject-a51c5e2e-d213-461e-9360-2ebb7fdd1f29
DTSTAMP:20260420T140941Z
SUMMARY:Sondage sur les aménagements de Gray Rocks
DESCRIPTION:\n\nhttps://vdmt.ca/evenements/sondage/sondage-sur-les-amenagem
 ents-de-gray-rocks
LOCATION:En ligne
DTSTART;TZID=America/New_York:20251213T000000
DTEND;TZID=America/New_York:20251213T235900
END:VEVENT
BEGIN:VEVENT
UID:sabre-vobject-f240a816-983d-48e3-ac6e-a5d09ccbabd2
DTSTAMP:20260420T140941Z
SUMMARY:Sondage sur les aménagements de Gray Rocks
DESCRIPTION:\n\nhttps://vdmt.ca/evenements/sondage/sondage-sur-les-amenagem
 ents-de-gray-rocks
LOCATION:En ligne
DTSTART;TZID=America/New_York:20251214T000000
DTEND;TZID=America/New_York:20251214T235900
END:VEVENT
BEGIN:VEVENT
UID:sabre-vobject-f38a0570-b8d2-4446-be35-5650798eb37f
DTSTAMP:20260420T140941Z
SUMMARY:Sondage sur les aménagements de Gray Rocks
DESCRIPTION:\n\nhttps://vdmt.ca/evenements/sondage/sondage-sur-les-amenagem
 ents-de-gray-rocks
LOCATION:En ligne
DTSTART;TZID=America/New_York:20251215T000000
DTEND;TZID=America/New_York:20251215T235900
END:VEVENT
BEGIN:VEVENT
UID:sabre-vobject-3a62fcb8-f814-47e7-82eb-d56c51fe8c58
DTSTAMP:20260420T140941Z
SUMMARY:Sondage sur les aménagements de Gray Rocks
DESCRIPTION:\n\nhttps://vdmt.ca/evenements/sondage/sondage-sur-les-amenagem
 ents-de-gray-rocks
LOCATION:En ligne
DTSTART;TZID=America/New_York:20251216T000000
DTEND;TZID=America/New_York:20251216T235900
END:VEVENT
BEGIN:VEVENT
UID:sabre-vobject-f48925ba-c314-4196-869d-f6191f481f7b
DTSTAMP:20260420T140941Z
SUMMARY:Sondage sur les aménagements de Gray Rocks
DESCRIPTION:\n\nhttps://vdmt.ca/evenements/sondage/sondage-sur-les-amenagem
 ents-de-gray-rocks
LOCATION:En ligne
DTSTART;TZID=America/New_York:20251217T000000
DTEND;TZID=America/New_York:20251217T235900
END:VEVENT
END:VCALENDAR
