BEGIN:VCALENDAR
VERSION:2.0
PRODID:-//Sabre//Sabre VObject 4.5.1//EN
CALSCALE:GREGORIAN
X-WR-TIMEZONE:America/New_York
BEGIN:VEVENT
UID:sabre-vobject-4acdd660-7f5f-4083-b06b-bb1f51b87059
DTSTAMP:20260421T093904Z
SUMMARY:Exposition « MINIPRESSE X MINIPRINT » (Horaire varié)
DESCRIPTION:\n\nhttps://vdmt.ca/evenements/exposition/exposition-minipresse
 -x-miniprint
LOCATION:Salle Alphonse-Desjardins (1145\, rue de Saint-Jovite)
DTSTART;TZID=America/New_York:20251031T000000
DTEND;TZID=America/New_York:20251031T000000
END:VEVENT
BEGIN:VEVENT
UID:sabre-vobject-f887cf10-cf79-4926-ae52-c22dc6161b50
DTSTAMP:20260421T093904Z
SUMMARY:Exposition « MINIPRESSE X MINIPRINT » (Horaire varié)
DESCRIPTION:\n\nhttps://vdmt.ca/evenements/exposition/exposition-minipresse
 -x-miniprint
LOCATION:Salle Alphonse-Desjardins (1145\, rue de Saint-Jovite)
DTSTART;TZID=America/New_York:20251101T000000
DTEND;TZID=America/New_York:20251101T000000
END:VEVENT
BEGIN:VEVENT
UID:sabre-vobject-a14c8d7f-f9fe-4349-8c6c-b3deffd49fe0
DTSTAMP:20260421T093904Z
SUMMARY:Exposition « MINIPRESSE X MINIPRINT » (Horaire varié)
DESCRIPTION:\n\nhttps://vdmt.ca/evenements/exposition/exposition-minipresse
 -x-miniprint
LOCATION:Salle Alphonse-Desjardins (1145\, rue de Saint-Jovite)
DTSTART;TZID=America/New_York:20251102T000000
DTEND;TZID=America/New_York:20251102T000000
END:VEVENT
BEGIN:VEVENT
UID:sabre-vobject-caba83a7-9025-4977-b622-2a9f7905cf19
DTSTAMP:20260421T093904Z
SUMMARY:Exposition « MINIPRESSE X MINIPRINT » (Horaire varié)
DESCRIPTION:\n\nhttps://vdmt.ca/evenements/exposition/exposition-minipresse
 -x-miniprint
LOCATION:Salle Alphonse-Desjardins (1145\, rue de Saint-Jovite)
DTSTART;TZID=America/New_York:20251103T000000
DTEND;TZID=America/New_York:20251103T000000
END:VEVENT
BEGIN:VEVENT
UID:sabre-vobject-72026d36-61c8-4697-8155-bd616a08891a
DTSTAMP:20260421T093904Z
SUMMARY:Exposition « MINIPRESSE X MINIPRINT » (Horaire varié)
DESCRIPTION:\n\nhttps://vdmt.ca/evenements/exposition/exposition-minipresse
 -x-miniprint
LOCATION:Salle Alphonse-Desjardins (1145\, rue de Saint-Jovite)
DTSTART;TZID=America/New_York:20251104T000000
DTEND;TZID=America/New_York:20251104T000000
END:VEVENT
BEGIN:VEVENT
UID:sabre-vobject-92d35236-549a-42c5-bdf3-d3e24f15365a
DTSTAMP:20260421T093904Z
SUMMARY:Exposition « MINIPRESSE X MINIPRINT » (Horaire varié)
DESCRIPTION:\n\nhttps://vdmt.ca/evenements/exposition/exposition-minipresse
 -x-miniprint
LOCATION:Salle Alphonse-Desjardins (1145\, rue de Saint-Jovite)
DTSTART;TZID=America/New_York:20251105T000000
DTEND;TZID=America/New_York:20251105T000000
END:VEVENT
BEGIN:VEVENT
UID:sabre-vobject-99fb3a4a-1d9d-49c1-9928-ef7094f4eafd
DTSTAMP:20260421T093904Z
SUMMARY:Exposition « MINIPRESSE X MINIPRINT » (Horaire varié)
DESCRIPTION:\n\nhttps://vdmt.ca/evenements/exposition/exposition-minipresse
 -x-miniprint
LOCATION:Salle Alphonse-Desjardins (1145\, rue de Saint-Jovite)
DTSTART;TZID=America/New_York:20251106T000000
DTEND;TZID=America/New_York:20251106T000000
END:VEVENT
BEGIN:VEVENT
UID:sabre-vobject-503708d4-e180-4f87-8d95-987c2476e646
DTSTAMP:20260421T093904Z
SUMMARY:Exposition « MINIPRESSE X MINIPRINT » (Horaire varié)
DESCRIPTION:\n\nhttps://vdmt.ca/evenements/exposition/exposition-minipresse
 -x-miniprint
LOCATION:Salle Alphonse-Desjardins (1145\, rue de Saint-Jovite)
DTSTART;TZID=America/New_York:20251107T000000
DTEND;TZID=America/New_York:20251107T000000
END:VEVENT
BEGIN:VEVENT
UID:sabre-vobject-370efaa5-3a49-498f-9070-316f93c6fd85
DTSTAMP:20260421T093904Z
SUMMARY:Exposition « MINIPRESSE X MINIPRINT » (Horaire varié)
DESCRIPTION:\n\nhttps://vdmt.ca/evenements/exposition/exposition-minipresse
 -x-miniprint
LOCATION:Salle Alphonse-Desjardins (1145\, rue de Saint-Jovite)
DTSTART;TZID=America/New_York:20251108T000000
DTEND;TZID=America/New_York:20251108T000000
END:VEVENT
BEGIN:VEVENT
UID:sabre-vobject-d45d6a49-63d2-4566-97ea-fa8710b00286
DTSTAMP:20260421T093904Z
SUMMARY:Exposition « MINIPRESSE X MINIPRINT » (Horaire varié)
DESCRIPTION:\n\nhttps://vdmt.ca/evenements/exposition/exposition-minipresse
 -x-miniprint
LOCATION:Salle Alphonse-Desjardins (1145\, rue de Saint-Jovite)
DTSTART;TZID=America/New_York:20251109T000000
DTEND;TZID=America/New_York:20251109T000000
END:VEVENT
BEGIN:VEVENT
UID:sabre-vobject-a5f9d587-4fb1-46d3-b64a-eab517e9345f
DTSTAMP:20260421T093904Z
SUMMARY:Exposition « MINIPRESSE X MINIPRINT » (Horaire varié)
DESCRIPTION:\n\nhttps://vdmt.ca/evenements/exposition/exposition-minipresse
 -x-miniprint
LOCATION:Salle Alphonse-Desjardins (1145\, rue de Saint-Jovite)
DTSTART;TZID=America/New_York:20251110T000000
DTEND;TZID=America/New_York:20251110T000000
END:VEVENT
BEGIN:VEVENT
UID:sabre-vobject-5b967c6b-cc72-4734-9f07-64cc94204ed4
DTSTAMP:20260421T093904Z
SUMMARY:Exposition « MINIPRESSE X MINIPRINT » (Horaire varié)
DESCRIPTION:\n\nhttps://vdmt.ca/evenements/exposition/exposition-minipresse
 -x-miniprint
LOCATION:Salle Alphonse-Desjardins (1145\, rue de Saint-Jovite)
DTSTART;TZID=America/New_York:20251111T000000
DTEND;TZID=America/New_York:20251111T000000
END:VEVENT
BEGIN:VEVENT
UID:sabre-vobject-a2f66b52-ab0a-4006-a95c-0a640e9dbc6c
DTSTAMP:20260421T093904Z
SUMMARY:Exposition « MINIPRESSE X MINIPRINT » (Horaire varié)
DESCRIPTION:\n\nhttps://vdmt.ca/evenements/exposition/exposition-minipresse
 -x-miniprint
LOCATION:Salle Alphonse-Desjardins (1145\, rue de Saint-Jovite)
DTSTART;TZID=America/New_York:20251112T000000
DTEND;TZID=America/New_York:20251112T000000
END:VEVENT
BEGIN:VEVENT
UID:sabre-vobject-5d1fcc71-ac0a-42aa-8674-894608cc3c70
DTSTAMP:20260421T093904Z
SUMMARY:Exposition « MINIPRESSE X MINIPRINT » (Horaire varié)
DESCRIPTION:\n\nhttps://vdmt.ca/evenements/exposition/exposition-minipresse
 -x-miniprint
LOCATION:Salle Alphonse-Desjardins (1145\, rue de Saint-Jovite)
DTSTART;TZID=America/New_York:20251113T000000
DTEND;TZID=America/New_York:20251113T000000
END:VEVENT
BEGIN:VEVENT
UID:sabre-vobject-129e76ce-bcce-4542-92ff-e525bdad55c3
DTSTAMP:20260421T093904Z
SUMMARY:Exposition « MINIPRESSE X MINIPRINT » (Horaire varié)
DESCRIPTION:\n\nhttps://vdmt.ca/evenements/exposition/exposition-minipresse
 -x-miniprint
LOCATION:Salle Alphonse-Desjardins (1145\, rue de Saint-Jovite)
DTSTART;TZID=America/New_York:20251114T000000
DTEND;TZID=America/New_York:20251114T000000
END:VEVENT
BEGIN:VEVENT
UID:sabre-vobject-37621ce5-504a-4052-b996-6fc835d55557
DTSTAMP:20260421T093904Z
SUMMARY:Exposition « MINIPRESSE X MINIPRINT » (Horaire varié)
DESCRIPTION:\n\nhttps://vdmt.ca/evenements/exposition/exposition-minipresse
 -x-miniprint
LOCATION:Salle Alphonse-Desjardins (1145\, rue de Saint-Jovite)
DTSTART;TZID=America/New_York:20251115T000000
DTEND;TZID=America/New_York:20251115T000000
END:VEVENT
BEGIN:VEVENT
UID:sabre-vobject-cb154762-121c-4c2d-96a7-ea9ee85fa573
DTSTAMP:20260421T093904Z
SUMMARY:Exposition « MINIPRESSE X MINIPRINT » (Horaire varié)
DESCRIPTION:\n\nhttps://vdmt.ca/evenements/exposition/exposition-minipresse
 -x-miniprint
LOCATION:Salle Alphonse-Desjardins (1145\, rue de Saint-Jovite)
DTSTART;TZID=America/New_York:20251116T000000
DTEND;TZID=America/New_York:20251116T000000
END:VEVENT
BEGIN:VEVENT
UID:sabre-vobject-ce8283a3-513b-4d0a-bcb0-27d9710a55d6
DTSTAMP:20260421T093904Z
SUMMARY:Exposition « MINIPRESSE X MINIPRINT » (Horaire varié)
DESCRIPTION:\n\nhttps://vdmt.ca/evenements/exposition/exposition-minipresse
 -x-miniprint
LOCATION:Salle Alphonse-Desjardins (1145\, rue de Saint-Jovite)
DTSTART;TZID=America/New_York:20251117T000000
DTEND;TZID=America/New_York:20251117T000000
END:VEVENT
BEGIN:VEVENT
UID:sabre-vobject-f6ccfb1d-ea5f-4808-bf74-daf34cf496be
DTSTAMP:20260421T093904Z
SUMMARY:Exposition « MINIPRESSE X MINIPRINT » (Horaire varié)
DESCRIPTION:\n\nhttps://vdmt.ca/evenements/exposition/exposition-minipresse
 -x-miniprint
LOCATION:Salle Alphonse-Desjardins (1145\, rue de Saint-Jovite)
DTSTART;TZID=America/New_York:20251118T000000
DTEND;TZID=America/New_York:20251118T000000
END:VEVENT
BEGIN:VEVENT
UID:sabre-vobject-85075914-209e-4818-86c1-9a7d10245bae
DTSTAMP:20260421T093904Z
SUMMARY:Exposition « MINIPRESSE X MINIPRINT » (Horaire varié)
DESCRIPTION:\n\nhttps://vdmt.ca/evenements/exposition/exposition-minipresse
 -x-miniprint
LOCATION:Salle Alphonse-Desjardins (1145\, rue de Saint-Jovite)
DTSTART;TZID=America/New_York:20251119T000000
DTEND;TZID=America/New_York:20251119T000000
END:VEVENT
BEGIN:VEVENT
UID:sabre-vobject-505a6a74-b4d4-4a63-8185-f03690004c0e
DTSTAMP:20260421T093904Z
SUMMARY:Exposition « MINIPRESSE X MINIPRINT » (Horaire varié)
DESCRIPTION:\n\nhttps://vdmt.ca/evenements/exposition/exposition-minipresse
 -x-miniprint
LOCATION:Salle Alphonse-Desjardins (1145\, rue de Saint-Jovite)
DTSTART;TZID=America/New_York:20251120T000000
DTEND;TZID=America/New_York:20251120T000000
END:VEVENT
END:VCALENDAR
