BEGIN:VCALENDAR
VERSION:2.0
PRODID:-//Sabre//Sabre VObject 4.5.1//EN
CALSCALE:GREGORIAN
X-WR-TIMEZONE:America/New_York
BEGIN:VEVENT
UID:sabre-vobject-00869d66-cd02-4004-8174-b791eb3ad391
DTSTAMP:20260421T170328Z
SUMMARY:Agissons ensemble pour nos lacs
DESCRIPTION:\n\nhttps://vdmt.ca/evenements/sondage/lacs
LOCATION:En ligne
DTSTART;TZID=America/New_York:20251021T000000
DTEND;TZID=America/New_York:20251021T235500
END:VEVENT
BEGIN:VEVENT
UID:sabre-vobject-456067a5-f39e-423e-9868-1847cd94c845
DTSTAMP:20260421T170328Z
SUMMARY:Agissons ensemble pour nos lacs
DESCRIPTION:\n\nhttps://vdmt.ca/evenements/sondage/lacs
LOCATION:En ligne
DTSTART;TZID=America/New_York:20251022T000000
DTEND;TZID=America/New_York:20251022T235500
END:VEVENT
BEGIN:VEVENT
UID:sabre-vobject-6094b69f-0a68-4861-bd5f-c43a0df9a792
DTSTAMP:20260421T170328Z
SUMMARY:Agissons ensemble pour nos lacs
DESCRIPTION:\n\nhttps://vdmt.ca/evenements/sondage/lacs
LOCATION:En ligne
DTSTART;TZID=America/New_York:20251023T000000
DTEND;TZID=America/New_York:20251023T235500
END:VEVENT
BEGIN:VEVENT
UID:sabre-vobject-3a363ca7-6a11-452f-bfc8-0eff72790a00
DTSTAMP:20260421T170328Z
SUMMARY:Agissons ensemble pour nos lacs
DESCRIPTION:\n\nhttps://vdmt.ca/evenements/sondage/lacs
LOCATION:En ligne
DTSTART;TZID=America/New_York:20251024T000000
DTEND;TZID=America/New_York:20251024T235500
END:VEVENT
BEGIN:VEVENT
UID:sabre-vobject-754ddcfb-de63-4b8e-98a8-b915ff5757db
DTSTAMP:20260421T170328Z
SUMMARY:Agissons ensemble pour nos lacs
DESCRIPTION:\n\nhttps://vdmt.ca/evenements/sondage/lacs
LOCATION:En ligne
DTSTART;TZID=America/New_York:20251025T000000
DTEND;TZID=America/New_York:20251025T235500
END:VEVENT
BEGIN:VEVENT
UID:sabre-vobject-7c8336b9-fcf0-4ede-a43e-4b7de85bab3d
DTSTAMP:20260421T170328Z
SUMMARY:Agissons ensemble pour nos lacs
DESCRIPTION:\n\nhttps://vdmt.ca/evenements/sondage/lacs
LOCATION:En ligne
DTSTART;TZID=America/New_York:20251026T000000
DTEND;TZID=America/New_York:20251026T235500
END:VEVENT
BEGIN:VEVENT
UID:sabre-vobject-7a172dbf-96f9-482f-b407-471840b65aa0
DTSTAMP:20260421T170328Z
SUMMARY:Agissons ensemble pour nos lacs
DESCRIPTION:\n\nhttps://vdmt.ca/evenements/sondage/lacs
LOCATION:En ligne
DTSTART;TZID=America/New_York:20251027T000000
DTEND;TZID=America/New_York:20251027T235500
END:VEVENT
BEGIN:VEVENT
UID:sabre-vobject-ea6e9332-93e3-4241-ab8e-4266a5ea8b85
DTSTAMP:20260421T170328Z
SUMMARY:Agissons ensemble pour nos lacs
DESCRIPTION:\n\nhttps://vdmt.ca/evenements/sondage/lacs
LOCATION:En ligne
DTSTART;TZID=America/New_York:20251028T000000
DTEND;TZID=America/New_York:20251028T235500
END:VEVENT
BEGIN:VEVENT
UID:sabre-vobject-c4f30e61-4057-4915-91ab-0c34d4714c26
DTSTAMP:20260421T170328Z
SUMMARY:Agissons ensemble pour nos lacs
DESCRIPTION:\n\nhttps://vdmt.ca/evenements/sondage/lacs
LOCATION:En ligne
DTSTART;TZID=America/New_York:20251029T000000
DTEND;TZID=America/New_York:20251029T235500
END:VEVENT
BEGIN:VEVENT
UID:sabre-vobject-0c0f5242-191c-4015-89de-306c24df3a3b
DTSTAMP:20260421T170328Z
SUMMARY:Agissons ensemble pour nos lacs
DESCRIPTION:\n\nhttps://vdmt.ca/evenements/sondage/lacs
LOCATION:En ligne
DTSTART;TZID=America/New_York:20251030T000000
DTEND;TZID=America/New_York:20251030T235500
END:VEVENT
BEGIN:VEVENT
UID:sabre-vobject-fd2e972e-da19-4062-9edb-526ad063ac34
DTSTAMP:20260421T170328Z
SUMMARY:Agissons ensemble pour nos lacs
DESCRIPTION:\n\nhttps://vdmt.ca/evenements/sondage/lacs
LOCATION:En ligne
DTSTART;TZID=America/New_York:20251031T000000
DTEND;TZID=America/New_York:20251031T235500
END:VEVENT
BEGIN:VEVENT
UID:sabre-vobject-5a1640cc-e3b0-478e-9dc8-bae27dd9b879
DTSTAMP:20260421T170328Z
SUMMARY:Agissons ensemble pour nos lacs
DESCRIPTION:\n\nhttps://vdmt.ca/evenements/sondage/lacs
LOCATION:En ligne
DTSTART;TZID=America/New_York:20251101T000000
DTEND;TZID=America/New_York:20251101T235500
END:VEVENT
BEGIN:VEVENT
UID:sabre-vobject-c52fb437-3c34-4fd8-994d-5e45a38ddf7c
DTSTAMP:20260421T170328Z
SUMMARY:Agissons ensemble pour nos lacs
DESCRIPTION:\n\nhttps://vdmt.ca/evenements/sondage/lacs
LOCATION:En ligne
DTSTART;TZID=America/New_York:20251102T000000
DTEND;TZID=America/New_York:20251102T235500
END:VEVENT
BEGIN:VEVENT
UID:sabre-vobject-0169ceaa-977f-47c9-a5ab-0570d322f37f
DTSTAMP:20260421T170328Z
SUMMARY:Agissons ensemble pour nos lacs
DESCRIPTION:\n\nhttps://vdmt.ca/evenements/sondage/lacs
LOCATION:En ligne
DTSTART;TZID=America/New_York:20251103T000000
DTEND;TZID=America/New_York:20251103T235500
END:VEVENT
BEGIN:VEVENT
UID:sabre-vobject-4137e70d-8552-4a81-8285-51e9745f702d
DTSTAMP:20260421T170328Z
SUMMARY:Agissons ensemble pour nos lacs
DESCRIPTION:\n\nhttps://vdmt.ca/evenements/sondage/lacs
LOCATION:En ligne
DTSTART;TZID=America/New_York:20251104T000000
DTEND;TZID=America/New_York:20251104T235500
END:VEVENT
BEGIN:VEVENT
UID:sabre-vobject-8ff23584-a0f1-414a-8414-af24a152b637
DTSTAMP:20260421T170328Z
SUMMARY:Agissons ensemble pour nos lacs
DESCRIPTION:\n\nhttps://vdmt.ca/evenements/sondage/lacs
LOCATION:En ligne
DTSTART;TZID=America/New_York:20251105T000000
DTEND;TZID=America/New_York:20251105T235500
END:VEVENT
BEGIN:VEVENT
UID:sabre-vobject-505c4416-224a-4702-b7c3-e16fc6858b4b
DTSTAMP:20260421T170328Z
SUMMARY:Agissons ensemble pour nos lacs
DESCRIPTION:\n\nhttps://vdmt.ca/evenements/sondage/lacs
LOCATION:En ligne
DTSTART;TZID=America/New_York:20251106T000000
DTEND;TZID=America/New_York:20251106T235500
END:VEVENT
BEGIN:VEVENT
UID:sabre-vobject-8dabb79e-cf4e-4e64-9ab8-d1176b19fd1c
DTSTAMP:20260421T170328Z
SUMMARY:Agissons ensemble pour nos lacs
DESCRIPTION:\n\nhttps://vdmt.ca/evenements/sondage/lacs
LOCATION:En ligne
DTSTART;TZID=America/New_York:20251107T000000
DTEND;TZID=America/New_York:20251107T235500
END:VEVENT
BEGIN:VEVENT
UID:sabre-vobject-9ba20c50-c449-477f-a005-913a28a2bc12
DTSTAMP:20260421T170328Z
SUMMARY:Agissons ensemble pour nos lacs
DESCRIPTION:\n\nhttps://vdmt.ca/evenements/sondage/lacs
LOCATION:En ligne
DTSTART;TZID=America/New_York:20251108T000000
DTEND;TZID=America/New_York:20251108T235500
END:VEVENT
BEGIN:VEVENT
UID:sabre-vobject-a112c60b-a345-4f8f-b72f-5976ab4e514f
DTSTAMP:20260421T170328Z
SUMMARY:Agissons ensemble pour nos lacs
DESCRIPTION:\n\nhttps://vdmt.ca/evenements/sondage/lacs
LOCATION:En ligne
DTSTART;TZID=America/New_York:20251109T000000
DTEND;TZID=America/New_York:20251109T235500
END:VEVENT
BEGIN:VEVENT
UID:sabre-vobject-3c3d9daa-396e-4e02-900b-3cd5876914ac
DTSTAMP:20260421T170328Z
SUMMARY:Agissons ensemble pour nos lacs
DESCRIPTION:\n\nhttps://vdmt.ca/evenements/sondage/lacs
LOCATION:En ligne
DTSTART;TZID=America/New_York:20251110T000000
DTEND;TZID=America/New_York:20251110T235500
END:VEVENT
BEGIN:VEVENT
UID:sabre-vobject-887f3639-b004-4012-a457-9cac20f7df81
DTSTAMP:20260421T170328Z
SUMMARY:Agissons ensemble pour nos lacs
DESCRIPTION:\n\nhttps://vdmt.ca/evenements/sondage/lacs
LOCATION:En ligne
DTSTART;TZID=America/New_York:20251111T000000
DTEND;TZID=America/New_York:20251111T235500
END:VEVENT
BEGIN:VEVENT
UID:sabre-vobject-7a51c780-346b-4093-be3e-4d6ba4f665ab
DTSTAMP:20260421T170328Z
SUMMARY:Agissons ensemble pour nos lacs
DESCRIPTION:\n\nhttps://vdmt.ca/evenements/sondage/lacs
LOCATION:En ligne
DTSTART;TZID=America/New_York:20251112T000000
DTEND;TZID=America/New_York:20251112T235500
END:VEVENT
BEGIN:VEVENT
UID:sabre-vobject-4dbbc2a1-9bc4-47da-b758-8ae428f4c1d7
DTSTAMP:20260421T170328Z
SUMMARY:Agissons ensemble pour nos lacs
DESCRIPTION:\n\nhttps://vdmt.ca/evenements/sondage/lacs
LOCATION:En ligne
DTSTART;TZID=America/New_York:20251113T000000
DTEND;TZID=America/New_York:20251113T235500
END:VEVENT
BEGIN:VEVENT
UID:sabre-vobject-31ceb331-73e1-44a1-8344-7817eab163f6
DTSTAMP:20260421T170328Z
SUMMARY:Agissons ensemble pour nos lacs
DESCRIPTION:\n\nhttps://vdmt.ca/evenements/sondage/lacs
LOCATION:En ligne
DTSTART;TZID=America/New_York:20251114T000000
DTEND;TZID=America/New_York:20251114T235500
END:VEVENT
BEGIN:VEVENT
UID:sabre-vobject-77df7ddc-3c9b-4bcd-a6a6-8c175fbf87fc
DTSTAMP:20260421T170328Z
SUMMARY:Agissons ensemble pour nos lacs
DESCRIPTION:\n\nhttps://vdmt.ca/evenements/sondage/lacs
LOCATION:En ligne
DTSTART;TZID=America/New_York:20251115T000000
DTEND;TZID=America/New_York:20251115T235500
END:VEVENT
BEGIN:VEVENT
UID:sabre-vobject-8b7f6cf8-8a16-4fc7-aaa6-6360f3a8a26b
DTSTAMP:20260421T170328Z
SUMMARY:Agissons ensemble pour nos lacs
DESCRIPTION:\n\nhttps://vdmt.ca/evenements/sondage/lacs
LOCATION:En ligne
DTSTART;TZID=America/New_York:20251116T000000
DTEND;TZID=America/New_York:20251116T235500
END:VEVENT
END:VCALENDAR
