BEGIN:VCALENDAR
VERSION:2.0
PRODID:-//Sabre//Sabre VObject 4.5.1//EN
CALSCALE:GREGORIAN
X-WR-TIMEZONE:America/New_York
BEGIN:VEVENT
UID:sabre-vobject-c76e8be0-280b-48e0-b578-a1937b3bfb1c
DTSTAMP:20260420T153520Z
SUMMARY:Nicolas Pellerin et Les Grands Hurleurs (20 h)
DESCRIPTION:\n\nhttps://vdmt.ca/evenements/premiere-scene-mont-tremblant/ni
 colas-pellerin-et-les-grands-hurleurs
LOCATION:Église du Village (1829\, chemin du Village)
DTSTART;TZID=America/New_York:20261212T200000
DTEND;TZID=America/New_York:20261212T213000
END:VEVENT
END:VCALENDAR
