BEGIN:VCALENDAR
VERSION:2.0
PRODID:-//Sabre//Sabre VObject 4.5.1//EN
CALSCALE:GREGORIAN
X-WR-TIMEZONE:America/New_York
BEGIN:VEVENT
UID:sabre-vobject-c4dcffa5-5883-43b5-b8c4-d546b9da2205
DTSTAMP:20260421T165455Z
SUMMARY:Viviane Audet (20 h)
DESCRIPTION:\n\nhttps://vdmt.ca/evenements/premiere-scene-mont-tremblant/vi
 viane-audet
LOCATION:Église du Village (1829\, chemin du Village)
DTSTART;TZID=America/New_York:20261128T200000
DTEND;TZID=America/New_York:20261128T213000
END:VEVENT
END:VCALENDAR
