BEGIN:VCALENDAR
VERSION:2.0
PRODID:-//Sabre//Sabre VObject 4.5.1//EN
CALSCALE:GREGORIAN
X-WR-TIMEZONE:America/New_York
BEGIN:VEVENT
UID:sabre-vobject-eef1f496-0315-4ff3-af5e-2465a332f57b
DTSTAMP:20260421T164613Z
SUMMARY:Anyma Ora' (20 h)
DESCRIPTION:\n\nhttps://vdmt.ca/evenements/premiere-scene-mont-tremblant/an
 yma-ora
LOCATION:Église du Village (1829\, chemin du Village)
DTSTART;TZID=America/New_York:20261114T200000
DTEND;TZID=America/New_York:20261114T213000
END:VEVENT
END:VCALENDAR
