BEGIN:VCALENDAR
VERSION:2.0
PRODID:-//Sabre//Sabre VObject 4.5.1//EN
CALSCALE:GREGORIAN
X-WR-TIMEZONE:America/New_York
BEGIN:VEVENT
UID:sabre-vobject-dd5e776d-ea30-40e3-be32-ff3f870ca743
DTSTAMP:20260421T170328Z
SUMMARY:Diane Tell (20 h)
DESCRIPTION:\n\nhttps://vdmt.ca/evenements/premiere-scene-mont-tremblant/di
 ane-tell
LOCATION:Église du Village (1829\, chemin du Village)
DTSTART;TZID=America/New_York:20261009T200000
DTEND;TZID=America/New_York:20261009T213000
END:VEVENT
END:VCALENDAR
