BEGIN:VCALENDAR
VERSION:2.0
PRODID:-//Sabre//Sabre VObject 4.5.1//EN
CALSCALE:GREGORIAN
X-WR-TIMEZONE:America/New_York
BEGIN:VEVENT
UID:sabre-vobject-610c54fc-ed05-45f4-90e0-653538446acc
DTSTAMP:20260420T191925Z
SUMMARY:Festival du film de montagne de Banff (19 h)
DESCRIPTION:\n\nhttps://vdmt.ca/evenements/premiere-scene-mont-tremblant/fe
 stival-du-film-de-montagne-de-banff-2026-02-28
LOCATION:Église du Village (1829\, chemin du Village)
DTSTART;TZID=America/New_York:20260228T190000
DTEND;TZID=America/New_York:20260228T223000
END:VEVENT
END:VCALENDAR
