BEGIN:VCALENDAR
VERSION:2.0
PRODID:-//Sabre//Sabre VObject 4.5.1//EN
CALSCALE:GREGORIAN
X-WR-TIMEZONE:America/New_York
BEGIN:VEVENT
UID:sabre-vobject-3c38d4f9-e0d7-4f5f-ac26-5b6b190c20d9
DTSTAMP:20260420T191730Z
SUMMARY:Festival du film de montagne de Banff (13 h)
DESCRIPTION:\n\nhttps://vdmt.ca/evenements/premiere-scene-mont-tremblant/fe
 stival-du-film-de-montagne-de-banff
LOCATION:Église du Village (1829\, chemin du Village)
DTSTART;TZID=America/New_York:20260228T130000
DTEND;TZID=America/New_York:20260228T163000
END:VEVENT
END:VCALENDAR
