BEGIN:VCALENDAR
VERSION:2.0
PRODID:-//Sabre//Sabre VObject 4.5.1//EN
CALSCALE:GREGORIAN
X-WR-TIMEZONE:America/New_York
BEGIN:VEVENT
UID:sabre-vobject-e88cf117-b89f-4370-af71-671172891a79
DTSTAMP:20260422T165640Z
SUMMARY:Bricolage POSCA lab
DESCRIPTION:\n\nhttps://vdmt.ca/evenements/atelier/atelier-bricolage-posca-
 lab
LOCATION:Bibliothèque Samuel-Ouimet (1145\, rue de Saint-Jovite)
DTSTART;TZID=America/New_York:20251115T140000
DTEND;TZID=America/New_York:20251115T160000
END:VEVENT
END:VCALENDAR
