BEGIN:VCALENDAR
VERSION:2.0
PRODID:-//Sabre//Sabre VObject 4.5.1//EN
CALSCALE:GREGORIAN
X-WR-TIMEZONE:America/New_York
BEGIN:VEVENT
UID:sabre-vobject-e95cfaa5-04d3-423f-a68d-13ce4400a24f
DTSTAMP:20260420T153547Z
SUMMARY:Séances ordinaires des conseils (19 h à 21 h)
DESCRIPTION:Les séances ordinaires des conseils municipal et d'agglomérat
 ion se déroulent en présentiel à l'hôtel de ville et en ligne.\n\nhttp
 s://vdmt.ca/evenements/seances-des-conseils/seances-ordinaires-davril-des-
 conseils-municipal-et-dagglomeration
LOCATION:Hôtel de ville (1145\, rue de Saint-Jovite)
DTSTART;TZID=America/New_York:20260511T190000
DTEND;TZID=America/New_York:20260511T210000
END:VEVENT
BEGIN:VEVENT
UID:sabre-vobject-f90d2bd0-7adf-4a72-bcb7-735e92312af3
DTSTAMP:20260420T153547Z
SUMMARY:Séances ordinaires des conseils (19 h à 21 h)
DESCRIPTION:Les séances ordinaires des conseils municipal et d'agglomérat
 ion se déroulent en présentiel à l'hôtel de ville et en ligne.\n\nhttp
 s://vdmt.ca/evenements/seances-des-conseils/seances-ordinaires-davril-des-
 conseils-municipal-et-dagglomeration
LOCATION:Hôtel de ville (1145\, rue de Saint-Jovite)
DTSTART;TZID=America/New_York:20260608T190000
DTEND;TZID=America/New_York:20260608T210000
END:VEVENT
BEGIN:VEVENT
UID:sabre-vobject-6e0a6af4-03fa-43b4-ba3f-a4a9e8dff2e0
DTSTAMP:20260420T153547Z
SUMMARY:Séances ordinaires des conseils (19 h à 21 h)
DESCRIPTION:Les séances ordinaires des conseils municipal et d'agglomérat
 ion se déroulent en présentiel à l'hôtel de ville et en ligne.\n\nhttp
 s://vdmt.ca/evenements/seances-des-conseils/seances-ordinaires-davril-des-
 conseils-municipal-et-dagglomeration
LOCATION:Hôtel de ville (1145\, rue de Saint-Jovite)
DTSTART;TZID=America/New_York:20260713T190000
DTEND;TZID=America/New_York:20260713T210000
END:VEVENT
BEGIN:VEVENT
UID:sabre-vobject-63d9950a-fcc0-4fd6-b5da-3c0fbbe689b1
DTSTAMP:20260420T153547Z
SUMMARY:Séances ordinaires des conseils (19 h à 21 h)
DESCRIPTION:Les séances ordinaires des conseils municipal et d'agglomérat
 ion se déroulent en présentiel à l'hôtel de ville et en ligne.\n\nhttp
 s://vdmt.ca/evenements/seances-des-conseils/seances-ordinaires-davril-des-
 conseils-municipal-et-dagglomeration
LOCATION:Hôtel de ville (1145\, rue de Saint-Jovite)
DTSTART;TZID=America/New_York:20260810T190000
DTEND;TZID=America/New_York:20260810T210000
END:VEVENT
BEGIN:VEVENT
UID:sabre-vobject-6bd6a630-3642-43ba-9053-fb12b23b3f81
DTSTAMP:20260420T153547Z
SUMMARY:Séances ordinaires des conseils (19 h à 21 h)
DESCRIPTION:Les séances ordinaires des conseils municipal et d'agglomérat
 ion se déroulent en présentiel à l'hôtel de ville et en ligne.\n\nhttp
 s://vdmt.ca/evenements/seances-des-conseils/seances-ordinaires-davril-des-
 conseils-municipal-et-dagglomeration
LOCATION:Hôtel de ville (1145\, rue de Saint-Jovite)
DTSTART;TZID=America/New_York:20260914T190000
DTEND;TZID=America/New_York:20260914T210000
END:VEVENT
BEGIN:VEVENT
UID:sabre-vobject-a020a8a8-3960-4e5e-9e9d-7a13aafcfd10
DTSTAMP:20260420T153547Z
SUMMARY:Séances ordinaires des conseils (19 h à 21 h)
DESCRIPTION:Les séances ordinaires des conseils municipal et d'agglomérat
 ion se déroulent en présentiel à l'hôtel de ville et en ligne.\n\nhttp
 s://vdmt.ca/evenements/seances-des-conseils/seances-ordinaires-davril-des-
 conseils-municipal-et-dagglomeration
LOCATION:Hôtel de ville (1145\, rue de Saint-Jovite)
DTSTART;TZID=America/New_York:20261013T190000
DTEND;TZID=America/New_York:20261013T210000
END:VEVENT
BEGIN:VEVENT
UID:sabre-vobject-d102c00c-0da1-4a1b-8dad-35d5819eb99f
DTSTAMP:20260420T153547Z
SUMMARY:Séances ordinaires des conseils (19 h à 21 h)
DESCRIPTION:Les séances ordinaires des conseils municipal et d'agglomérat
 ion se déroulent en présentiel à l'hôtel de ville et en ligne.\n\nhttp
 s://vdmt.ca/evenements/seances-des-conseils/seances-ordinaires-davril-des-
 conseils-municipal-et-dagglomeration
LOCATION:Hôtel de ville (1145\, rue de Saint-Jovite)
DTSTART;TZID=America/New_York:20261109T190000
DTEND;TZID=America/New_York:20261109T210000
END:VEVENT
BEGIN:VEVENT
UID:sabre-vobject-a61b4bb4-9b18-4716-afb0-1dc4a1c008c1
DTSTAMP:20260420T153547Z
SUMMARY:Séances ordinaires des conseils (19 h à 21 h)
DESCRIPTION:Les séances ordinaires des conseils municipal et d'agglomérat
 ion se déroulent en présentiel à l'hôtel de ville et en ligne.\n\nhttp
 s://vdmt.ca/evenements/seances-des-conseils/seances-ordinaires-davril-des-
 conseils-municipal-et-dagglomeration
LOCATION:Hôtel de ville (1145\, rue de Saint-Jovite)
DTSTART;TZID=America/New_York:20261214T190000
DTEND;TZID=America/New_York:20261214T210000
END:VEVENT
END:VCALENDAR
