BEGIN:VCALENDAR
VERSION:2.0
PRODID:-//Sabre//Sabre VObject 4.5.1//EN
CALSCALE:GREGORIAN
X-WR-TIMEZONE:America/New_York
BEGIN:VEVENT
UID:sabre-vobject-909ad8a3-5171-4935-921f-2a4a96bcaa6c
DTSTAMP:20260420T125434Z
SUMMARY:Journées portes ouvertes
DESCRIPTION:La Ville de Mont-Tremblant franchit une nouvelle étape dans la
  refonte de son plan et de ses règlements d’urbanisme. Le 13 avril dern
 ier\, le Conseil a annoncé le dépôt de la version révisée du projet d
 e plan d’urbanisme rendu public en 2025\, ainsi que 12 projets de règle
 ments d’urbanisme (documents de travail) appelés à remplacer certains 
 règlements existants ou à s’y ajouter\, pour soutenir la mise en œuvr
 e des orientations proposées.\n\nhttps://vdmt.ca/evenements/refonte-du-pl
 an-durbanisme/journees-portes-ouvertes-2026-04-28
LOCATION:Salle du conseil de l’hôtel de ville (1145\, rue de Saint-Jovit
 e)
DTSTART;TZID=America/New_York:20260428T120000
DTEND;TZID=America/New_York:20260428T200000
END:VEVENT
END:VCALENDAR
