BEGIN:VCALENDAR
VERSION:2.0
PRODID:-//Sabre//Sabre VObject 4.5.1//EN
CALSCALE:GREGORIAN
X-WR-TIMEZONE:America/New_York
BEGIN:VEVENT
UID:sabre-vobject-4d3fc7a0-b761-47d8-87de-5df9c69e49ff
DTSTAMP:20260420T112924Z
SUMMARY:Dépôt des mémoires
DESCRIPTION:La Ville de Mont-Tremblant franchit une nouvelle étape dans la
  refonte de son plan et de ses règlements d’urbanisme. Le 13 avril dern
 ier\, le Conseil a annoncé le dépôt de la version révisée du projet d
 e plan d’urbanisme rendu public en 2025\, ainsi que 12 projets de règle
 ments d’urbanisme (documents de travail) appelés à remplacer certains 
 règlements existants ou à s’y ajouter\, pour soutenir la mise en œuvr
 e des orientations proposées.\n\nhttps://vdmt.ca/evenements/refonte-du-pl
 an-durbanisme/reception-des-memoires
LOCATION:En ligne | En personne | Par la poste
DTSTART;TZID=America/New_York:20260414T000000
DTEND;TZID=America/New_York:20260414T000000
END:VEVENT
BEGIN:VEVENT
UID:sabre-vobject-c4b54944-365e-4bdf-8e3d-c37042215eae
DTSTAMP:20260420T112924Z
SUMMARY:Dépôt des mémoires
DESCRIPTION:La Ville de Mont-Tremblant franchit une nouvelle étape dans la
  refonte de son plan et de ses règlements d’urbanisme. Le 13 avril dern
 ier\, le Conseil a annoncé le dépôt de la version révisée du projet d
 e plan d’urbanisme rendu public en 2025\, ainsi que 12 projets de règle
 ments d’urbanisme (documents de travail) appelés à remplacer certains 
 règlements existants ou à s’y ajouter\, pour soutenir la mise en œuvr
 e des orientations proposées.\n\nhttps://vdmt.ca/evenements/refonte-du-pl
 an-durbanisme/reception-des-memoires
LOCATION:En ligne | En personne | Par la poste
DTSTART;TZID=America/New_York:20260415T000000
DTEND;TZID=America/New_York:20260415T000000
END:VEVENT
BEGIN:VEVENT
UID:sabre-vobject-c2b87b1f-ce55-441a-9eee-e23fff0e7044
DTSTAMP:20260420T112924Z
SUMMARY:Dépôt des mémoires
DESCRIPTION:La Ville de Mont-Tremblant franchit une nouvelle étape dans la
  refonte de son plan et de ses règlements d’urbanisme. Le 13 avril dern
 ier\, le Conseil a annoncé le dépôt de la version révisée du projet d
 e plan d’urbanisme rendu public en 2025\, ainsi que 12 projets de règle
 ments d’urbanisme (documents de travail) appelés à remplacer certains 
 règlements existants ou à s’y ajouter\, pour soutenir la mise en œuvr
 e des orientations proposées.\n\nhttps://vdmt.ca/evenements/refonte-du-pl
 an-durbanisme/reception-des-memoires
LOCATION:En ligne | En personne | Par la poste
DTSTART;TZID=America/New_York:20260416T000000
DTEND;TZID=America/New_York:20260416T000000
END:VEVENT
BEGIN:VEVENT
UID:sabre-vobject-b89c6707-9455-4612-9d16-3d84f10825cc
DTSTAMP:20260420T112924Z
SUMMARY:Dépôt des mémoires
DESCRIPTION:La Ville de Mont-Tremblant franchit une nouvelle étape dans la
  refonte de son plan et de ses règlements d’urbanisme. Le 13 avril dern
 ier\, le Conseil a annoncé le dépôt de la version révisée du projet d
 e plan d’urbanisme rendu public en 2025\, ainsi que 12 projets de règle
 ments d’urbanisme (documents de travail) appelés à remplacer certains 
 règlements existants ou à s’y ajouter\, pour soutenir la mise en œuvr
 e des orientations proposées.\n\nhttps://vdmt.ca/evenements/refonte-du-pl
 an-durbanisme/reception-des-memoires
LOCATION:En ligne | En personne | Par la poste
DTSTART;TZID=America/New_York:20260417T000000
DTEND;TZID=America/New_York:20260417T000000
END:VEVENT
BEGIN:VEVENT
UID:sabre-vobject-6f3b4d85-8eba-48d0-8de3-839ac93031d2
DTSTAMP:20260420T112924Z
SUMMARY:Dépôt des mémoires
DESCRIPTION:La Ville de Mont-Tremblant franchit une nouvelle étape dans la
  refonte de son plan et de ses règlements d’urbanisme. Le 13 avril dern
 ier\, le Conseil a annoncé le dépôt de la version révisée du projet d
 e plan d’urbanisme rendu public en 2025\, ainsi que 12 projets de règle
 ments d’urbanisme (documents de travail) appelés à remplacer certains 
 règlements existants ou à s’y ajouter\, pour soutenir la mise en œuvr
 e des orientations proposées.\n\nhttps://vdmt.ca/evenements/refonte-du-pl
 an-durbanisme/reception-des-memoires
LOCATION:En ligne | En personne | Par la poste
DTSTART;TZID=America/New_York:20260418T000000
DTEND;TZID=America/New_York:20260418T000000
END:VEVENT
BEGIN:VEVENT
UID:sabre-vobject-4107aab2-a693-43b8-a315-42b3104d21f6
DTSTAMP:20260420T112924Z
SUMMARY:Dépôt des mémoires
DESCRIPTION:La Ville de Mont-Tremblant franchit une nouvelle étape dans la
  refonte de son plan et de ses règlements d’urbanisme. Le 13 avril dern
 ier\, le Conseil a annoncé le dépôt de la version révisée du projet d
 e plan d’urbanisme rendu public en 2025\, ainsi que 12 projets de règle
 ments d’urbanisme (documents de travail) appelés à remplacer certains 
 règlements existants ou à s’y ajouter\, pour soutenir la mise en œuvr
 e des orientations proposées.\n\nhttps://vdmt.ca/evenements/refonte-du-pl
 an-durbanisme/reception-des-memoires
LOCATION:En ligne | En personne | Par la poste
DTSTART;TZID=America/New_York:20260419T000000
DTEND;TZID=America/New_York:20260419T000000
END:VEVENT
BEGIN:VEVENT
UID:sabre-vobject-30925015-00c1-4eb6-8977-3a8d50c2f62d
DTSTAMP:20260420T112924Z
SUMMARY:Dépôt des mémoires
DESCRIPTION:La Ville de Mont-Tremblant franchit une nouvelle étape dans la
  refonte de son plan et de ses règlements d’urbanisme. Le 13 avril dern
 ier\, le Conseil a annoncé le dépôt de la version révisée du projet d
 e plan d’urbanisme rendu public en 2025\, ainsi que 12 projets de règle
 ments d’urbanisme (documents de travail) appelés à remplacer certains 
 règlements existants ou à s’y ajouter\, pour soutenir la mise en œuvr
 e des orientations proposées.\n\nhttps://vdmt.ca/evenements/refonte-du-pl
 an-durbanisme/reception-des-memoires
LOCATION:En ligne | En personne | Par la poste
DTSTART;TZID=America/New_York:20260420T000000
DTEND;TZID=America/New_York:20260420T000000
END:VEVENT
BEGIN:VEVENT
UID:sabre-vobject-c18e9445-8b5e-4fb2-803a-33dc2c34abff
DTSTAMP:20260420T112924Z
SUMMARY:Dépôt des mémoires
DESCRIPTION:La Ville de Mont-Tremblant franchit une nouvelle étape dans la
  refonte de son plan et de ses règlements d’urbanisme. Le 13 avril dern
 ier\, le Conseil a annoncé le dépôt de la version révisée du projet d
 e plan d’urbanisme rendu public en 2025\, ainsi que 12 projets de règle
 ments d’urbanisme (documents de travail) appelés à remplacer certains 
 règlements existants ou à s’y ajouter\, pour soutenir la mise en œuvr
 e des orientations proposées.\n\nhttps://vdmt.ca/evenements/refonte-du-pl
 an-durbanisme/reception-des-memoires
LOCATION:En ligne | En personne | Par la poste
DTSTART;TZID=America/New_York:20260421T000000
DTEND;TZID=America/New_York:20260421T000000
END:VEVENT
BEGIN:VEVENT
UID:sabre-vobject-e631461a-423c-4fbc-abeb-63a75b2ec357
DTSTAMP:20260420T112924Z
SUMMARY:Dépôt des mémoires
DESCRIPTION:La Ville de Mont-Tremblant franchit une nouvelle étape dans la
  refonte de son plan et de ses règlements d’urbanisme. Le 13 avril dern
 ier\, le Conseil a annoncé le dépôt de la version révisée du projet d
 e plan d’urbanisme rendu public en 2025\, ainsi que 12 projets de règle
 ments d’urbanisme (documents de travail) appelés à remplacer certains 
 règlements existants ou à s’y ajouter\, pour soutenir la mise en œuvr
 e des orientations proposées.\n\nhttps://vdmt.ca/evenements/refonte-du-pl
 an-durbanisme/reception-des-memoires
LOCATION:En ligne | En personne | Par la poste
DTSTART;TZID=America/New_York:20260422T000000
DTEND;TZID=America/New_York:20260422T000000
END:VEVENT
BEGIN:VEVENT
UID:sabre-vobject-61030190-cba5-43e1-b384-b35ef491e821
DTSTAMP:20260420T112924Z
SUMMARY:Dépôt des mémoires
DESCRIPTION:La Ville de Mont-Tremblant franchit une nouvelle étape dans la
  refonte de son plan et de ses règlements d’urbanisme. Le 13 avril dern
 ier\, le Conseil a annoncé le dépôt de la version révisée du projet d
 e plan d’urbanisme rendu public en 2025\, ainsi que 12 projets de règle
 ments d’urbanisme (documents de travail) appelés à remplacer certains 
 règlements existants ou à s’y ajouter\, pour soutenir la mise en œuvr
 e des orientations proposées.\n\nhttps://vdmt.ca/evenements/refonte-du-pl
 an-durbanisme/reception-des-memoires
LOCATION:En ligne | En personne | Par la poste
DTSTART;TZID=America/New_York:20260423T000000
DTEND;TZID=America/New_York:20260423T000000
END:VEVENT
BEGIN:VEVENT
UID:sabre-vobject-dd8698fe-45a0-4042-8d53-23ede56f4298
DTSTAMP:20260420T112924Z
SUMMARY:Dépôt des mémoires
DESCRIPTION:La Ville de Mont-Tremblant franchit une nouvelle étape dans la
  refonte de son plan et de ses règlements d’urbanisme. Le 13 avril dern
 ier\, le Conseil a annoncé le dépôt de la version révisée du projet d
 e plan d’urbanisme rendu public en 2025\, ainsi que 12 projets de règle
 ments d’urbanisme (documents de travail) appelés à remplacer certains 
 règlements existants ou à s’y ajouter\, pour soutenir la mise en œuvr
 e des orientations proposées.\n\nhttps://vdmt.ca/evenements/refonte-du-pl
 an-durbanisme/reception-des-memoires
LOCATION:En ligne | En personne | Par la poste
DTSTART;TZID=America/New_York:20260424T000000
DTEND;TZID=America/New_York:20260424T000000
END:VEVENT
BEGIN:VEVENT
UID:sabre-vobject-0ee44c79-1ac8-4ebf-831a-bb06a06d5ef2
DTSTAMP:20260420T112924Z
SUMMARY:Dépôt des mémoires
DESCRIPTION:La Ville de Mont-Tremblant franchit une nouvelle étape dans la
  refonte de son plan et de ses règlements d’urbanisme. Le 13 avril dern
 ier\, le Conseil a annoncé le dépôt de la version révisée du projet d
 e plan d’urbanisme rendu public en 2025\, ainsi que 12 projets de règle
 ments d’urbanisme (documents de travail) appelés à remplacer certains 
 règlements existants ou à s’y ajouter\, pour soutenir la mise en œuvr
 e des orientations proposées.\n\nhttps://vdmt.ca/evenements/refonte-du-pl
 an-durbanisme/reception-des-memoires
LOCATION:En ligne | En personne | Par la poste
DTSTART;TZID=America/New_York:20260425T000000
DTEND;TZID=America/New_York:20260425T000000
END:VEVENT
BEGIN:VEVENT
UID:sabre-vobject-2bb82bb0-7edf-4c0f-b454-be062f780be9
DTSTAMP:20260420T112924Z
SUMMARY:Dépôt des mémoires
DESCRIPTION:La Ville de Mont-Tremblant franchit une nouvelle étape dans la
  refonte de son plan et de ses règlements d’urbanisme. Le 13 avril dern
 ier\, le Conseil a annoncé le dépôt de la version révisée du projet d
 e plan d’urbanisme rendu public en 2025\, ainsi que 12 projets de règle
 ments d’urbanisme (documents de travail) appelés à remplacer certains 
 règlements existants ou à s’y ajouter\, pour soutenir la mise en œuvr
 e des orientations proposées.\n\nhttps://vdmt.ca/evenements/refonte-du-pl
 an-durbanisme/reception-des-memoires
LOCATION:En ligne | En personne | Par la poste
DTSTART;TZID=America/New_York:20260426T000000
DTEND;TZID=America/New_York:20260426T000000
END:VEVENT
BEGIN:VEVENT
UID:sabre-vobject-f7db08ac-7db9-49f6-8654-c896d4764dd1
DTSTAMP:20260420T112924Z
SUMMARY:Dépôt des mémoires
DESCRIPTION:La Ville de Mont-Tremblant franchit une nouvelle étape dans la
  refonte de son plan et de ses règlements d’urbanisme. Le 13 avril dern
 ier\, le Conseil a annoncé le dépôt de la version révisée du projet d
 e plan d’urbanisme rendu public en 2025\, ainsi que 12 projets de règle
 ments d’urbanisme (documents de travail) appelés à remplacer certains 
 règlements existants ou à s’y ajouter\, pour soutenir la mise en œuvr
 e des orientations proposées.\n\nhttps://vdmt.ca/evenements/refonte-du-pl
 an-durbanisme/reception-des-memoires
LOCATION:En ligne | En personne | Par la poste
DTSTART;TZID=America/New_York:20260427T000000
DTEND;TZID=America/New_York:20260427T000000
END:VEVENT
BEGIN:VEVENT
UID:sabre-vobject-85e1102c-cd9c-4e09-b30e-989ce08fb3be
DTSTAMP:20260420T112924Z
SUMMARY:Dépôt des mémoires
DESCRIPTION:La Ville de Mont-Tremblant franchit une nouvelle étape dans la
  refonte de son plan et de ses règlements d’urbanisme. Le 13 avril dern
 ier\, le Conseil a annoncé le dépôt de la version révisée du projet d
 e plan d’urbanisme rendu public en 2025\, ainsi que 12 projets de règle
 ments d’urbanisme (documents de travail) appelés à remplacer certains 
 règlements existants ou à s’y ajouter\, pour soutenir la mise en œuvr
 e des orientations proposées.\n\nhttps://vdmt.ca/evenements/refonte-du-pl
 an-durbanisme/reception-des-memoires
LOCATION:En ligne | En personne | Par la poste
DTSTART;TZID=America/New_York:20260428T000000
DTEND;TZID=America/New_York:20260428T000000
END:VEVENT
BEGIN:VEVENT
UID:sabre-vobject-e136a214-bf5a-4ef1-9090-8130c5ae3dff
DTSTAMP:20260420T112924Z
SUMMARY:Dépôt des mémoires
DESCRIPTION:La Ville de Mont-Tremblant franchit une nouvelle étape dans la
  refonte de son plan et de ses règlements d’urbanisme. Le 13 avril dern
 ier\, le Conseil a annoncé le dépôt de la version révisée du projet d
 e plan d’urbanisme rendu public en 2025\, ainsi que 12 projets de règle
 ments d’urbanisme (documents de travail) appelés à remplacer certains 
 règlements existants ou à s’y ajouter\, pour soutenir la mise en œuvr
 e des orientations proposées.\n\nhttps://vdmt.ca/evenements/refonte-du-pl
 an-durbanisme/reception-des-memoires
LOCATION:En ligne | En personne | Par la poste
DTSTART;TZID=America/New_York:20260429T000000
DTEND;TZID=America/New_York:20260429T000000
END:VEVENT
BEGIN:VEVENT
UID:sabre-vobject-86f2031f-205c-4971-889d-ef4190851164
DTSTAMP:20260420T112924Z
SUMMARY:Dépôt des mémoires
DESCRIPTION:La Ville de Mont-Tremblant franchit une nouvelle étape dans la
  refonte de son plan et de ses règlements d’urbanisme. Le 13 avril dern
 ier\, le Conseil a annoncé le dépôt de la version révisée du projet d
 e plan d’urbanisme rendu public en 2025\, ainsi que 12 projets de règle
 ments d’urbanisme (documents de travail) appelés à remplacer certains 
 règlements existants ou à s’y ajouter\, pour soutenir la mise en œuvr
 e des orientations proposées.\n\nhttps://vdmt.ca/evenements/refonte-du-pl
 an-durbanisme/reception-des-memoires
LOCATION:En ligne | En personne | Par la poste
DTSTART;TZID=America/New_York:20260430T000000
DTEND;TZID=America/New_York:20260430T000000
END:VEVENT
BEGIN:VEVENT
UID:sabre-vobject-cd7d1537-6ef7-478b-bc04-6c6f5ce94b9b
DTSTAMP:20260420T112924Z
SUMMARY:Dépôt des mémoires
DESCRIPTION:La Ville de Mont-Tremblant franchit une nouvelle étape dans la
  refonte de son plan et de ses règlements d’urbanisme. Le 13 avril dern
 ier\, le Conseil a annoncé le dépôt de la version révisée du projet d
 e plan d’urbanisme rendu public en 2025\, ainsi que 12 projets de règle
 ments d’urbanisme (documents de travail) appelés à remplacer certains 
 règlements existants ou à s’y ajouter\, pour soutenir la mise en œuvr
 e des orientations proposées.\n\nhttps://vdmt.ca/evenements/refonte-du-pl
 an-durbanisme/reception-des-memoires
LOCATION:En ligne | En personne | Par la poste
DTSTART;TZID=America/New_York:20260501T000000
DTEND;TZID=America/New_York:20260501T000000
END:VEVENT
BEGIN:VEVENT
UID:sabre-vobject-fd5c93b5-7691-48a5-b725-a0a4e7428268
DTSTAMP:20260420T112924Z
SUMMARY:Dépôt des mémoires
DESCRIPTION:La Ville de Mont-Tremblant franchit une nouvelle étape dans la
  refonte de son plan et de ses règlements d’urbanisme. Le 13 avril dern
 ier\, le Conseil a annoncé le dépôt de la version révisée du projet d
 e plan d’urbanisme rendu public en 2025\, ainsi que 12 projets de règle
 ments d’urbanisme (documents de travail) appelés à remplacer certains 
 règlements existants ou à s’y ajouter\, pour soutenir la mise en œuvr
 e des orientations proposées.\n\nhttps://vdmt.ca/evenements/refonte-du-pl
 an-durbanisme/reception-des-memoires
LOCATION:En ligne | En personne | Par la poste
DTSTART;TZID=America/New_York:20260502T000000
DTEND;TZID=America/New_York:20260502T000000
END:VEVENT
BEGIN:VEVENT
UID:sabre-vobject-62fb960c-e2f3-414c-9414-83e638cf5472
DTSTAMP:20260420T112924Z
SUMMARY:Dépôt des mémoires
DESCRIPTION:La Ville de Mont-Tremblant franchit une nouvelle étape dans la
  refonte de son plan et de ses règlements d’urbanisme. Le 13 avril dern
 ier\, le Conseil a annoncé le dépôt de la version révisée du projet d
 e plan d’urbanisme rendu public en 2025\, ainsi que 12 projets de règle
 ments d’urbanisme (documents de travail) appelés à remplacer certains 
 règlements existants ou à s’y ajouter\, pour soutenir la mise en œuvr
 e des orientations proposées.\n\nhttps://vdmt.ca/evenements/refonte-du-pl
 an-durbanisme/reception-des-memoires
LOCATION:En ligne | En personne | Par la poste
DTSTART;TZID=America/New_York:20260503T000000
DTEND;TZID=America/New_York:20260503T000000
END:VEVENT
BEGIN:VEVENT
UID:sabre-vobject-c6456ee7-f8a2-48cf-9abd-bf3c1db1dcaa
DTSTAMP:20260420T112924Z
SUMMARY:Dépôt des mémoires
DESCRIPTION:La Ville de Mont-Tremblant franchit une nouvelle étape dans la
  refonte de son plan et de ses règlements d’urbanisme. Le 13 avril dern
 ier\, le Conseil a annoncé le dépôt de la version révisée du projet d
 e plan d’urbanisme rendu public en 2025\, ainsi que 12 projets de règle
 ments d’urbanisme (documents de travail) appelés à remplacer certains 
 règlements existants ou à s’y ajouter\, pour soutenir la mise en œuvr
 e des orientations proposées.\n\nhttps://vdmt.ca/evenements/refonte-du-pl
 an-durbanisme/reception-des-memoires
LOCATION:En ligne | En personne | Par la poste
DTSTART;TZID=America/New_York:20260504T000000
DTEND;TZID=America/New_York:20260504T000000
END:VEVENT
BEGIN:VEVENT
UID:sabre-vobject-ab117741-d4e9-4a8c-b44a-f9acc720ac79
DTSTAMP:20260420T112924Z
SUMMARY:Dépôt des mémoires
DESCRIPTION:La Ville de Mont-Tremblant franchit une nouvelle étape dans la
  refonte de son plan et de ses règlements d’urbanisme. Le 13 avril dern
 ier\, le Conseil a annoncé le dépôt de la version révisée du projet d
 e plan d’urbanisme rendu public en 2025\, ainsi que 12 projets de règle
 ments d’urbanisme (documents de travail) appelés à remplacer certains 
 règlements existants ou à s’y ajouter\, pour soutenir la mise en œuvr
 e des orientations proposées.\n\nhttps://vdmt.ca/evenements/refonte-du-pl
 an-durbanisme/reception-des-memoires
LOCATION:En ligne | En personne | Par la poste
DTSTART;TZID=America/New_York:20260505T000000
DTEND;TZID=America/New_York:20260505T000000
END:VEVENT
BEGIN:VEVENT
UID:sabre-vobject-1e7a1dc9-bf53-4024-9cbc-c4b7f061817b
DTSTAMP:20260420T112924Z
SUMMARY:Dépôt des mémoires
DESCRIPTION:La Ville de Mont-Tremblant franchit une nouvelle étape dans la
  refonte de son plan et de ses règlements d’urbanisme. Le 13 avril dern
 ier\, le Conseil a annoncé le dépôt de la version révisée du projet d
 e plan d’urbanisme rendu public en 2025\, ainsi que 12 projets de règle
 ments d’urbanisme (documents de travail) appelés à remplacer certains 
 règlements existants ou à s’y ajouter\, pour soutenir la mise en œuvr
 e des orientations proposées.\n\nhttps://vdmt.ca/evenements/refonte-du-pl
 an-durbanisme/reception-des-memoires
LOCATION:En ligne | En personne | Par la poste
DTSTART;TZID=America/New_York:20260506T000000
DTEND;TZID=America/New_York:20260506T000000
END:VEVENT
BEGIN:VEVENT
UID:sabre-vobject-08c6cb49-9726-47ef-be29-c600ac081dc4
DTSTAMP:20260420T112924Z
SUMMARY:Dépôt des mémoires
DESCRIPTION:La Ville de Mont-Tremblant franchit une nouvelle étape dans la
  refonte de son plan et de ses règlements d’urbanisme. Le 13 avril dern
 ier\, le Conseil a annoncé le dépôt de la version révisée du projet d
 e plan d’urbanisme rendu public en 2025\, ainsi que 12 projets de règle
 ments d’urbanisme (documents de travail) appelés à remplacer certains 
 règlements existants ou à s’y ajouter\, pour soutenir la mise en œuvr
 e des orientations proposées.\n\nhttps://vdmt.ca/evenements/refonte-du-pl
 an-durbanisme/reception-des-memoires
LOCATION:En ligne | En personne | Par la poste
DTSTART;TZID=America/New_York:20260507T000000
DTEND;TZID=America/New_York:20260507T000000
END:VEVENT
BEGIN:VEVENT
UID:sabre-vobject-fb37e580-fb0a-40af-8bb8-e249ffe90e8b
DTSTAMP:20260420T112924Z
SUMMARY:Dépôt des mémoires
DESCRIPTION:La Ville de Mont-Tremblant franchit une nouvelle étape dans la
  refonte de son plan et de ses règlements d’urbanisme. Le 13 avril dern
 ier\, le Conseil a annoncé le dépôt de la version révisée du projet d
 e plan d’urbanisme rendu public en 2025\, ainsi que 12 projets de règle
 ments d’urbanisme (documents de travail) appelés à remplacer certains 
 règlements existants ou à s’y ajouter\, pour soutenir la mise en œuvr
 e des orientations proposées.\n\nhttps://vdmt.ca/evenements/refonte-du-pl
 an-durbanisme/reception-des-memoires
LOCATION:En ligne | En personne | Par la poste
DTSTART;TZID=America/New_York:20260508T000000
DTEND;TZID=America/New_York:20260508T000000
END:VEVENT
BEGIN:VEVENT
UID:sabre-vobject-86d978dd-2838-4f0d-a3b7-50bd1c74866f
DTSTAMP:20260420T112924Z
SUMMARY:Dépôt des mémoires
DESCRIPTION:La Ville de Mont-Tremblant franchit une nouvelle étape dans la
  refonte de son plan et de ses règlements d’urbanisme. Le 13 avril dern
 ier\, le Conseil a annoncé le dépôt de la version révisée du projet d
 e plan d’urbanisme rendu public en 2025\, ainsi que 12 projets de règle
 ments d’urbanisme (documents de travail) appelés à remplacer certains 
 règlements existants ou à s’y ajouter\, pour soutenir la mise en œuvr
 e des orientations proposées.\n\nhttps://vdmt.ca/evenements/refonte-du-pl
 an-durbanisme/reception-des-memoires
LOCATION:En ligne | En personne | Par la poste
DTSTART;TZID=America/New_York:20260509T000000
DTEND;TZID=America/New_York:20260509T000000
END:VEVENT
BEGIN:VEVENT
UID:sabre-vobject-7fb398be-c2e8-415f-90ee-1f726af2426c
DTSTAMP:20260420T112924Z
SUMMARY:Dépôt des mémoires
DESCRIPTION:La Ville de Mont-Tremblant franchit une nouvelle étape dans la
  refonte de son plan et de ses règlements d’urbanisme. Le 13 avril dern
 ier\, le Conseil a annoncé le dépôt de la version révisée du projet d
 e plan d’urbanisme rendu public en 2025\, ainsi que 12 projets de règle
 ments d’urbanisme (documents de travail) appelés à remplacer certains 
 règlements existants ou à s’y ajouter\, pour soutenir la mise en œuvr
 e des orientations proposées.\n\nhttps://vdmt.ca/evenements/refonte-du-pl
 an-durbanisme/reception-des-memoires
LOCATION:En ligne | En personne | Par la poste
DTSTART;TZID=America/New_York:20260510T000000
DTEND;TZID=America/New_York:20260510T000000
END:VEVENT
BEGIN:VEVENT
UID:sabre-vobject-49d4b86a-db7e-48eb-8a99-c29cdbb8ed79
DTSTAMP:20260420T112924Z
SUMMARY:Dépôt des mémoires
DESCRIPTION:La Ville de Mont-Tremblant franchit une nouvelle étape dans la
  refonte de son plan et de ses règlements d’urbanisme. Le 13 avril dern
 ier\, le Conseil a annoncé le dépôt de la version révisée du projet d
 e plan d’urbanisme rendu public en 2025\, ainsi que 12 projets de règle
 ments d’urbanisme (documents de travail) appelés à remplacer certains 
 règlements existants ou à s’y ajouter\, pour soutenir la mise en œuvr
 e des orientations proposées.\n\nhttps://vdmt.ca/evenements/refonte-du-pl
 an-durbanisme/reception-des-memoires
LOCATION:En ligne | En personne | Par la poste
DTSTART;TZID=America/New_York:20260511T000000
DTEND;TZID=America/New_York:20260511T000000
END:VEVENT
BEGIN:VEVENT
UID:sabre-vobject-623088d5-8b65-4320-b358-74b5140354be
DTSTAMP:20260420T112924Z
SUMMARY:Dépôt des mémoires
DESCRIPTION:La Ville de Mont-Tremblant franchit une nouvelle étape dans la
  refonte de son plan et de ses règlements d’urbanisme. Le 13 avril dern
 ier\, le Conseil a annoncé le dépôt de la version révisée du projet d
 e plan d’urbanisme rendu public en 2025\, ainsi que 12 projets de règle
 ments d’urbanisme (documents de travail) appelés à remplacer certains 
 règlements existants ou à s’y ajouter\, pour soutenir la mise en œuvr
 e des orientations proposées.\n\nhttps://vdmt.ca/evenements/refonte-du-pl
 an-durbanisme/reception-des-memoires
LOCATION:En ligne | En personne | Par la poste
DTSTART;TZID=America/New_York:20260512T000000
DTEND;TZID=America/New_York:20260512T000000
END:VEVENT
BEGIN:VEVENT
UID:sabre-vobject-0e503737-0325-4e18-bcb2-80bc19326afc
DTSTAMP:20260420T112924Z
SUMMARY:Dépôt des mémoires
DESCRIPTION:La Ville de Mont-Tremblant franchit une nouvelle étape dans la
  refonte de son plan et de ses règlements d’urbanisme. Le 13 avril dern
 ier\, le Conseil a annoncé le dépôt de la version révisée du projet d
 e plan d’urbanisme rendu public en 2025\, ainsi que 12 projets de règle
 ments d’urbanisme (documents de travail) appelés à remplacer certains 
 règlements existants ou à s’y ajouter\, pour soutenir la mise en œuvr
 e des orientations proposées.\n\nhttps://vdmt.ca/evenements/refonte-du-pl
 an-durbanisme/reception-des-memoires
LOCATION:En ligne | En personne | Par la poste
DTSTART;TZID=America/New_York:20260513T000000
DTEND;TZID=America/New_York:20260513T000000
END:VEVENT
BEGIN:VEVENT
UID:sabre-vobject-caa7941a-70f8-4e7a-ae9e-adcd2d15e833
DTSTAMP:20260420T112924Z
SUMMARY:Dépôt des mémoires
DESCRIPTION:La Ville de Mont-Tremblant franchit une nouvelle étape dans la
  refonte de son plan et de ses règlements d’urbanisme. Le 13 avril dern
 ier\, le Conseil a annoncé le dépôt de la version révisée du projet d
 e plan d’urbanisme rendu public en 2025\, ainsi que 12 projets de règle
 ments d’urbanisme (documents de travail) appelés à remplacer certains 
 règlements existants ou à s’y ajouter\, pour soutenir la mise en œuvr
 e des orientations proposées.\n\nhttps://vdmt.ca/evenements/refonte-du-pl
 an-durbanisme/reception-des-memoires
LOCATION:En ligne | En personne | Par la poste
DTSTART;TZID=America/New_York:20260514T000000
DTEND;TZID=America/New_York:20260514T000000
END:VEVENT
BEGIN:VEVENT
UID:sabre-vobject-4e5d035b-3e1f-48b9-a6dd-8ed37e7a4563
DTSTAMP:20260420T112924Z
SUMMARY:Dépôt des mémoires
DESCRIPTION:La Ville de Mont-Tremblant franchit une nouvelle étape dans la
  refonte de son plan et de ses règlements d’urbanisme. Le 13 avril dern
 ier\, le Conseil a annoncé le dépôt de la version révisée du projet d
 e plan d’urbanisme rendu public en 2025\, ainsi que 12 projets de règle
 ments d’urbanisme (documents de travail) appelés à remplacer certains 
 règlements existants ou à s’y ajouter\, pour soutenir la mise en œuvr
 e des orientations proposées.\n\nhttps://vdmt.ca/evenements/refonte-du-pl
 an-durbanisme/reception-des-memoires
LOCATION:En ligne | En personne | Par la poste
DTSTART;TZID=America/New_York:20260515T000000
DTEND;TZID=America/New_York:20260515T000000
END:VEVENT
END:VCALENDAR
