BEGIN:VCALENDAR
VERSION:2.0
PRODID:-//Sabre//Sabre VObject 4.5.1//EN
CALSCALE:GREGORIAN
X-WR-TIMEZONE:America/New_York
BEGIN:VEVENT
UID:sabre-vobject-a7718b7c-e8ce-4021-b37f-9f1927b05d57
DTSTAMP:20260420T123258Z
SUMMARY:Fête nationale 2026 :  Appel aux organismes pour la gestion du kio
 sque alimentaire
DESCRIPTION:La Ville lance un appel aux organismes à but non lucratif de l
 a région souhaitant prendre en charge la vente de produits alimentaires s
 ur le site des festivités de la Fête nationale\, le 23 juin prochain à 
 l’Espace public.\n\nhttps://vdmt.ca/evenements/appel-de-candidatures/fet
 e-nationale-2026-appel-aux-organismes-pour-la-gestion-du-kiosque-alimentai
 re
LOCATION:Candidature en ligne
DTSTART;TZID=America/New_York:20260413T000000
DTEND;TZID=America/New_York:20260413T000000
END:VEVENT
BEGIN:VEVENT
UID:sabre-vobject-f25aa505-ca86-46a1-a8fa-b6d02fb28fda
DTSTAMP:20260420T123258Z
SUMMARY:Fête nationale 2026 :  Appel aux organismes pour la gestion du kio
 sque alimentaire
DESCRIPTION:La Ville lance un appel aux organismes à but non lucratif de l
 a région souhaitant prendre en charge la vente de produits alimentaires s
 ur le site des festivités de la Fête nationale\, le 23 juin prochain à 
 l’Espace public.\n\nhttps://vdmt.ca/evenements/appel-de-candidatures/fet
 e-nationale-2026-appel-aux-organismes-pour-la-gestion-du-kiosque-alimentai
 re
LOCATION:Candidature en ligne
DTSTART;TZID=America/New_York:20260414T000000
DTEND;TZID=America/New_York:20260414T000000
END:VEVENT
BEGIN:VEVENT
UID:sabre-vobject-84b4c410-5d3b-4c81-9fae-141445816243
DTSTAMP:20260420T123258Z
SUMMARY:Fête nationale 2026 :  Appel aux organismes pour la gestion du kio
 sque alimentaire
DESCRIPTION:La Ville lance un appel aux organismes à but non lucratif de l
 a région souhaitant prendre en charge la vente de produits alimentaires s
 ur le site des festivités de la Fête nationale\, le 23 juin prochain à 
 l’Espace public.\n\nhttps://vdmt.ca/evenements/appel-de-candidatures/fet
 e-nationale-2026-appel-aux-organismes-pour-la-gestion-du-kiosque-alimentai
 re
LOCATION:Candidature en ligne
DTSTART;TZID=America/New_York:20260415T000000
DTEND;TZID=America/New_York:20260415T000000
END:VEVENT
BEGIN:VEVENT
UID:sabre-vobject-3898a2ef-0af7-46ef-9e2d-58ae06d7df90
DTSTAMP:20260420T123258Z
SUMMARY:Fête nationale 2026 :  Appel aux organismes pour la gestion du kio
 sque alimentaire
DESCRIPTION:La Ville lance un appel aux organismes à but non lucratif de l
 a région souhaitant prendre en charge la vente de produits alimentaires s
 ur le site des festivités de la Fête nationale\, le 23 juin prochain à 
 l’Espace public.\n\nhttps://vdmt.ca/evenements/appel-de-candidatures/fet
 e-nationale-2026-appel-aux-organismes-pour-la-gestion-du-kiosque-alimentai
 re
LOCATION:Candidature en ligne
DTSTART;TZID=America/New_York:20260416T000000
DTEND;TZID=America/New_York:20260416T000000
END:VEVENT
BEGIN:VEVENT
UID:sabre-vobject-8ab1c1b5-5f44-40b4-8660-f53a6170288c
DTSTAMP:20260420T123258Z
SUMMARY:Fête nationale 2026 :  Appel aux organismes pour la gestion du kio
 sque alimentaire
DESCRIPTION:La Ville lance un appel aux organismes à but non lucratif de l
 a région souhaitant prendre en charge la vente de produits alimentaires s
 ur le site des festivités de la Fête nationale\, le 23 juin prochain à 
 l’Espace public.\n\nhttps://vdmt.ca/evenements/appel-de-candidatures/fet
 e-nationale-2026-appel-aux-organismes-pour-la-gestion-du-kiosque-alimentai
 re
LOCATION:Candidature en ligne
DTSTART;TZID=America/New_York:20260417T000000
DTEND;TZID=America/New_York:20260417T000000
END:VEVENT
BEGIN:VEVENT
UID:sabre-vobject-4caaeea7-ae95-4e2a-bebc-5ca7cacac1d5
DTSTAMP:20260420T123258Z
SUMMARY:Fête nationale 2026 :  Appel aux organismes pour la gestion du kio
 sque alimentaire
DESCRIPTION:La Ville lance un appel aux organismes à but non lucratif de l
 a région souhaitant prendre en charge la vente de produits alimentaires s
 ur le site des festivités de la Fête nationale\, le 23 juin prochain à 
 l’Espace public.\n\nhttps://vdmt.ca/evenements/appel-de-candidatures/fet
 e-nationale-2026-appel-aux-organismes-pour-la-gestion-du-kiosque-alimentai
 re
LOCATION:Candidature en ligne
DTSTART;TZID=America/New_York:20260418T000000
DTEND;TZID=America/New_York:20260418T000000
END:VEVENT
BEGIN:VEVENT
UID:sabre-vobject-3c370d7b-b6e8-4b94-8001-254dd4b729c3
DTSTAMP:20260420T123258Z
SUMMARY:Fête nationale 2026 :  Appel aux organismes pour la gestion du kio
 sque alimentaire
DESCRIPTION:La Ville lance un appel aux organismes à but non lucratif de l
 a région souhaitant prendre en charge la vente de produits alimentaires s
 ur le site des festivités de la Fête nationale\, le 23 juin prochain à 
 l’Espace public.\n\nhttps://vdmt.ca/evenements/appel-de-candidatures/fet
 e-nationale-2026-appel-aux-organismes-pour-la-gestion-du-kiosque-alimentai
 re
LOCATION:Candidature en ligne
DTSTART;TZID=America/New_York:20260419T000000
DTEND;TZID=America/New_York:20260419T000000
END:VEVENT
BEGIN:VEVENT
UID:sabre-vobject-d4715347-831b-4fbd-af83-6a08c6b9648f
DTSTAMP:20260420T123258Z
SUMMARY:Fête nationale 2026 :  Appel aux organismes pour la gestion du kio
 sque alimentaire
DESCRIPTION:La Ville lance un appel aux organismes à but non lucratif de l
 a région souhaitant prendre en charge la vente de produits alimentaires s
 ur le site des festivités de la Fête nationale\, le 23 juin prochain à 
 l’Espace public.\n\nhttps://vdmt.ca/evenements/appel-de-candidatures/fet
 e-nationale-2026-appel-aux-organismes-pour-la-gestion-du-kiosque-alimentai
 re
LOCATION:Candidature en ligne
DTSTART;TZID=America/New_York:20260420T000000
DTEND;TZID=America/New_York:20260420T000000
END:VEVENT
BEGIN:VEVENT
UID:sabre-vobject-6afa084e-3587-45dc-9a67-1641c55a4bfd
DTSTAMP:20260420T123258Z
SUMMARY:Fête nationale 2026 :  Appel aux organismes pour la gestion du kio
 sque alimentaire
DESCRIPTION:La Ville lance un appel aux organismes à but non lucratif de l
 a région souhaitant prendre en charge la vente de produits alimentaires s
 ur le site des festivités de la Fête nationale\, le 23 juin prochain à 
 l’Espace public.\n\nhttps://vdmt.ca/evenements/appel-de-candidatures/fet
 e-nationale-2026-appel-aux-organismes-pour-la-gestion-du-kiosque-alimentai
 re
LOCATION:Candidature en ligne
DTSTART;TZID=America/New_York:20260421T000000
DTEND;TZID=America/New_York:20260421T000000
END:VEVENT
BEGIN:VEVENT
UID:sabre-vobject-7fb80391-6e6a-4b70-a836-eef68d606304
DTSTAMP:20260420T123258Z
SUMMARY:Fête nationale 2026 :  Appel aux organismes pour la gestion du kio
 sque alimentaire
DESCRIPTION:La Ville lance un appel aux organismes à but non lucratif de l
 a région souhaitant prendre en charge la vente de produits alimentaires s
 ur le site des festivités de la Fête nationale\, le 23 juin prochain à 
 l’Espace public.\n\nhttps://vdmt.ca/evenements/appel-de-candidatures/fet
 e-nationale-2026-appel-aux-organismes-pour-la-gestion-du-kiosque-alimentai
 re
LOCATION:Candidature en ligne
DTSTART;TZID=America/New_York:20260422T000000
DTEND;TZID=America/New_York:20260422T000000
END:VEVENT
BEGIN:VEVENT
UID:sabre-vobject-c3246ac4-3997-42a5-8c61-039fc97e1dde
DTSTAMP:20260420T123258Z
SUMMARY:Fête nationale 2026 :  Appel aux organismes pour la gestion du kio
 sque alimentaire
DESCRIPTION:La Ville lance un appel aux organismes à but non lucratif de l
 a région souhaitant prendre en charge la vente de produits alimentaires s
 ur le site des festivités de la Fête nationale\, le 23 juin prochain à 
 l’Espace public.\n\nhttps://vdmt.ca/evenements/appel-de-candidatures/fet
 e-nationale-2026-appel-aux-organismes-pour-la-gestion-du-kiosque-alimentai
 re
LOCATION:Candidature en ligne
DTSTART;TZID=America/New_York:20260423T000000
DTEND;TZID=America/New_York:20260423T000000
END:VEVENT
BEGIN:VEVENT
UID:sabre-vobject-8327d981-a4ad-40ec-8955-cf6699d0380e
DTSTAMP:20260420T123258Z
SUMMARY:Fête nationale 2026 :  Appel aux organismes pour la gestion du kio
 sque alimentaire
DESCRIPTION:La Ville lance un appel aux organismes à but non lucratif de l
 a région souhaitant prendre en charge la vente de produits alimentaires s
 ur le site des festivités de la Fête nationale\, le 23 juin prochain à 
 l’Espace public.\n\nhttps://vdmt.ca/evenements/appel-de-candidatures/fet
 e-nationale-2026-appel-aux-organismes-pour-la-gestion-du-kiosque-alimentai
 re
LOCATION:Candidature en ligne
DTSTART;TZID=America/New_York:20260424T000000
DTEND;TZID=America/New_York:20260424T000000
END:VEVENT
BEGIN:VEVENT
UID:sabre-vobject-13015d87-6ab0-4528-8d37-312bfa932b88
DTSTAMP:20260420T123258Z
SUMMARY:Fête nationale 2026 :  Appel aux organismes pour la gestion du kio
 sque alimentaire
DESCRIPTION:La Ville lance un appel aux organismes à but non lucratif de l
 a région souhaitant prendre en charge la vente de produits alimentaires s
 ur le site des festivités de la Fête nationale\, le 23 juin prochain à 
 l’Espace public.\n\nhttps://vdmt.ca/evenements/appel-de-candidatures/fet
 e-nationale-2026-appel-aux-organismes-pour-la-gestion-du-kiosque-alimentai
 re
LOCATION:Candidature en ligne
DTSTART;TZID=America/New_York:20260425T000000
DTEND;TZID=America/New_York:20260425T000000
END:VEVENT
BEGIN:VEVENT
UID:sabre-vobject-5415c916-e5a2-4f2e-8ed2-ef058b639631
DTSTAMP:20260420T123258Z
SUMMARY:Fête nationale 2026 :  Appel aux organismes pour la gestion du kio
 sque alimentaire
DESCRIPTION:La Ville lance un appel aux organismes à but non lucratif de l
 a région souhaitant prendre en charge la vente de produits alimentaires s
 ur le site des festivités de la Fête nationale\, le 23 juin prochain à 
 l’Espace public.\n\nhttps://vdmt.ca/evenements/appel-de-candidatures/fet
 e-nationale-2026-appel-aux-organismes-pour-la-gestion-du-kiosque-alimentai
 re
LOCATION:Candidature en ligne
DTSTART;TZID=America/New_York:20260426T000000
DTEND;TZID=America/New_York:20260426T000000
END:VEVENT
BEGIN:VEVENT
UID:sabre-vobject-639278f4-a764-4702-a332-7ad682c416d7
DTSTAMP:20260420T123258Z
SUMMARY:Fête nationale 2026 :  Appel aux organismes pour la gestion du kio
 sque alimentaire
DESCRIPTION:La Ville lance un appel aux organismes à but non lucratif de l
 a région souhaitant prendre en charge la vente de produits alimentaires s
 ur le site des festivités de la Fête nationale\, le 23 juin prochain à 
 l’Espace public.\n\nhttps://vdmt.ca/evenements/appel-de-candidatures/fet
 e-nationale-2026-appel-aux-organismes-pour-la-gestion-du-kiosque-alimentai
 re
LOCATION:Candidature en ligne
DTSTART;TZID=America/New_York:20260427T000000
DTEND;TZID=America/New_York:20260427T000000
END:VEVENT
BEGIN:VEVENT
UID:sabre-vobject-d2050c35-74ca-446d-9bdf-96c95ae89df2
DTSTAMP:20260420T123258Z
SUMMARY:Fête nationale 2026 :  Appel aux organismes pour la gestion du kio
 sque alimentaire
DESCRIPTION:La Ville lance un appel aux organismes à but non lucratif de l
 a région souhaitant prendre en charge la vente de produits alimentaires s
 ur le site des festivités de la Fête nationale\, le 23 juin prochain à 
 l’Espace public.\n\nhttps://vdmt.ca/evenements/appel-de-candidatures/fet
 e-nationale-2026-appel-aux-organismes-pour-la-gestion-du-kiosque-alimentai
 re
LOCATION:Candidature en ligne
DTSTART;TZID=America/New_York:20260428T000000
DTEND;TZID=America/New_York:20260428T000000
END:VEVENT
BEGIN:VEVENT
UID:sabre-vobject-50b212cf-57d7-4725-a734-62257fd252ed
DTSTAMP:20260420T123258Z
SUMMARY:Fête nationale 2026 :  Appel aux organismes pour la gestion du kio
 sque alimentaire
DESCRIPTION:La Ville lance un appel aux organismes à but non lucratif de l
 a région souhaitant prendre en charge la vente de produits alimentaires s
 ur le site des festivités de la Fête nationale\, le 23 juin prochain à 
 l’Espace public.\n\nhttps://vdmt.ca/evenements/appel-de-candidatures/fet
 e-nationale-2026-appel-aux-organismes-pour-la-gestion-du-kiosque-alimentai
 re
LOCATION:Candidature en ligne
DTSTART;TZID=America/New_York:20260429T000000
DTEND;TZID=America/New_York:20260429T000000
END:VEVENT
BEGIN:VEVENT
UID:sabre-vobject-6765fb21-1435-4cb0-a321-cc8450d7565d
DTSTAMP:20260420T123258Z
SUMMARY:Fête nationale 2026 :  Appel aux organismes pour la gestion du kio
 sque alimentaire
DESCRIPTION:La Ville lance un appel aux organismes à but non lucratif de l
 a région souhaitant prendre en charge la vente de produits alimentaires s
 ur le site des festivités de la Fête nationale\, le 23 juin prochain à 
 l’Espace public.\n\nhttps://vdmt.ca/evenements/appel-de-candidatures/fet
 e-nationale-2026-appel-aux-organismes-pour-la-gestion-du-kiosque-alimentai
 re
LOCATION:Candidature en ligne
DTSTART;TZID=America/New_York:20260430T000000
DTEND;TZID=America/New_York:20260430T000000
END:VEVENT
BEGIN:VEVENT
UID:sabre-vobject-01716f58-53da-4555-8213-ef0a2d6d5886
DTSTAMP:20260420T123258Z
SUMMARY:Fête nationale 2026 :  Appel aux organismes pour la gestion du kio
 sque alimentaire
DESCRIPTION:La Ville lance un appel aux organismes à but non lucratif de l
 a région souhaitant prendre en charge la vente de produits alimentaires s
 ur le site des festivités de la Fête nationale\, le 23 juin prochain à 
 l’Espace public.\n\nhttps://vdmt.ca/evenements/appel-de-candidatures/fet
 e-nationale-2026-appel-aux-organismes-pour-la-gestion-du-kiosque-alimentai
 re
LOCATION:Candidature en ligne
DTSTART;TZID=America/New_York:20260501T000000
DTEND;TZID=America/New_York:20260501T000000
END:VEVENT
BEGIN:VEVENT
UID:sabre-vobject-5071e5ec-9bb2-4f4b-bca5-e1dc5b83680f
DTSTAMP:20260420T123258Z
SUMMARY:Fête nationale 2026 :  Appel aux organismes pour la gestion du kio
 sque alimentaire
DESCRIPTION:La Ville lance un appel aux organismes à but non lucratif de l
 a région souhaitant prendre en charge la vente de produits alimentaires s
 ur le site des festivités de la Fête nationale\, le 23 juin prochain à 
 l’Espace public.\n\nhttps://vdmt.ca/evenements/appel-de-candidatures/fet
 e-nationale-2026-appel-aux-organismes-pour-la-gestion-du-kiosque-alimentai
 re
LOCATION:Candidature en ligne
DTSTART;TZID=America/New_York:20260502T000000
DTEND;TZID=America/New_York:20260502T000000
END:VEVENT
BEGIN:VEVENT
UID:sabre-vobject-697c9d74-b8bf-4e81-9b32-88a332e401bf
DTSTAMP:20260420T123258Z
SUMMARY:Fête nationale 2026 :  Appel aux organismes pour la gestion du kio
 sque alimentaire
DESCRIPTION:La Ville lance un appel aux organismes à but non lucratif de l
 a région souhaitant prendre en charge la vente de produits alimentaires s
 ur le site des festivités de la Fête nationale\, le 23 juin prochain à 
 l’Espace public.\n\nhttps://vdmt.ca/evenements/appel-de-candidatures/fet
 e-nationale-2026-appel-aux-organismes-pour-la-gestion-du-kiosque-alimentai
 re
LOCATION:Candidature en ligne
DTSTART;TZID=America/New_York:20260503T000000
DTEND;TZID=America/New_York:20260503T000000
END:VEVENT
END:VCALENDAR
