BEGIN:VCALENDAR
VERSION:2.0
PRODID:-//Sabre//Sabre VObject 4.5.1//EN
CALSCALE:GREGORIAN
X-WR-TIMEZONE:America/New_York
BEGIN:VEVENT
UID:sabre-vobject-e665c2f2-8aea-45f2-ace0-80b67c25448e
DTSTAMP:20260420T112620Z
SUMMARY:Devenez bénévoles pour la Fête nationale
DESCRIPTION:En&nbsp\;préparation&nbsp\;des&nbsp\;festivités&nbsp\;de la F
 ête&nbsp\;nationale\,&nbsp\;qui se&nbsp\;dérouleront&nbsp\;le&nbsp\;mard
 i&nbsp\;23&nbsp\;juin&nbsp\;prochain à&nbsp\;l’Espace&nbsp\;public\, la
  Ville de Mont-Tremblant est à la recherche de&nbsp\;bénévoles&nbsp\;mo
 tivé(e)s pour se&nbsp\;joindre&nbsp\;à&nbsp\;l’équipe&nbsp\;organisat
 rice.&nbsp\;\n\nhttps://vdmt.ca/evenements/appel-de-candidatures/devenez-b
 enevoles-pour-la-fete-nationale
LOCATION:Inscription en ligne
DTSTART;TZID=America/New_York:20260407T000000
DTEND;TZID=America/New_York:20260407T000000
END:VEVENT
BEGIN:VEVENT
UID:sabre-vobject-67fddbb0-9c19-4f98-8988-c6a7e75db8a4
DTSTAMP:20260420T112620Z
SUMMARY:Devenez bénévoles pour la Fête nationale
DESCRIPTION:En&nbsp\;préparation&nbsp\;des&nbsp\;festivités&nbsp\;de la F
 ête&nbsp\;nationale\,&nbsp\;qui se&nbsp\;dérouleront&nbsp\;le&nbsp\;mard
 i&nbsp\;23&nbsp\;juin&nbsp\;prochain à&nbsp\;l’Espace&nbsp\;public\, la
  Ville de Mont-Tremblant est à la recherche de&nbsp\;bénévoles&nbsp\;mo
 tivé(e)s pour se&nbsp\;joindre&nbsp\;à&nbsp\;l’équipe&nbsp\;organisat
 rice.&nbsp\;\n\nhttps://vdmt.ca/evenements/appel-de-candidatures/devenez-b
 enevoles-pour-la-fete-nationale
LOCATION:Inscription en ligne
DTSTART;TZID=America/New_York:20260408T000000
DTEND;TZID=America/New_York:20260408T000000
END:VEVENT
BEGIN:VEVENT
UID:sabre-vobject-56031164-6d6a-4c21-939c-54bb77cff24b
DTSTAMP:20260420T112620Z
SUMMARY:Devenez bénévoles pour la Fête nationale
DESCRIPTION:En&nbsp\;préparation&nbsp\;des&nbsp\;festivités&nbsp\;de la F
 ête&nbsp\;nationale\,&nbsp\;qui se&nbsp\;dérouleront&nbsp\;le&nbsp\;mard
 i&nbsp\;23&nbsp\;juin&nbsp\;prochain à&nbsp\;l’Espace&nbsp\;public\, la
  Ville de Mont-Tremblant est à la recherche de&nbsp\;bénévoles&nbsp\;mo
 tivé(e)s pour se&nbsp\;joindre&nbsp\;à&nbsp\;l’équipe&nbsp\;organisat
 rice.&nbsp\;\n\nhttps://vdmt.ca/evenements/appel-de-candidatures/devenez-b
 enevoles-pour-la-fete-nationale
LOCATION:Inscription en ligne
DTSTART;TZID=America/New_York:20260409T000000
DTEND;TZID=America/New_York:20260409T000000
END:VEVENT
BEGIN:VEVENT
UID:sabre-vobject-8b0a825a-b695-4555-9934-faa3cf02cbcc
DTSTAMP:20260420T112620Z
SUMMARY:Devenez bénévoles pour la Fête nationale
DESCRIPTION:En&nbsp\;préparation&nbsp\;des&nbsp\;festivités&nbsp\;de la F
 ête&nbsp\;nationale\,&nbsp\;qui se&nbsp\;dérouleront&nbsp\;le&nbsp\;mard
 i&nbsp\;23&nbsp\;juin&nbsp\;prochain à&nbsp\;l’Espace&nbsp\;public\, la
  Ville de Mont-Tremblant est à la recherche de&nbsp\;bénévoles&nbsp\;mo
 tivé(e)s pour se&nbsp\;joindre&nbsp\;à&nbsp\;l’équipe&nbsp\;organisat
 rice.&nbsp\;\n\nhttps://vdmt.ca/evenements/appel-de-candidatures/devenez-b
 enevoles-pour-la-fete-nationale
LOCATION:Inscription en ligne
DTSTART;TZID=America/New_York:20260410T000000
DTEND;TZID=America/New_York:20260410T000000
END:VEVENT
BEGIN:VEVENT
UID:sabre-vobject-83c79b93-e419-4388-b893-e687a334b50d
DTSTAMP:20260420T112620Z
SUMMARY:Devenez bénévoles pour la Fête nationale
DESCRIPTION:En&nbsp\;préparation&nbsp\;des&nbsp\;festivités&nbsp\;de la F
 ête&nbsp\;nationale\,&nbsp\;qui se&nbsp\;dérouleront&nbsp\;le&nbsp\;mard
 i&nbsp\;23&nbsp\;juin&nbsp\;prochain à&nbsp\;l’Espace&nbsp\;public\, la
  Ville de Mont-Tremblant est à la recherche de&nbsp\;bénévoles&nbsp\;mo
 tivé(e)s pour se&nbsp\;joindre&nbsp\;à&nbsp\;l’équipe&nbsp\;organisat
 rice.&nbsp\;\n\nhttps://vdmt.ca/evenements/appel-de-candidatures/devenez-b
 enevoles-pour-la-fete-nationale
LOCATION:Inscription en ligne
DTSTART;TZID=America/New_York:20260411T000000
DTEND;TZID=America/New_York:20260411T000000
END:VEVENT
BEGIN:VEVENT
UID:sabre-vobject-a27c6315-81c7-46f7-8c93-2040266373b7
DTSTAMP:20260420T112620Z
SUMMARY:Devenez bénévoles pour la Fête nationale
DESCRIPTION:En&nbsp\;préparation&nbsp\;des&nbsp\;festivités&nbsp\;de la F
 ête&nbsp\;nationale\,&nbsp\;qui se&nbsp\;dérouleront&nbsp\;le&nbsp\;mard
 i&nbsp\;23&nbsp\;juin&nbsp\;prochain à&nbsp\;l’Espace&nbsp\;public\, la
  Ville de Mont-Tremblant est à la recherche de&nbsp\;bénévoles&nbsp\;mo
 tivé(e)s pour se&nbsp\;joindre&nbsp\;à&nbsp\;l’équipe&nbsp\;organisat
 rice.&nbsp\;\n\nhttps://vdmt.ca/evenements/appel-de-candidatures/devenez-b
 enevoles-pour-la-fete-nationale
LOCATION:Inscription en ligne
DTSTART;TZID=America/New_York:20260412T000000
DTEND;TZID=America/New_York:20260412T000000
END:VEVENT
BEGIN:VEVENT
UID:sabre-vobject-4d743cb1-fa31-41da-be83-38f42db613fd
DTSTAMP:20260420T112620Z
SUMMARY:Devenez bénévoles pour la Fête nationale
DESCRIPTION:En&nbsp\;préparation&nbsp\;des&nbsp\;festivités&nbsp\;de la F
 ête&nbsp\;nationale\,&nbsp\;qui se&nbsp\;dérouleront&nbsp\;le&nbsp\;mard
 i&nbsp\;23&nbsp\;juin&nbsp\;prochain à&nbsp\;l’Espace&nbsp\;public\, la
  Ville de Mont-Tremblant est à la recherche de&nbsp\;bénévoles&nbsp\;mo
 tivé(e)s pour se&nbsp\;joindre&nbsp\;à&nbsp\;l’équipe&nbsp\;organisat
 rice.&nbsp\;\n\nhttps://vdmt.ca/evenements/appel-de-candidatures/devenez-b
 enevoles-pour-la-fete-nationale
LOCATION:Inscription en ligne
DTSTART;TZID=America/New_York:20260413T000000
DTEND;TZID=America/New_York:20260413T000000
END:VEVENT
BEGIN:VEVENT
UID:sabre-vobject-9f01bfab-1586-4882-8186-60f784b369b9
DTSTAMP:20260420T112620Z
SUMMARY:Devenez bénévoles pour la Fête nationale
DESCRIPTION:En&nbsp\;préparation&nbsp\;des&nbsp\;festivités&nbsp\;de la F
 ête&nbsp\;nationale\,&nbsp\;qui se&nbsp\;dérouleront&nbsp\;le&nbsp\;mard
 i&nbsp\;23&nbsp\;juin&nbsp\;prochain à&nbsp\;l’Espace&nbsp\;public\, la
  Ville de Mont-Tremblant est à la recherche de&nbsp\;bénévoles&nbsp\;mo
 tivé(e)s pour se&nbsp\;joindre&nbsp\;à&nbsp\;l’équipe&nbsp\;organisat
 rice.&nbsp\;\n\nhttps://vdmt.ca/evenements/appel-de-candidatures/devenez-b
 enevoles-pour-la-fete-nationale
LOCATION:Inscription en ligne
DTSTART;TZID=America/New_York:20260414T000000
DTEND;TZID=America/New_York:20260414T000000
END:VEVENT
BEGIN:VEVENT
UID:sabre-vobject-d7a5aad2-cece-4356-b326-47456e918e6e
DTSTAMP:20260420T112620Z
SUMMARY:Devenez bénévoles pour la Fête nationale
DESCRIPTION:En&nbsp\;préparation&nbsp\;des&nbsp\;festivités&nbsp\;de la F
 ête&nbsp\;nationale\,&nbsp\;qui se&nbsp\;dérouleront&nbsp\;le&nbsp\;mard
 i&nbsp\;23&nbsp\;juin&nbsp\;prochain à&nbsp\;l’Espace&nbsp\;public\, la
  Ville de Mont-Tremblant est à la recherche de&nbsp\;bénévoles&nbsp\;mo
 tivé(e)s pour se&nbsp\;joindre&nbsp\;à&nbsp\;l’équipe&nbsp\;organisat
 rice.&nbsp\;\n\nhttps://vdmt.ca/evenements/appel-de-candidatures/devenez-b
 enevoles-pour-la-fete-nationale
LOCATION:Inscription en ligne
DTSTART;TZID=America/New_York:20260415T000000
DTEND;TZID=America/New_York:20260415T000000
END:VEVENT
BEGIN:VEVENT
UID:sabre-vobject-a7458a04-4a2b-4429-bb5e-c444a433e68f
DTSTAMP:20260420T112620Z
SUMMARY:Devenez bénévoles pour la Fête nationale
DESCRIPTION:En&nbsp\;préparation&nbsp\;des&nbsp\;festivités&nbsp\;de la F
 ête&nbsp\;nationale\,&nbsp\;qui se&nbsp\;dérouleront&nbsp\;le&nbsp\;mard
 i&nbsp\;23&nbsp\;juin&nbsp\;prochain à&nbsp\;l’Espace&nbsp\;public\, la
  Ville de Mont-Tremblant est à la recherche de&nbsp\;bénévoles&nbsp\;mo
 tivé(e)s pour se&nbsp\;joindre&nbsp\;à&nbsp\;l’équipe&nbsp\;organisat
 rice.&nbsp\;\n\nhttps://vdmt.ca/evenements/appel-de-candidatures/devenez-b
 enevoles-pour-la-fete-nationale
LOCATION:Inscription en ligne
DTSTART;TZID=America/New_York:20260416T000000
DTEND;TZID=America/New_York:20260416T000000
END:VEVENT
BEGIN:VEVENT
UID:sabre-vobject-f73d4938-b7ed-4c03-b82d-79eaf2842f61
DTSTAMP:20260420T112620Z
SUMMARY:Devenez bénévoles pour la Fête nationale
DESCRIPTION:En&nbsp\;préparation&nbsp\;des&nbsp\;festivités&nbsp\;de la F
 ête&nbsp\;nationale\,&nbsp\;qui se&nbsp\;dérouleront&nbsp\;le&nbsp\;mard
 i&nbsp\;23&nbsp\;juin&nbsp\;prochain à&nbsp\;l’Espace&nbsp\;public\, la
  Ville de Mont-Tremblant est à la recherche de&nbsp\;bénévoles&nbsp\;mo
 tivé(e)s pour se&nbsp\;joindre&nbsp\;à&nbsp\;l’équipe&nbsp\;organisat
 rice.&nbsp\;\n\nhttps://vdmt.ca/evenements/appel-de-candidatures/devenez-b
 enevoles-pour-la-fete-nationale
LOCATION:Inscription en ligne
DTSTART;TZID=America/New_York:20260417T000000
DTEND;TZID=America/New_York:20260417T000000
END:VEVENT
BEGIN:VEVENT
UID:sabre-vobject-22dd2932-aac9-4c51-a3b8-bce5273700a5
DTSTAMP:20260420T112620Z
SUMMARY:Devenez bénévoles pour la Fête nationale
DESCRIPTION:En&nbsp\;préparation&nbsp\;des&nbsp\;festivités&nbsp\;de la F
 ête&nbsp\;nationale\,&nbsp\;qui se&nbsp\;dérouleront&nbsp\;le&nbsp\;mard
 i&nbsp\;23&nbsp\;juin&nbsp\;prochain à&nbsp\;l’Espace&nbsp\;public\, la
  Ville de Mont-Tremblant est à la recherche de&nbsp\;bénévoles&nbsp\;mo
 tivé(e)s pour se&nbsp\;joindre&nbsp\;à&nbsp\;l’équipe&nbsp\;organisat
 rice.&nbsp\;\n\nhttps://vdmt.ca/evenements/appel-de-candidatures/devenez-b
 enevoles-pour-la-fete-nationale
LOCATION:Inscription en ligne
DTSTART;TZID=America/New_York:20260418T000000
DTEND;TZID=America/New_York:20260418T000000
END:VEVENT
BEGIN:VEVENT
UID:sabre-vobject-be576129-f70a-4b11-81f6-4760b6569183
DTSTAMP:20260420T112620Z
SUMMARY:Devenez bénévoles pour la Fête nationale
DESCRIPTION:En&nbsp\;préparation&nbsp\;des&nbsp\;festivités&nbsp\;de la F
 ête&nbsp\;nationale\,&nbsp\;qui se&nbsp\;dérouleront&nbsp\;le&nbsp\;mard
 i&nbsp\;23&nbsp\;juin&nbsp\;prochain à&nbsp\;l’Espace&nbsp\;public\, la
  Ville de Mont-Tremblant est à la recherche de&nbsp\;bénévoles&nbsp\;mo
 tivé(e)s pour se&nbsp\;joindre&nbsp\;à&nbsp\;l’équipe&nbsp\;organisat
 rice.&nbsp\;\n\nhttps://vdmt.ca/evenements/appel-de-candidatures/devenez-b
 enevoles-pour-la-fete-nationale
LOCATION:Inscription en ligne
DTSTART;TZID=America/New_York:20260419T000000
DTEND;TZID=America/New_York:20260419T000000
END:VEVENT
BEGIN:VEVENT
UID:sabre-vobject-6969bc25-f987-4e93-9f04-1612503f8ee2
DTSTAMP:20260420T112620Z
SUMMARY:Devenez bénévoles pour la Fête nationale
DESCRIPTION:En&nbsp\;préparation&nbsp\;des&nbsp\;festivités&nbsp\;de la F
 ête&nbsp\;nationale\,&nbsp\;qui se&nbsp\;dérouleront&nbsp\;le&nbsp\;mard
 i&nbsp\;23&nbsp\;juin&nbsp\;prochain à&nbsp\;l’Espace&nbsp\;public\, la
  Ville de Mont-Tremblant est à la recherche de&nbsp\;bénévoles&nbsp\;mo
 tivé(e)s pour se&nbsp\;joindre&nbsp\;à&nbsp\;l’équipe&nbsp\;organisat
 rice.&nbsp\;\n\nhttps://vdmt.ca/evenements/appel-de-candidatures/devenez-b
 enevoles-pour-la-fete-nationale
LOCATION:Inscription en ligne
DTSTART;TZID=America/New_York:20260420T000000
DTEND;TZID=America/New_York:20260420T000000
END:VEVENT
BEGIN:VEVENT
UID:sabre-vobject-64c79966-98fd-47c6-aac5-c3712e92986b
DTSTAMP:20260420T112620Z
SUMMARY:Devenez bénévoles pour la Fête nationale
DESCRIPTION:En&nbsp\;préparation&nbsp\;des&nbsp\;festivités&nbsp\;de la F
 ête&nbsp\;nationale\,&nbsp\;qui se&nbsp\;dérouleront&nbsp\;le&nbsp\;mard
 i&nbsp\;23&nbsp\;juin&nbsp\;prochain à&nbsp\;l’Espace&nbsp\;public\, la
  Ville de Mont-Tremblant est à la recherche de&nbsp\;bénévoles&nbsp\;mo
 tivé(e)s pour se&nbsp\;joindre&nbsp\;à&nbsp\;l’équipe&nbsp\;organisat
 rice.&nbsp\;\n\nhttps://vdmt.ca/evenements/appel-de-candidatures/devenez-b
 enevoles-pour-la-fete-nationale
LOCATION:Inscription en ligne
DTSTART;TZID=America/New_York:20260421T000000
DTEND;TZID=America/New_York:20260421T000000
END:VEVENT
BEGIN:VEVENT
UID:sabre-vobject-fc87f57a-d722-4c53-b338-3f76cb2bdbe8
DTSTAMP:20260420T112620Z
SUMMARY:Devenez bénévoles pour la Fête nationale
DESCRIPTION:En&nbsp\;préparation&nbsp\;des&nbsp\;festivités&nbsp\;de la F
 ête&nbsp\;nationale\,&nbsp\;qui se&nbsp\;dérouleront&nbsp\;le&nbsp\;mard
 i&nbsp\;23&nbsp\;juin&nbsp\;prochain à&nbsp\;l’Espace&nbsp\;public\, la
  Ville de Mont-Tremblant est à la recherche de&nbsp\;bénévoles&nbsp\;mo
 tivé(e)s pour se&nbsp\;joindre&nbsp\;à&nbsp\;l’équipe&nbsp\;organisat
 rice.&nbsp\;\n\nhttps://vdmt.ca/evenements/appel-de-candidatures/devenez-b
 enevoles-pour-la-fete-nationale
LOCATION:Inscription en ligne
DTSTART;TZID=America/New_York:20260422T000000
DTEND;TZID=America/New_York:20260422T000000
END:VEVENT
BEGIN:VEVENT
UID:sabre-vobject-fa85354e-c233-4a3c-aea0-8741b12604d7
DTSTAMP:20260420T112620Z
SUMMARY:Devenez bénévoles pour la Fête nationale
DESCRIPTION:En&nbsp\;préparation&nbsp\;des&nbsp\;festivités&nbsp\;de la F
 ête&nbsp\;nationale\,&nbsp\;qui se&nbsp\;dérouleront&nbsp\;le&nbsp\;mard
 i&nbsp\;23&nbsp\;juin&nbsp\;prochain à&nbsp\;l’Espace&nbsp\;public\, la
  Ville de Mont-Tremblant est à la recherche de&nbsp\;bénévoles&nbsp\;mo
 tivé(e)s pour se&nbsp\;joindre&nbsp\;à&nbsp\;l’équipe&nbsp\;organisat
 rice.&nbsp\;\n\nhttps://vdmt.ca/evenements/appel-de-candidatures/devenez-b
 enevoles-pour-la-fete-nationale
LOCATION:Inscription en ligne
DTSTART;TZID=America/New_York:20260423T000000
DTEND;TZID=America/New_York:20260423T000000
END:VEVENT
BEGIN:VEVENT
UID:sabre-vobject-11cf3e66-0f97-48bc-a192-7d70cfcd13c4
DTSTAMP:20260420T112620Z
SUMMARY:Devenez bénévoles pour la Fête nationale
DESCRIPTION:En&nbsp\;préparation&nbsp\;des&nbsp\;festivités&nbsp\;de la F
 ête&nbsp\;nationale\,&nbsp\;qui se&nbsp\;dérouleront&nbsp\;le&nbsp\;mard
 i&nbsp\;23&nbsp\;juin&nbsp\;prochain à&nbsp\;l’Espace&nbsp\;public\, la
  Ville de Mont-Tremblant est à la recherche de&nbsp\;bénévoles&nbsp\;mo
 tivé(e)s pour se&nbsp\;joindre&nbsp\;à&nbsp\;l’équipe&nbsp\;organisat
 rice.&nbsp\;\n\nhttps://vdmt.ca/evenements/appel-de-candidatures/devenez-b
 enevoles-pour-la-fete-nationale
LOCATION:Inscription en ligne
DTSTART;TZID=America/New_York:20260424T000000
DTEND;TZID=America/New_York:20260424T000000
END:VEVENT
BEGIN:VEVENT
UID:sabre-vobject-9af15253-832d-42b4-934f-4d1f87b45958
DTSTAMP:20260420T112620Z
SUMMARY:Devenez bénévoles pour la Fête nationale
DESCRIPTION:En&nbsp\;préparation&nbsp\;des&nbsp\;festivités&nbsp\;de la F
 ête&nbsp\;nationale\,&nbsp\;qui se&nbsp\;dérouleront&nbsp\;le&nbsp\;mard
 i&nbsp\;23&nbsp\;juin&nbsp\;prochain à&nbsp\;l’Espace&nbsp\;public\, la
  Ville de Mont-Tremblant est à la recherche de&nbsp\;bénévoles&nbsp\;mo
 tivé(e)s pour se&nbsp\;joindre&nbsp\;à&nbsp\;l’équipe&nbsp\;organisat
 rice.&nbsp\;\n\nhttps://vdmt.ca/evenements/appel-de-candidatures/devenez-b
 enevoles-pour-la-fete-nationale
LOCATION:Inscription en ligne
DTSTART;TZID=America/New_York:20260425T000000
DTEND;TZID=America/New_York:20260425T000000
END:VEVENT
BEGIN:VEVENT
UID:sabre-vobject-9a2627d2-c9a5-4fff-8c88-883e6734328c
DTSTAMP:20260420T112620Z
SUMMARY:Devenez bénévoles pour la Fête nationale
DESCRIPTION:En&nbsp\;préparation&nbsp\;des&nbsp\;festivités&nbsp\;de la F
 ête&nbsp\;nationale\,&nbsp\;qui se&nbsp\;dérouleront&nbsp\;le&nbsp\;mard
 i&nbsp\;23&nbsp\;juin&nbsp\;prochain à&nbsp\;l’Espace&nbsp\;public\, la
  Ville de Mont-Tremblant est à la recherche de&nbsp\;bénévoles&nbsp\;mo
 tivé(e)s pour se&nbsp\;joindre&nbsp\;à&nbsp\;l’équipe&nbsp\;organisat
 rice.&nbsp\;\n\nhttps://vdmt.ca/evenements/appel-de-candidatures/devenez-b
 enevoles-pour-la-fete-nationale
LOCATION:Inscription en ligne
DTSTART;TZID=America/New_York:20260426T000000
DTEND;TZID=America/New_York:20260426T000000
END:VEVENT
BEGIN:VEVENT
UID:sabre-vobject-9d4ae678-ad7e-48f1-8d50-b9cd810c0a46
DTSTAMP:20260420T112620Z
SUMMARY:Devenez bénévoles pour la Fête nationale
DESCRIPTION:En&nbsp\;préparation&nbsp\;des&nbsp\;festivités&nbsp\;de la F
 ête&nbsp\;nationale\,&nbsp\;qui se&nbsp\;dérouleront&nbsp\;le&nbsp\;mard
 i&nbsp\;23&nbsp\;juin&nbsp\;prochain à&nbsp\;l’Espace&nbsp\;public\, la
  Ville de Mont-Tremblant est à la recherche de&nbsp\;bénévoles&nbsp\;mo
 tivé(e)s pour se&nbsp\;joindre&nbsp\;à&nbsp\;l’équipe&nbsp\;organisat
 rice.&nbsp\;\n\nhttps://vdmt.ca/evenements/appel-de-candidatures/devenez-b
 enevoles-pour-la-fete-nationale
LOCATION:Inscription en ligne
DTSTART;TZID=America/New_York:20260427T000000
DTEND;TZID=America/New_York:20260427T000000
END:VEVENT
BEGIN:VEVENT
UID:sabre-vobject-97cf3e47-6f56-4163-aad0-b5fe9661e2e0
DTSTAMP:20260420T112620Z
SUMMARY:Devenez bénévoles pour la Fête nationale
DESCRIPTION:En&nbsp\;préparation&nbsp\;des&nbsp\;festivités&nbsp\;de la F
 ête&nbsp\;nationale\,&nbsp\;qui se&nbsp\;dérouleront&nbsp\;le&nbsp\;mard
 i&nbsp\;23&nbsp\;juin&nbsp\;prochain à&nbsp\;l’Espace&nbsp\;public\, la
  Ville de Mont-Tremblant est à la recherche de&nbsp\;bénévoles&nbsp\;mo
 tivé(e)s pour se&nbsp\;joindre&nbsp\;à&nbsp\;l’équipe&nbsp\;organisat
 rice.&nbsp\;\n\nhttps://vdmt.ca/evenements/appel-de-candidatures/devenez-b
 enevoles-pour-la-fete-nationale
LOCATION:Inscription en ligne
DTSTART;TZID=America/New_York:20260428T000000
DTEND;TZID=America/New_York:20260428T000000
END:VEVENT
BEGIN:VEVENT
UID:sabre-vobject-9c0daaa8-2831-4723-ad1b-8eef758cf35f
DTSTAMP:20260420T112620Z
SUMMARY:Devenez bénévoles pour la Fête nationale
DESCRIPTION:En&nbsp\;préparation&nbsp\;des&nbsp\;festivités&nbsp\;de la F
 ête&nbsp\;nationale\,&nbsp\;qui se&nbsp\;dérouleront&nbsp\;le&nbsp\;mard
 i&nbsp\;23&nbsp\;juin&nbsp\;prochain à&nbsp\;l’Espace&nbsp\;public\, la
  Ville de Mont-Tremblant est à la recherche de&nbsp\;bénévoles&nbsp\;mo
 tivé(e)s pour se&nbsp\;joindre&nbsp\;à&nbsp\;l’équipe&nbsp\;organisat
 rice.&nbsp\;\n\nhttps://vdmt.ca/evenements/appel-de-candidatures/devenez-b
 enevoles-pour-la-fete-nationale
LOCATION:Inscription en ligne
DTSTART;TZID=America/New_York:20260429T000000
DTEND;TZID=America/New_York:20260429T000000
END:VEVENT
BEGIN:VEVENT
UID:sabre-vobject-90576642-7cd7-4611-97e9-14d808f750c9
DTSTAMP:20260420T112620Z
SUMMARY:Devenez bénévoles pour la Fête nationale
DESCRIPTION:En&nbsp\;préparation&nbsp\;des&nbsp\;festivités&nbsp\;de la F
 ête&nbsp\;nationale\,&nbsp\;qui se&nbsp\;dérouleront&nbsp\;le&nbsp\;mard
 i&nbsp\;23&nbsp\;juin&nbsp\;prochain à&nbsp\;l’Espace&nbsp\;public\, la
  Ville de Mont-Tremblant est à la recherche de&nbsp\;bénévoles&nbsp\;mo
 tivé(e)s pour se&nbsp\;joindre&nbsp\;à&nbsp\;l’équipe&nbsp\;organisat
 rice.&nbsp\;\n\nhttps://vdmt.ca/evenements/appel-de-candidatures/devenez-b
 enevoles-pour-la-fete-nationale
LOCATION:Inscription en ligne
DTSTART;TZID=America/New_York:20260430T000000
DTEND;TZID=America/New_York:20260430T000000
END:VEVENT
BEGIN:VEVENT
UID:sabre-vobject-a27627ba-51dd-43d3-84c9-52e3cf9f7501
DTSTAMP:20260420T112620Z
SUMMARY:Devenez bénévoles pour la Fête nationale
DESCRIPTION:En&nbsp\;préparation&nbsp\;des&nbsp\;festivités&nbsp\;de la F
 ête&nbsp\;nationale\,&nbsp\;qui se&nbsp\;dérouleront&nbsp\;le&nbsp\;mard
 i&nbsp\;23&nbsp\;juin&nbsp\;prochain à&nbsp\;l’Espace&nbsp\;public\, la
  Ville de Mont-Tremblant est à la recherche de&nbsp\;bénévoles&nbsp\;mo
 tivé(e)s pour se&nbsp\;joindre&nbsp\;à&nbsp\;l’équipe&nbsp\;organisat
 rice.&nbsp\;\n\nhttps://vdmt.ca/evenements/appel-de-candidatures/devenez-b
 enevoles-pour-la-fete-nationale
LOCATION:Inscription en ligne
DTSTART;TZID=America/New_York:20260501T000000
DTEND;TZID=America/New_York:20260501T000000
END:VEVENT
BEGIN:VEVENT
UID:sabre-vobject-26f20863-c260-4918-997a-957e5a88c6cb
DTSTAMP:20260420T112620Z
SUMMARY:Devenez bénévoles pour la Fête nationale
DESCRIPTION:En&nbsp\;préparation&nbsp\;des&nbsp\;festivités&nbsp\;de la F
 ête&nbsp\;nationale\,&nbsp\;qui se&nbsp\;dérouleront&nbsp\;le&nbsp\;mard
 i&nbsp\;23&nbsp\;juin&nbsp\;prochain à&nbsp\;l’Espace&nbsp\;public\, la
  Ville de Mont-Tremblant est à la recherche de&nbsp\;bénévoles&nbsp\;mo
 tivé(e)s pour se&nbsp\;joindre&nbsp\;à&nbsp\;l’équipe&nbsp\;organisat
 rice.&nbsp\;\n\nhttps://vdmt.ca/evenements/appel-de-candidatures/devenez-b
 enevoles-pour-la-fete-nationale
LOCATION:Inscription en ligne
DTSTART;TZID=America/New_York:20260502T000000
DTEND;TZID=America/New_York:20260502T000000
END:VEVENT
BEGIN:VEVENT
UID:sabre-vobject-a9cc8560-937c-43c3-a966-3f6ccd00cb99
DTSTAMP:20260420T112620Z
SUMMARY:Devenez bénévoles pour la Fête nationale
DESCRIPTION:En&nbsp\;préparation&nbsp\;des&nbsp\;festivités&nbsp\;de la F
 ête&nbsp\;nationale\,&nbsp\;qui se&nbsp\;dérouleront&nbsp\;le&nbsp\;mard
 i&nbsp\;23&nbsp\;juin&nbsp\;prochain à&nbsp\;l’Espace&nbsp\;public\, la
  Ville de Mont-Tremblant est à la recherche de&nbsp\;bénévoles&nbsp\;mo
 tivé(e)s pour se&nbsp\;joindre&nbsp\;à&nbsp\;l’équipe&nbsp\;organisat
 rice.&nbsp\;\n\nhttps://vdmt.ca/evenements/appel-de-candidatures/devenez-b
 enevoles-pour-la-fete-nationale
LOCATION:Inscription en ligne
DTSTART;TZID=America/New_York:20260503T000000
DTEND;TZID=America/New_York:20260503T000000
END:VEVENT
BEGIN:VEVENT
UID:sabre-vobject-93db42e7-1ead-4514-ae9c-6a7db443042f
DTSTAMP:20260420T112620Z
SUMMARY:Devenez bénévoles pour la Fête nationale
DESCRIPTION:En&nbsp\;préparation&nbsp\;des&nbsp\;festivités&nbsp\;de la F
 ête&nbsp\;nationale\,&nbsp\;qui se&nbsp\;dérouleront&nbsp\;le&nbsp\;mard
 i&nbsp\;23&nbsp\;juin&nbsp\;prochain à&nbsp\;l’Espace&nbsp\;public\, la
  Ville de Mont-Tremblant est à la recherche de&nbsp\;bénévoles&nbsp\;mo
 tivé(e)s pour se&nbsp\;joindre&nbsp\;à&nbsp\;l’équipe&nbsp\;organisat
 rice.&nbsp\;\n\nhttps://vdmt.ca/evenements/appel-de-candidatures/devenez-b
 enevoles-pour-la-fete-nationale
LOCATION:Inscription en ligne
DTSTART;TZID=America/New_York:20260504T000000
DTEND;TZID=America/New_York:20260504T000000
END:VEVENT
BEGIN:VEVENT
UID:sabre-vobject-f9d66ddc-925c-4cce-b0fb-1f36bdf153cc
DTSTAMP:20260420T112620Z
SUMMARY:Devenez bénévoles pour la Fête nationale
DESCRIPTION:En&nbsp\;préparation&nbsp\;des&nbsp\;festivités&nbsp\;de la F
 ête&nbsp\;nationale\,&nbsp\;qui se&nbsp\;dérouleront&nbsp\;le&nbsp\;mard
 i&nbsp\;23&nbsp\;juin&nbsp\;prochain à&nbsp\;l’Espace&nbsp\;public\, la
  Ville de Mont-Tremblant est à la recherche de&nbsp\;bénévoles&nbsp\;mo
 tivé(e)s pour se&nbsp\;joindre&nbsp\;à&nbsp\;l’équipe&nbsp\;organisat
 rice.&nbsp\;\n\nhttps://vdmt.ca/evenements/appel-de-candidatures/devenez-b
 enevoles-pour-la-fete-nationale
LOCATION:Inscription en ligne
DTSTART;TZID=America/New_York:20260505T000000
DTEND;TZID=America/New_York:20260505T000000
END:VEVENT
BEGIN:VEVENT
UID:sabre-vobject-6d924315-34fb-44b7-8312-431cba5613d0
DTSTAMP:20260420T112620Z
SUMMARY:Devenez bénévoles pour la Fête nationale
DESCRIPTION:En&nbsp\;préparation&nbsp\;des&nbsp\;festivités&nbsp\;de la F
 ête&nbsp\;nationale\,&nbsp\;qui se&nbsp\;dérouleront&nbsp\;le&nbsp\;mard
 i&nbsp\;23&nbsp\;juin&nbsp\;prochain à&nbsp\;l’Espace&nbsp\;public\, la
  Ville de Mont-Tremblant est à la recherche de&nbsp\;bénévoles&nbsp\;mo
 tivé(e)s pour se&nbsp\;joindre&nbsp\;à&nbsp\;l’équipe&nbsp\;organisat
 rice.&nbsp\;\n\nhttps://vdmt.ca/evenements/appel-de-candidatures/devenez-b
 enevoles-pour-la-fete-nationale
LOCATION:Inscription en ligne
DTSTART;TZID=America/New_York:20260506T000000
DTEND;TZID=America/New_York:20260506T000000
END:VEVENT
BEGIN:VEVENT
UID:sabre-vobject-d19f7157-c14f-4abe-a996-a319660c981c
DTSTAMP:20260420T112620Z
SUMMARY:Devenez bénévoles pour la Fête nationale
DESCRIPTION:En&nbsp\;préparation&nbsp\;des&nbsp\;festivités&nbsp\;de la F
 ête&nbsp\;nationale\,&nbsp\;qui se&nbsp\;dérouleront&nbsp\;le&nbsp\;mard
 i&nbsp\;23&nbsp\;juin&nbsp\;prochain à&nbsp\;l’Espace&nbsp\;public\, la
  Ville de Mont-Tremblant est à la recherche de&nbsp\;bénévoles&nbsp\;mo
 tivé(e)s pour se&nbsp\;joindre&nbsp\;à&nbsp\;l’équipe&nbsp\;organisat
 rice.&nbsp\;\n\nhttps://vdmt.ca/evenements/appel-de-candidatures/devenez-b
 enevoles-pour-la-fete-nationale
LOCATION:Inscription en ligne
DTSTART;TZID=America/New_York:20260507T000000
DTEND;TZID=America/New_York:20260507T000000
END:VEVENT
END:VCALENDAR
