BEGIN:VCALENDAR
VERSION:2.0
PRODID:-//Sabre//Sabre VObject 4.5.1//EN
CALSCALE:GREGORIAN
X-WR-TIMEZONE:America/New_York
BEGIN:VEVENT
UID:sabre-vobject-3d0816e4-5157-456e-82cf-7125fc4761b2
DTSTAMP:20260420T235232Z
SUMMARY:Heure du conte avec Tam et Léo
DESCRIPTION:\n\nhttps://vdmt.ca/evenements/bibliotheque/heure-du-conte-avec
 -tam-et-leo-2026-06-13
LOCATION:Bibliothèque Samuel-Ouimet (1145\, rue de Saint-Jovite)
DTSTART;TZID=America/New_York:20260613T103000
DTEND;TZID=America/New_York:20260613T113000
END:VEVENT
END:VCALENDAR
