BEGIN:VCALENDAR
VERSION:2.0
PRODID:-//Sabre//Sabre VObject 4.5.1//EN
CALSCALE:GREGORIAN
X-WR-TIMEZONE:America/New_York
BEGIN:VEVENT
UID:sabre-vobject-e54943c8-6341-4d01-b1fa-e695dc709026
DTSTAMP:20260421T001643Z
SUMMARY:Heure du conte avec Tam et Léo
DESCRIPTION:\n\nhttps://vdmt.ca/evenements/bibliotheque/heure-du-conte-avec
 -tam-et-leo-2026-05-09
LOCATION:Bibliothèque Samuel-Ouimet (1145\, rue de Saint-Jovite)
DTSTART;TZID=America/New_York:20260509T103000
DTEND;TZID=America/New_York:20260509T113000
END:VEVENT
END:VCALENDAR
