BEGIN:VCALENDAR
VERSION:2.0
PRODID:-//Sabre//Sabre VObject 4.5.1//EN
CALSCALE:GREGORIAN
X-WR-TIMEZONE:America/New_York
BEGIN:VEVENT
UID:sabre-vobject-bd7a497f-4ed2-49c4-b8b0-92b54f074588
DTSTAMP:20260421T015836Z
SUMMARY:Historiettes\, comptines et chansonnettes
DESCRIPTION:\n\nhttps://vdmt.ca/evenements/bibliotheque/historiettes-compti
 nes-et-chansonnettes-2026-06-13
LOCATION:Bibliothèque Samuel-Ouimet (1145\, rue de Saint-Jovite)
DTSTART;TZID=America/New_York:20260613T093000
DTEND;TZID=America/New_York:20260613T101500
END:VEVENT
END:VCALENDAR
