BEGIN:VCALENDAR
VERSION:2.0
PRODID:-//Sabre//Sabre VObject 4.5.1//EN
CALSCALE:GREGORIAN
X-WR-TIMEZONE:America/New_York
BEGIN:VEVENT
UID:sabre-vobject-13563c79-2258-4f09-9143-1ca1fe8fa59a
DTSTAMP:20260421T001045Z
SUMMARY:Historiettes\, comptines et chansonnettes
DESCRIPTION:\n\nhttps://vdmt.ca/evenements/bibliotheque/historiettes-compti
 nes-et-chansonnettes-2026-05-09
LOCATION:Bibliothèque Samuel-Ouimet (1145\, rue de Saint-Jovite)
DTSTART;TZID=America/New_York:20260509T093000
DTEND;TZID=America/New_York:20260509T101500
END:VEVENT
END:VCALENDAR
