BEGIN:VCALENDAR
VERSION:2.0
PRODID:-//Sabre//Sabre VObject 4.5.1//EN
CALSCALE:GREGORIAN
X-WR-TIMEZONE:America/New_York
BEGIN:VEVENT
UID:sabre-vobject-de9c1f68-dfd1-40b6-ba30-a2470044a2ef
DTSTAMP:20260421T122239Z
SUMMARY:Réservez votre place pour un voyage à Châtel!
DESCRIPTION:La Ville de Mont-Tremblant organise un voyage de groupe à Châ
 tel afin de permettre aux Tremblantois et Tremblantoises de découvrir leu
 r ville jumelle.\n\nhttps://vdmt.ca/evenements/chatel/reservez-votre-place
 -pour-un-voyage-a-chatel
LOCATION:Réservation par téléphone ou courriel
DTSTART;TZID=America/New_York:20260313T000000
DTEND;TZID=America/New_York:20260313T000000
END:VEVENT
BEGIN:VEVENT
UID:sabre-vobject-a88204c6-35e3-4849-b483-7be49da2fe3a
DTSTAMP:20260421T122239Z
SUMMARY:Réservez votre place pour un voyage à Châtel!
DESCRIPTION:La Ville de Mont-Tremblant organise un voyage de groupe à Châ
 tel afin de permettre aux Tremblantois et Tremblantoises de découvrir leu
 r ville jumelle.\n\nhttps://vdmt.ca/evenements/chatel/reservez-votre-place
 -pour-un-voyage-a-chatel
LOCATION:Réservation par téléphone ou courriel
DTSTART;TZID=America/New_York:20260314T000000
DTEND;TZID=America/New_York:20260314T000000
END:VEVENT
BEGIN:VEVENT
UID:sabre-vobject-cdc0baef-7513-42cf-ac3c-0a23316231a5
DTSTAMP:20260421T122239Z
SUMMARY:Réservez votre place pour un voyage à Châtel!
DESCRIPTION:La Ville de Mont-Tremblant organise un voyage de groupe à Châ
 tel afin de permettre aux Tremblantois et Tremblantoises de découvrir leu
 r ville jumelle.\n\nhttps://vdmt.ca/evenements/chatel/reservez-votre-place
 -pour-un-voyage-a-chatel
LOCATION:Réservation par téléphone ou courriel
DTSTART;TZID=America/New_York:20260315T000000
DTEND;TZID=America/New_York:20260315T000000
END:VEVENT
BEGIN:VEVENT
UID:sabre-vobject-28dfb355-b473-4f2d-b1a4-ec5a9cd55c24
DTSTAMP:20260421T122239Z
SUMMARY:Réservez votre place pour un voyage à Châtel!
DESCRIPTION:La Ville de Mont-Tremblant organise un voyage de groupe à Châ
 tel afin de permettre aux Tremblantois et Tremblantoises de découvrir leu
 r ville jumelle.\n\nhttps://vdmt.ca/evenements/chatel/reservez-votre-place
 -pour-un-voyage-a-chatel
LOCATION:Réservation par téléphone ou courriel
DTSTART;TZID=America/New_York:20260316T000000
DTEND;TZID=America/New_York:20260316T000000
END:VEVENT
BEGIN:VEVENT
UID:sabre-vobject-554a2a3d-ca8e-49a9-9431-d674507cae5f
DTSTAMP:20260421T122239Z
SUMMARY:Réservez votre place pour un voyage à Châtel!
DESCRIPTION:La Ville de Mont-Tremblant organise un voyage de groupe à Châ
 tel afin de permettre aux Tremblantois et Tremblantoises de découvrir leu
 r ville jumelle.\n\nhttps://vdmt.ca/evenements/chatel/reservez-votre-place
 -pour-un-voyage-a-chatel
LOCATION:Réservation par téléphone ou courriel
DTSTART;TZID=America/New_York:20260317T000000
DTEND;TZID=America/New_York:20260317T000000
END:VEVENT
BEGIN:VEVENT
UID:sabre-vobject-7de58eb8-c9eb-42cb-a0f1-a289f32231f4
DTSTAMP:20260421T122239Z
SUMMARY:Réservez votre place pour un voyage à Châtel!
DESCRIPTION:La Ville de Mont-Tremblant organise un voyage de groupe à Châ
 tel afin de permettre aux Tremblantois et Tremblantoises de découvrir leu
 r ville jumelle.\n\nhttps://vdmt.ca/evenements/chatel/reservez-votre-place
 -pour-un-voyage-a-chatel
LOCATION:Réservation par téléphone ou courriel
DTSTART;TZID=America/New_York:20260318T000000
DTEND;TZID=America/New_York:20260318T000000
END:VEVENT
BEGIN:VEVENT
UID:sabre-vobject-a975eabf-ad65-4502-b62f-232bb244d98a
DTSTAMP:20260421T122239Z
SUMMARY:Réservez votre place pour un voyage à Châtel!
DESCRIPTION:La Ville de Mont-Tremblant organise un voyage de groupe à Châ
 tel afin de permettre aux Tremblantois et Tremblantoises de découvrir leu
 r ville jumelle.\n\nhttps://vdmt.ca/evenements/chatel/reservez-votre-place
 -pour-un-voyage-a-chatel
LOCATION:Réservation par téléphone ou courriel
DTSTART;TZID=America/New_York:20260319T000000
DTEND;TZID=America/New_York:20260319T000000
END:VEVENT
BEGIN:VEVENT
UID:sabre-vobject-2a5ac9a7-bd12-491c-a071-50889df3800a
DTSTAMP:20260421T122239Z
SUMMARY:Réservez votre place pour un voyage à Châtel!
DESCRIPTION:La Ville de Mont-Tremblant organise un voyage de groupe à Châ
 tel afin de permettre aux Tremblantois et Tremblantoises de découvrir leu
 r ville jumelle.\n\nhttps://vdmt.ca/evenements/chatel/reservez-votre-place
 -pour-un-voyage-a-chatel
LOCATION:Réservation par téléphone ou courriel
DTSTART;TZID=America/New_York:20260320T000000
DTEND;TZID=America/New_York:20260320T000000
END:VEVENT
BEGIN:VEVENT
UID:sabre-vobject-ba5f452e-e5cc-4e17-8327-a2fff4f7eda4
DTSTAMP:20260421T122239Z
SUMMARY:Réservez votre place pour un voyage à Châtel!
DESCRIPTION:La Ville de Mont-Tremblant organise un voyage de groupe à Châ
 tel afin de permettre aux Tremblantois et Tremblantoises de découvrir leu
 r ville jumelle.\n\nhttps://vdmt.ca/evenements/chatel/reservez-votre-place
 -pour-un-voyage-a-chatel
LOCATION:Réservation par téléphone ou courriel
DTSTART;TZID=America/New_York:20260321T000000
DTEND;TZID=America/New_York:20260321T000000
END:VEVENT
BEGIN:VEVENT
UID:sabre-vobject-8eeea650-8dcb-4264-9d9a-5c57020b55fb
DTSTAMP:20260421T122239Z
SUMMARY:Réservez votre place pour un voyage à Châtel!
DESCRIPTION:La Ville de Mont-Tremblant organise un voyage de groupe à Châ
 tel afin de permettre aux Tremblantois et Tremblantoises de découvrir leu
 r ville jumelle.\n\nhttps://vdmt.ca/evenements/chatel/reservez-votre-place
 -pour-un-voyage-a-chatel
LOCATION:Réservation par téléphone ou courriel
DTSTART;TZID=America/New_York:20260322T000000
DTEND;TZID=America/New_York:20260322T000000
END:VEVENT
BEGIN:VEVENT
UID:sabre-vobject-5b98a9b3-e608-4091-8d94-79c15fcaae83
DTSTAMP:20260421T122239Z
SUMMARY:Réservez votre place pour un voyage à Châtel!
DESCRIPTION:La Ville de Mont-Tremblant organise un voyage de groupe à Châ
 tel afin de permettre aux Tremblantois et Tremblantoises de découvrir leu
 r ville jumelle.\n\nhttps://vdmt.ca/evenements/chatel/reservez-votre-place
 -pour-un-voyage-a-chatel
LOCATION:Réservation par téléphone ou courriel
DTSTART;TZID=America/New_York:20260323T000000
DTEND;TZID=America/New_York:20260323T000000
END:VEVENT
BEGIN:VEVENT
UID:sabre-vobject-492a486e-d09b-48c3-89bb-5117d3b652a9
DTSTAMP:20260421T122239Z
SUMMARY:Réservez votre place pour un voyage à Châtel!
DESCRIPTION:La Ville de Mont-Tremblant organise un voyage de groupe à Châ
 tel afin de permettre aux Tremblantois et Tremblantoises de découvrir leu
 r ville jumelle.\n\nhttps://vdmt.ca/evenements/chatel/reservez-votre-place
 -pour-un-voyage-a-chatel
LOCATION:Réservation par téléphone ou courriel
DTSTART;TZID=America/New_York:20260324T000000
DTEND;TZID=America/New_York:20260324T000000
END:VEVENT
BEGIN:VEVENT
UID:sabre-vobject-1ae7a0b6-6f17-4253-8bb6-c9ac36c88b3a
DTSTAMP:20260421T122239Z
SUMMARY:Réservez votre place pour un voyage à Châtel!
DESCRIPTION:La Ville de Mont-Tremblant organise un voyage de groupe à Châ
 tel afin de permettre aux Tremblantois et Tremblantoises de découvrir leu
 r ville jumelle.\n\nhttps://vdmt.ca/evenements/chatel/reservez-votre-place
 -pour-un-voyage-a-chatel
LOCATION:Réservation par téléphone ou courriel
DTSTART;TZID=America/New_York:20260325T000000
DTEND;TZID=America/New_York:20260325T000000
END:VEVENT
BEGIN:VEVENT
UID:sabre-vobject-290d9e10-77d5-4cb6-aaba-e26019513eb4
DTSTAMP:20260421T122239Z
SUMMARY:Réservez votre place pour un voyage à Châtel!
DESCRIPTION:La Ville de Mont-Tremblant organise un voyage de groupe à Châ
 tel afin de permettre aux Tremblantois et Tremblantoises de découvrir leu
 r ville jumelle.\n\nhttps://vdmt.ca/evenements/chatel/reservez-votre-place
 -pour-un-voyage-a-chatel
LOCATION:Réservation par téléphone ou courriel
DTSTART;TZID=America/New_York:20260326T000000
DTEND;TZID=America/New_York:20260326T000000
END:VEVENT
BEGIN:VEVENT
UID:sabre-vobject-fc06a69d-c50d-4782-abd4-33a9b931c084
DTSTAMP:20260421T122239Z
SUMMARY:Réservez votre place pour un voyage à Châtel!
DESCRIPTION:La Ville de Mont-Tremblant organise un voyage de groupe à Châ
 tel afin de permettre aux Tremblantois et Tremblantoises de découvrir leu
 r ville jumelle.\n\nhttps://vdmt.ca/evenements/chatel/reservez-votre-place
 -pour-un-voyage-a-chatel
LOCATION:Réservation par téléphone ou courriel
DTSTART;TZID=America/New_York:20260327T000000
DTEND;TZID=America/New_York:20260327T000000
END:VEVENT
BEGIN:VEVENT
UID:sabre-vobject-25cd800e-a105-4509-867a-9de04f1cbcb6
DTSTAMP:20260421T122239Z
SUMMARY:Réservez votre place pour un voyage à Châtel!
DESCRIPTION:La Ville de Mont-Tremblant organise un voyage de groupe à Châ
 tel afin de permettre aux Tremblantois et Tremblantoises de découvrir leu
 r ville jumelle.\n\nhttps://vdmt.ca/evenements/chatel/reservez-votre-place
 -pour-un-voyage-a-chatel
LOCATION:Réservation par téléphone ou courriel
DTSTART;TZID=America/New_York:20260328T000000
DTEND;TZID=America/New_York:20260328T000000
END:VEVENT
BEGIN:VEVENT
UID:sabre-vobject-f3b3637c-88c3-407e-8c5c-b9bcd71d6403
DTSTAMP:20260421T122239Z
SUMMARY:Réservez votre place pour un voyage à Châtel!
DESCRIPTION:La Ville de Mont-Tremblant organise un voyage de groupe à Châ
 tel afin de permettre aux Tremblantois et Tremblantoises de découvrir leu
 r ville jumelle.\n\nhttps://vdmt.ca/evenements/chatel/reservez-votre-place
 -pour-un-voyage-a-chatel
LOCATION:Réservation par téléphone ou courriel
DTSTART;TZID=America/New_York:20260329T000000
DTEND;TZID=America/New_York:20260329T000000
END:VEVENT
BEGIN:VEVENT
UID:sabre-vobject-aa9ef668-c05a-4b7a-a467-b2f8be47cb48
DTSTAMP:20260421T122239Z
SUMMARY:Réservez votre place pour un voyage à Châtel!
DESCRIPTION:La Ville de Mont-Tremblant organise un voyage de groupe à Châ
 tel afin de permettre aux Tremblantois et Tremblantoises de découvrir leu
 r ville jumelle.\n\nhttps://vdmt.ca/evenements/chatel/reservez-votre-place
 -pour-un-voyage-a-chatel
LOCATION:Réservation par téléphone ou courriel
DTSTART;TZID=America/New_York:20260330T000000
DTEND;TZID=America/New_York:20260330T000000
END:VEVENT
BEGIN:VEVENT
UID:sabre-vobject-2e772b4b-1e19-47ab-8ba7-d780a16a4f86
DTSTAMP:20260421T122239Z
SUMMARY:Réservez votre place pour un voyage à Châtel!
DESCRIPTION:La Ville de Mont-Tremblant organise un voyage de groupe à Châ
 tel afin de permettre aux Tremblantois et Tremblantoises de découvrir leu
 r ville jumelle.\n\nhttps://vdmt.ca/evenements/chatel/reservez-votre-place
 -pour-un-voyage-a-chatel
LOCATION:Réservation par téléphone ou courriel
DTSTART;TZID=America/New_York:20260331T000000
DTEND;TZID=America/New_York:20260331T000000
END:VEVENT
BEGIN:VEVENT
UID:sabre-vobject-b2aa3063-5dfe-4ebd-8855-90c6c46b1e0f
DTSTAMP:20260421T122239Z
SUMMARY:Réservez votre place pour un voyage à Châtel!
DESCRIPTION:La Ville de Mont-Tremblant organise un voyage de groupe à Châ
 tel afin de permettre aux Tremblantois et Tremblantoises de découvrir leu
 r ville jumelle.\n\nhttps://vdmt.ca/evenements/chatel/reservez-votre-place
 -pour-un-voyage-a-chatel
LOCATION:Réservation par téléphone ou courriel
DTSTART;TZID=America/New_York:20260401T000000
DTEND;TZID=America/New_York:20260401T000000
END:VEVENT
BEGIN:VEVENT
UID:sabre-vobject-e49dc7ce-3c46-4824-9599-6110764b9e50
DTSTAMP:20260421T122239Z
SUMMARY:Réservez votre place pour un voyage à Châtel!
DESCRIPTION:La Ville de Mont-Tremblant organise un voyage de groupe à Châ
 tel afin de permettre aux Tremblantois et Tremblantoises de découvrir leu
 r ville jumelle.\n\nhttps://vdmt.ca/evenements/chatel/reservez-votre-place
 -pour-un-voyage-a-chatel
LOCATION:Réservation par téléphone ou courriel
DTSTART;TZID=America/New_York:20260402T000000
DTEND;TZID=America/New_York:20260402T000000
END:VEVENT
BEGIN:VEVENT
UID:sabre-vobject-91430a9b-b1c7-4d4f-a3a1-0d0b0baa06d6
DTSTAMP:20260421T122239Z
SUMMARY:Réservez votre place pour un voyage à Châtel!
DESCRIPTION:La Ville de Mont-Tremblant organise un voyage de groupe à Châ
 tel afin de permettre aux Tremblantois et Tremblantoises de découvrir leu
 r ville jumelle.\n\nhttps://vdmt.ca/evenements/chatel/reservez-votre-place
 -pour-un-voyage-a-chatel
LOCATION:Réservation par téléphone ou courriel
DTSTART;TZID=America/New_York:20260403T000000
DTEND;TZID=America/New_York:20260403T000000
END:VEVENT
BEGIN:VEVENT
UID:sabre-vobject-74fa503a-6e77-46a9-8f11-fdc1bf20359a
DTSTAMP:20260421T122239Z
SUMMARY:Réservez votre place pour un voyage à Châtel!
DESCRIPTION:La Ville de Mont-Tremblant organise un voyage de groupe à Châ
 tel afin de permettre aux Tremblantois et Tremblantoises de découvrir leu
 r ville jumelle.\n\nhttps://vdmt.ca/evenements/chatel/reservez-votre-place
 -pour-un-voyage-a-chatel
LOCATION:Réservation par téléphone ou courriel
DTSTART;TZID=America/New_York:20260404T000000
DTEND;TZID=America/New_York:20260404T000000
END:VEVENT
BEGIN:VEVENT
UID:sabre-vobject-a20b7581-d46e-4dbc-80c0-d4bf25c04481
DTSTAMP:20260421T122239Z
SUMMARY:Réservez votre place pour un voyage à Châtel!
DESCRIPTION:La Ville de Mont-Tremblant organise un voyage de groupe à Châ
 tel afin de permettre aux Tremblantois et Tremblantoises de découvrir leu
 r ville jumelle.\n\nhttps://vdmt.ca/evenements/chatel/reservez-votre-place
 -pour-un-voyage-a-chatel
LOCATION:Réservation par téléphone ou courriel
DTSTART;TZID=America/New_York:20260405T000000
DTEND;TZID=America/New_York:20260405T000000
END:VEVENT
BEGIN:VEVENT
UID:sabre-vobject-838b90f5-9eaf-4a83-a47d-9f8f105d6e03
DTSTAMP:20260421T122239Z
SUMMARY:Réservez votre place pour un voyage à Châtel!
DESCRIPTION:La Ville de Mont-Tremblant organise un voyage de groupe à Châ
 tel afin de permettre aux Tremblantois et Tremblantoises de découvrir leu
 r ville jumelle.\n\nhttps://vdmt.ca/evenements/chatel/reservez-votre-place
 -pour-un-voyage-a-chatel
LOCATION:Réservation par téléphone ou courriel
DTSTART;TZID=America/New_York:20260406T000000
DTEND;TZID=America/New_York:20260406T000000
END:VEVENT
BEGIN:VEVENT
UID:sabre-vobject-87f1516e-fcae-4997-b8c6-546952e3c6b2
DTSTAMP:20260421T122239Z
SUMMARY:Réservez votre place pour un voyage à Châtel!
DESCRIPTION:La Ville de Mont-Tremblant organise un voyage de groupe à Châ
 tel afin de permettre aux Tremblantois et Tremblantoises de découvrir leu
 r ville jumelle.\n\nhttps://vdmt.ca/evenements/chatel/reservez-votre-place
 -pour-un-voyage-a-chatel
LOCATION:Réservation par téléphone ou courriel
DTSTART;TZID=America/New_York:20260407T000000
DTEND;TZID=America/New_York:20260407T000000
END:VEVENT
BEGIN:VEVENT
UID:sabre-vobject-2d88dffd-ef19-4788-9ecb-66a9b1d41916
DTSTAMP:20260421T122239Z
SUMMARY:Réservez votre place pour un voyage à Châtel!
DESCRIPTION:La Ville de Mont-Tremblant organise un voyage de groupe à Châ
 tel afin de permettre aux Tremblantois et Tremblantoises de découvrir leu
 r ville jumelle.\n\nhttps://vdmt.ca/evenements/chatel/reservez-votre-place
 -pour-un-voyage-a-chatel
LOCATION:Réservation par téléphone ou courriel
DTSTART;TZID=America/New_York:20260408T000000
DTEND;TZID=America/New_York:20260408T000000
END:VEVENT
BEGIN:VEVENT
UID:sabre-vobject-66669f93-108f-48ab-9451-467fd690783e
DTSTAMP:20260421T122239Z
SUMMARY:Réservez votre place pour un voyage à Châtel!
DESCRIPTION:La Ville de Mont-Tremblant organise un voyage de groupe à Châ
 tel afin de permettre aux Tremblantois et Tremblantoises de découvrir leu
 r ville jumelle.\n\nhttps://vdmt.ca/evenements/chatel/reservez-votre-place
 -pour-un-voyage-a-chatel
LOCATION:Réservation par téléphone ou courriel
DTSTART;TZID=America/New_York:20260409T000000
DTEND;TZID=America/New_York:20260409T000000
END:VEVENT
BEGIN:VEVENT
UID:sabre-vobject-ee538b9e-bc95-4d65-a708-bcff938d8317
DTSTAMP:20260421T122239Z
SUMMARY:Réservez votre place pour un voyage à Châtel!
DESCRIPTION:La Ville de Mont-Tremblant organise un voyage de groupe à Châ
 tel afin de permettre aux Tremblantois et Tremblantoises de découvrir leu
 r ville jumelle.\n\nhttps://vdmt.ca/evenements/chatel/reservez-votre-place
 -pour-un-voyage-a-chatel
LOCATION:Réservation par téléphone ou courriel
DTSTART;TZID=America/New_York:20260410T000000
DTEND;TZID=America/New_York:20260410T000000
END:VEVENT
BEGIN:VEVENT
UID:sabre-vobject-b482deeb-1f99-498f-9bee-fd4c213ff978
DTSTAMP:20260421T122239Z
SUMMARY:Réservez votre place pour un voyage à Châtel!
DESCRIPTION:La Ville de Mont-Tremblant organise un voyage de groupe à Châ
 tel afin de permettre aux Tremblantois et Tremblantoises de découvrir leu
 r ville jumelle.\n\nhttps://vdmt.ca/evenements/chatel/reservez-votre-place
 -pour-un-voyage-a-chatel
LOCATION:Réservation par téléphone ou courriel
DTSTART;TZID=America/New_York:20260411T000000
DTEND;TZID=America/New_York:20260411T000000
END:VEVENT
BEGIN:VEVENT
UID:sabre-vobject-cae0f1e6-a519-4720-9b5e-e140939d9f47
DTSTAMP:20260421T122239Z
SUMMARY:Réservez votre place pour un voyage à Châtel!
DESCRIPTION:La Ville de Mont-Tremblant organise un voyage de groupe à Châ
 tel afin de permettre aux Tremblantois et Tremblantoises de découvrir leu
 r ville jumelle.\n\nhttps://vdmt.ca/evenements/chatel/reservez-votre-place
 -pour-un-voyage-a-chatel
LOCATION:Réservation par téléphone ou courriel
DTSTART;TZID=America/New_York:20260412T000000
DTEND;TZID=America/New_York:20260412T000000
END:VEVENT
BEGIN:VEVENT
UID:sabre-vobject-53394d6a-0d7d-4c33-a233-9e2f13d721db
DTSTAMP:20260421T122239Z
SUMMARY:Réservez votre place pour un voyage à Châtel!
DESCRIPTION:La Ville de Mont-Tremblant organise un voyage de groupe à Châ
 tel afin de permettre aux Tremblantois et Tremblantoises de découvrir leu
 r ville jumelle.\n\nhttps://vdmt.ca/evenements/chatel/reservez-votre-place
 -pour-un-voyage-a-chatel
LOCATION:Réservation par téléphone ou courriel
DTSTART;TZID=America/New_York:20260413T000000
DTEND;TZID=America/New_York:20260413T000000
END:VEVENT
BEGIN:VEVENT
UID:sabre-vobject-06ad2667-b586-48be-a9e0-e9516f265d08
DTSTAMP:20260421T122239Z
SUMMARY:Réservez votre place pour un voyage à Châtel!
DESCRIPTION:La Ville de Mont-Tremblant organise un voyage de groupe à Châ
 tel afin de permettre aux Tremblantois et Tremblantoises de découvrir leu
 r ville jumelle.\n\nhttps://vdmt.ca/evenements/chatel/reservez-votre-place
 -pour-un-voyage-a-chatel
LOCATION:Réservation par téléphone ou courriel
DTSTART;TZID=America/New_York:20260414T000000
DTEND;TZID=America/New_York:20260414T000000
END:VEVENT
BEGIN:VEVENT
UID:sabre-vobject-3ac668b9-791b-413e-9e8c-bd4944c063e6
DTSTAMP:20260421T122239Z
SUMMARY:Réservez votre place pour un voyage à Châtel!
DESCRIPTION:La Ville de Mont-Tremblant organise un voyage de groupe à Châ
 tel afin de permettre aux Tremblantois et Tremblantoises de découvrir leu
 r ville jumelle.\n\nhttps://vdmt.ca/evenements/chatel/reservez-votre-place
 -pour-un-voyage-a-chatel
LOCATION:Réservation par téléphone ou courriel
DTSTART;TZID=America/New_York:20260415T000000
DTEND;TZID=America/New_York:20260415T000000
END:VEVENT
BEGIN:VEVENT
UID:sabre-vobject-4684617b-75c9-4fa5-94cd-393966154664
DTSTAMP:20260421T122239Z
SUMMARY:Réservez votre place pour un voyage à Châtel!
DESCRIPTION:La Ville de Mont-Tremblant organise un voyage de groupe à Châ
 tel afin de permettre aux Tremblantois et Tremblantoises de découvrir leu
 r ville jumelle.\n\nhttps://vdmt.ca/evenements/chatel/reservez-votre-place
 -pour-un-voyage-a-chatel
LOCATION:Réservation par téléphone ou courriel
DTSTART;TZID=America/New_York:20260416T000000
DTEND;TZID=America/New_York:20260416T000000
END:VEVENT
BEGIN:VEVENT
UID:sabre-vobject-edb4cbfb-652f-436d-912d-91ad9545848d
DTSTAMP:20260421T122239Z
SUMMARY:Réservez votre place pour un voyage à Châtel!
DESCRIPTION:La Ville de Mont-Tremblant organise un voyage de groupe à Châ
 tel afin de permettre aux Tremblantois et Tremblantoises de découvrir leu
 r ville jumelle.\n\nhttps://vdmt.ca/evenements/chatel/reservez-votre-place
 -pour-un-voyage-a-chatel
LOCATION:Réservation par téléphone ou courriel
DTSTART;TZID=America/New_York:20260417T000000
DTEND;TZID=America/New_York:20260417T000000
END:VEVENT
BEGIN:VEVENT
UID:sabre-vobject-30d624bf-4b4b-4675-a608-62f9d73f45da
DTSTAMP:20260421T122239Z
SUMMARY:Réservez votre place pour un voyage à Châtel!
DESCRIPTION:La Ville de Mont-Tremblant organise un voyage de groupe à Châ
 tel afin de permettre aux Tremblantois et Tremblantoises de découvrir leu
 r ville jumelle.\n\nhttps://vdmt.ca/evenements/chatel/reservez-votre-place
 -pour-un-voyage-a-chatel
LOCATION:Réservation par téléphone ou courriel
DTSTART;TZID=America/New_York:20260418T000000
DTEND;TZID=America/New_York:20260418T000000
END:VEVENT
BEGIN:VEVENT
UID:sabre-vobject-5497744c-4ec4-4569-b8bc-ff2f6eed4bd5
DTSTAMP:20260421T122239Z
SUMMARY:Réservez votre place pour un voyage à Châtel!
DESCRIPTION:La Ville de Mont-Tremblant organise un voyage de groupe à Châ
 tel afin de permettre aux Tremblantois et Tremblantoises de découvrir leu
 r ville jumelle.\n\nhttps://vdmt.ca/evenements/chatel/reservez-votre-place
 -pour-un-voyage-a-chatel
LOCATION:Réservation par téléphone ou courriel
DTSTART;TZID=America/New_York:20260419T000000
DTEND;TZID=America/New_York:20260419T000000
END:VEVENT
BEGIN:VEVENT
UID:sabre-vobject-9f4531b6-3cab-4b3d-94fa-5361ba36dace
DTSTAMP:20260421T122239Z
SUMMARY:Réservez votre place pour un voyage à Châtel!
DESCRIPTION:La Ville de Mont-Tremblant organise un voyage de groupe à Châ
 tel afin de permettre aux Tremblantois et Tremblantoises de découvrir leu
 r ville jumelle.\n\nhttps://vdmt.ca/evenements/chatel/reservez-votre-place
 -pour-un-voyage-a-chatel
LOCATION:Réservation par téléphone ou courriel
DTSTART;TZID=America/New_York:20260420T000000
DTEND;TZID=America/New_York:20260420T000000
END:VEVENT
BEGIN:VEVENT
UID:sabre-vobject-7fb94708-e2e4-43ad-abed-f36bb7707e79
DTSTAMP:20260421T122239Z
SUMMARY:Réservez votre place pour un voyage à Châtel!
DESCRIPTION:La Ville de Mont-Tremblant organise un voyage de groupe à Châ
 tel afin de permettre aux Tremblantois et Tremblantoises de découvrir leu
 r ville jumelle.\n\nhttps://vdmt.ca/evenements/chatel/reservez-votre-place
 -pour-un-voyage-a-chatel
LOCATION:Réservation par téléphone ou courriel
DTSTART;TZID=America/New_York:20260421T000000
DTEND;TZID=America/New_York:20260421T000000
END:VEVENT
BEGIN:VEVENT
UID:sabre-vobject-290a856c-8910-4166-a6be-0c9888d4a142
DTSTAMP:20260421T122239Z
SUMMARY:Réservez votre place pour un voyage à Châtel!
DESCRIPTION:La Ville de Mont-Tremblant organise un voyage de groupe à Châ
 tel afin de permettre aux Tremblantois et Tremblantoises de découvrir leu
 r ville jumelle.\n\nhttps://vdmt.ca/evenements/chatel/reservez-votre-place
 -pour-un-voyage-a-chatel
LOCATION:Réservation par téléphone ou courriel
DTSTART;TZID=America/New_York:20260422T000000
DTEND;TZID=America/New_York:20260422T000000
END:VEVENT
BEGIN:VEVENT
UID:sabre-vobject-8d2054a9-ef85-401b-bdc0-a2608247d103
DTSTAMP:20260421T122239Z
SUMMARY:Réservez votre place pour un voyage à Châtel!
DESCRIPTION:La Ville de Mont-Tremblant organise un voyage de groupe à Châ
 tel afin de permettre aux Tremblantois et Tremblantoises de découvrir leu
 r ville jumelle.\n\nhttps://vdmt.ca/evenements/chatel/reservez-votre-place
 -pour-un-voyage-a-chatel
LOCATION:Réservation par téléphone ou courriel
DTSTART;TZID=America/New_York:20260423T000000
DTEND;TZID=America/New_York:20260423T000000
END:VEVENT
BEGIN:VEVENT
UID:sabre-vobject-254e121b-30cc-4a64-9077-020cc116cfae
DTSTAMP:20260421T122239Z
SUMMARY:Réservez votre place pour un voyage à Châtel!
DESCRIPTION:La Ville de Mont-Tremblant organise un voyage de groupe à Châ
 tel afin de permettre aux Tremblantois et Tremblantoises de découvrir leu
 r ville jumelle.\n\nhttps://vdmt.ca/evenements/chatel/reservez-votre-place
 -pour-un-voyage-a-chatel
LOCATION:Réservation par téléphone ou courriel
DTSTART;TZID=America/New_York:20260424T000000
DTEND;TZID=America/New_York:20260424T000000
END:VEVENT
BEGIN:VEVENT
UID:sabre-vobject-4ba07be6-034e-4247-9b02-f65be0c0a4e0
DTSTAMP:20260421T122239Z
SUMMARY:Réservez votre place pour un voyage à Châtel!
DESCRIPTION:La Ville de Mont-Tremblant organise un voyage de groupe à Châ
 tel afin de permettre aux Tremblantois et Tremblantoises de découvrir leu
 r ville jumelle.\n\nhttps://vdmt.ca/evenements/chatel/reservez-votre-place
 -pour-un-voyage-a-chatel
LOCATION:Réservation par téléphone ou courriel
DTSTART;TZID=America/New_York:20260425T000000
DTEND;TZID=America/New_York:20260425T000000
END:VEVENT
BEGIN:VEVENT
UID:sabre-vobject-e92f2c03-1897-4291-886a-983fbbae8462
DTSTAMP:20260421T122239Z
SUMMARY:Réservez votre place pour un voyage à Châtel!
DESCRIPTION:La Ville de Mont-Tremblant organise un voyage de groupe à Châ
 tel afin de permettre aux Tremblantois et Tremblantoises de découvrir leu
 r ville jumelle.\n\nhttps://vdmt.ca/evenements/chatel/reservez-votre-place
 -pour-un-voyage-a-chatel
LOCATION:Réservation par téléphone ou courriel
DTSTART;TZID=America/New_York:20260426T000000
DTEND;TZID=America/New_York:20260426T000000
END:VEVENT
BEGIN:VEVENT
UID:sabre-vobject-1cfe7f29-6a25-432b-a5c7-762a0837e98b
DTSTAMP:20260421T122239Z
SUMMARY:Réservez votre place pour un voyage à Châtel!
DESCRIPTION:La Ville de Mont-Tremblant organise un voyage de groupe à Châ
 tel afin de permettre aux Tremblantois et Tremblantoises de découvrir leu
 r ville jumelle.\n\nhttps://vdmt.ca/evenements/chatel/reservez-votre-place
 -pour-un-voyage-a-chatel
LOCATION:Réservation par téléphone ou courriel
DTSTART;TZID=America/New_York:20260427T000000
DTEND;TZID=America/New_York:20260427T000000
END:VEVENT
BEGIN:VEVENT
UID:sabre-vobject-c61401c0-b4df-4872-a359-c52b1d8c0c8c
DTSTAMP:20260421T122239Z
SUMMARY:Réservez votre place pour un voyage à Châtel!
DESCRIPTION:La Ville de Mont-Tremblant organise un voyage de groupe à Châ
 tel afin de permettre aux Tremblantois et Tremblantoises de découvrir leu
 r ville jumelle.\n\nhttps://vdmt.ca/evenements/chatel/reservez-votre-place
 -pour-un-voyage-a-chatel
LOCATION:Réservation par téléphone ou courriel
DTSTART;TZID=America/New_York:20260428T000000
DTEND;TZID=America/New_York:20260428T000000
END:VEVENT
BEGIN:VEVENT
UID:sabre-vobject-14dfae2a-11e7-442b-9c12-1949aa9d966c
DTSTAMP:20260421T122239Z
SUMMARY:Réservez votre place pour un voyage à Châtel!
DESCRIPTION:La Ville de Mont-Tremblant organise un voyage de groupe à Châ
 tel afin de permettre aux Tremblantois et Tremblantoises de découvrir leu
 r ville jumelle.\n\nhttps://vdmt.ca/evenements/chatel/reservez-votre-place
 -pour-un-voyage-a-chatel
LOCATION:Réservation par téléphone ou courriel
DTSTART;TZID=America/New_York:20260429T000000
DTEND;TZID=America/New_York:20260429T000000
END:VEVENT
BEGIN:VEVENT
UID:sabre-vobject-6463d674-45c3-4919-b607-536d667a7278
DTSTAMP:20260421T122239Z
SUMMARY:Réservez votre place pour un voyage à Châtel!
DESCRIPTION:La Ville de Mont-Tremblant organise un voyage de groupe à Châ
 tel afin de permettre aux Tremblantois et Tremblantoises de découvrir leu
 r ville jumelle.\n\nhttps://vdmt.ca/evenements/chatel/reservez-votre-place
 -pour-un-voyage-a-chatel
LOCATION:Réservation par téléphone ou courriel
DTSTART;TZID=America/New_York:20260430T000000
DTEND;TZID=America/New_York:20260430T000000
END:VEVENT
BEGIN:VEVENT
UID:sabre-vobject-58ac4f82-dda8-45c6-b40f-b06505e3e42f
DTSTAMP:20260421T122239Z
SUMMARY:Réservez votre place pour un voyage à Châtel!
DESCRIPTION:La Ville de Mont-Tremblant organise un voyage de groupe à Châ
 tel afin de permettre aux Tremblantois et Tremblantoises de découvrir leu
 r ville jumelle.\n\nhttps://vdmt.ca/evenements/chatel/reservez-votre-place
 -pour-un-voyage-a-chatel
LOCATION:Réservation par téléphone ou courriel
DTSTART;TZID=America/New_York:20260501T000000
DTEND;TZID=America/New_York:20260501T000000
END:VEVENT
END:VCALENDAR
