BEGIN:VCALENDAR
VERSION:2.0
PRODID:-//Sabre//Sabre VObject 4.5.1//EN
CALSCALE:GREGORIAN
X-WR-TIMEZONE:America/New_York
BEGIN:VEVENT
UID:sabre-vobject-d46f2997-80ed-4206-89c7-7dd56f32d001
DTSTAMP:20260420T113942Z
SUMMARY:Requalification premiers soins général
DESCRIPTION:Ce cours vous permet d'approfondir de nombreux sujets et de pra
 tiquer les traitements à prodiguer en cas d'urgence.\n\nhttps://vdmt.ca/e
 venements/cours-et-formation/formation-requalification-premiers-soins-gene
 ral
LOCATION:Complexe aquatique (635\, rue Cadieux)
DTSTART;TZID=America/New_York:20260426T090000
DTEND;TZID=America/New_York:20260426T170000
END:VEVENT
END:VCALENDAR
