BEGIN:VCALENDAR
VERSION:2.0
PRODID:-//Sabre//Sabre VObject 4.5.1//EN
CALSCALE:GREGORIAN
X-WR-TIMEZONE:America/New_York
BEGIN:VEVENT
UID:sabre-vobject-0177e458-b5b7-429c-b289-146f53a9dfcd
DTSTAMP:20260420T120211Z
SUMMARY:Requalification sauveteur/sauveteuse national(e)
DESCRIPTION:\n\nhttps://vdmt.ca/evenements/cours-et-formation/requalificati
 on-sauveteur-sauveteuse-nationale
LOCATION:Complexe aquatique (635\, rue Cadieux)
DTSTART;TZID=America/New_York:20260425T130000
DTEND;TZID=America/New_York:20260425T170000
END:VEVENT
END:VCALENDAR
