BEGIN:VCALENDAR
VERSION:2.0
PRODID:-//Sabre//Sabre VObject 4.5.1//EN
CALSCALE:GREGORIAN
X-WR-TIMEZONE:America/New_York
BEGIN:VEVENT
UID:sabre-vobject-d19aa078-45cd-40d0-bb48-8d876260cda7
DTSTAMP:20260420T153935Z
SUMMARY:Le Grand nettoyage
DESCRIPTION:Prenez part au Grand nettoyage : un événement annuel qui vise
  à ramasser les déchets laissés durant l’hiver dans les rues\, les pa
 rcs et les rives des secteurs ciblés.\n\nhttps://vdmt.ca/evenements/activ
 ite-speciale/le-grand-nettoyage-1
LOCATION:Point de rencontre : stationnement de l'hôtel de ville
DTSTART;TZID=America/New_York:20260606T083000
DTEND;TZID=America/New_York:20260606T120000
END:VEVENT
END:VCALENDAR
