BEGIN:VCALENDAR
VERSION:2.0
PRODID:-//Sabre//Sabre VObject 4.5.1//EN
CALSCALE:GREGORIAN
X-WR-TIMEZONE:America/New_York
BEGIN:VEVENT
UID:sabre-vobject-c179809c-47b7-4613-9e7f-9c9ff4f6a308
DTSTAMP:20260420T153002Z
SUMMARY:Distribution d'arbres et de compost (Horaire déterminé selon le n
 uméro l’adresse civique)
DESCRIPTION:\n\nhttps://vdmt.ca/evenements/environnement/distribution-darbr
 es-et-de-compost
LOCATION:Hôtel de ville (1145\, rue de Saint-Jovite) | Garage municipal (6
 0\, chemin de Brébeuf)
DTSTART;TZID=America/New_York:20260523T000000
DTEND;TZID=America/New_York:20260523T000000
END:VEVENT
END:VCALENDAR
