BEGIN:VCALENDAR
VERSION:2.0
PRODID:-//Sabre//Sabre VObject 4.5.1//EN
CALSCALE:GREGORIAN
X-WR-TIMEZONE:America/New_York
BEGIN:VEVENT
UID:sabre-vobject-1f16423b-f45c-415f-9377-3e11382072ca
DTSTAMP:20260421T153246Z
SUMMARY:La vie des éleveurs nomades en Mongolie
DESCRIPTION:Isabelle Lacharme vous invite\, dans son pays d’adoption\, à
  partager ses regards bienveillants et sa compréhension de la vie des él
 eveurs nomades en Mongolie.\n\nhttps://vdmt.ca/evenements/conference/regar
 ds-bienveillants-dune-infirmiere-chercheure-en-mongolie-parmi-les-eleveurs
 -nomades
LOCATION:Hôtel de ville (1145\, rue de Saint-Jovite)
DTSTART;TZID=America/New_York:20260509T133000
DTEND;TZID=America/New_York:20260509T153000
END:VEVENT
END:VCALENDAR
