BEGIN:VCALENDAR
VERSION:2.0
PRODID:-//Sabre//Sabre VObject 4.5.1//EN
CALSCALE:GREGORIAN
X-WR-TIMEZONE:America/New_York
BEGIN:VEVENT
UID:sabre-vobject-fda64a31-ebe0-418f-bf12-e3f5961c0054
DTSTAMP:20260421T151947Z
SUMMARY:Tissés d’idées (Horaire varié)
DESCRIPTION:\n\nhttps://vdmt.ca/evenements/exposition/tissees-didees
LOCATION:Salle Alphonse-Desjardins (1145\, rue de Saint-Jovite)
DTSTART;TZID=America/New_York:20260425T000000
DTEND;TZID=America/New_York:20260425T000000
END:VEVENT
BEGIN:VEVENT
UID:sabre-vobject-5bd4f4f6-11a2-42a9-ac3f-80db394af8de
DTSTAMP:20260421T151947Z
SUMMARY:Tissés d’idées (Horaire varié)
DESCRIPTION:\n\nhttps://vdmt.ca/evenements/exposition/tissees-didees
LOCATION:Salle Alphonse-Desjardins (1145\, rue de Saint-Jovite)
DTSTART;TZID=America/New_York:20260426T000000
DTEND;TZID=America/New_York:20260426T000000
END:VEVENT
BEGIN:VEVENT
UID:sabre-vobject-22030c62-3632-4d1f-b2da-472420d1de90
DTSTAMP:20260421T151947Z
SUMMARY:Tissés d’idées (Horaire varié)
DESCRIPTION:\n\nhttps://vdmt.ca/evenements/exposition/tissees-didees
LOCATION:Salle Alphonse-Desjardins (1145\, rue de Saint-Jovite)
DTSTART;TZID=America/New_York:20260427T000000
DTEND;TZID=America/New_York:20260427T000000
END:VEVENT
BEGIN:VEVENT
UID:sabre-vobject-6a916e29-4af6-40f1-998d-15e8bdb47068
DTSTAMP:20260421T151947Z
SUMMARY:Tissés d’idées (Horaire varié)
DESCRIPTION:\n\nhttps://vdmt.ca/evenements/exposition/tissees-didees
LOCATION:Salle Alphonse-Desjardins (1145\, rue de Saint-Jovite)
DTSTART;TZID=America/New_York:20260428T000000
DTEND;TZID=America/New_York:20260428T000000
END:VEVENT
BEGIN:VEVENT
UID:sabre-vobject-27509a5d-9af7-49d2-afe9-50e2c6dd2b99
DTSTAMP:20260421T151947Z
SUMMARY:Tissés d’idées (Horaire varié)
DESCRIPTION:\n\nhttps://vdmt.ca/evenements/exposition/tissees-didees
LOCATION:Salle Alphonse-Desjardins (1145\, rue de Saint-Jovite)
DTSTART;TZID=America/New_York:20260429T000000
DTEND;TZID=America/New_York:20260429T000000
END:VEVENT
BEGIN:VEVENT
UID:sabre-vobject-d3df5cb8-02d2-4970-890f-d2970713a19f
DTSTAMP:20260421T151947Z
SUMMARY:Tissés d’idées (Horaire varié)
DESCRIPTION:\n\nhttps://vdmt.ca/evenements/exposition/tissees-didees
LOCATION:Salle Alphonse-Desjardins (1145\, rue de Saint-Jovite)
DTSTART;TZID=America/New_York:20260430T000000
DTEND;TZID=America/New_York:20260430T000000
END:VEVENT
BEGIN:VEVENT
UID:sabre-vobject-c190c743-ad1a-4342-aec7-e3a5f5c6a366
DTSTAMP:20260421T151947Z
SUMMARY:Tissés d’idées (Horaire varié)
DESCRIPTION:\n\nhttps://vdmt.ca/evenements/exposition/tissees-didees
LOCATION:Salle Alphonse-Desjardins (1145\, rue de Saint-Jovite)
DTSTART;TZID=America/New_York:20260501T000000
DTEND;TZID=America/New_York:20260501T000000
END:VEVENT
BEGIN:VEVENT
UID:sabre-vobject-11ed2a9a-a77a-4686-b466-4c9f37d51353
DTSTAMP:20260421T151947Z
SUMMARY:Tissés d’idées (Horaire varié)
DESCRIPTION:\n\nhttps://vdmt.ca/evenements/exposition/tissees-didees
LOCATION:Salle Alphonse-Desjardins (1145\, rue de Saint-Jovite)
DTSTART;TZID=America/New_York:20260502T000000
DTEND;TZID=America/New_York:20260502T000000
END:VEVENT
BEGIN:VEVENT
UID:sabre-vobject-382012d2-a37d-46f9-95a4-d11486dafca0
DTSTAMP:20260421T151947Z
SUMMARY:Tissés d’idées (Horaire varié)
DESCRIPTION:\n\nhttps://vdmt.ca/evenements/exposition/tissees-didees
LOCATION:Salle Alphonse-Desjardins (1145\, rue de Saint-Jovite)
DTSTART;TZID=America/New_York:20260503T000000
DTEND;TZID=America/New_York:20260503T000000
END:VEVENT
BEGIN:VEVENT
UID:sabre-vobject-d4a5e534-bc16-42e4-95d0-def024f70230
DTSTAMP:20260421T151947Z
SUMMARY:Tissés d’idées (Horaire varié)
DESCRIPTION:\n\nhttps://vdmt.ca/evenements/exposition/tissees-didees
LOCATION:Salle Alphonse-Desjardins (1145\, rue de Saint-Jovite)
DTSTART;TZID=America/New_York:20260504T000000
DTEND;TZID=America/New_York:20260504T000000
END:VEVENT
BEGIN:VEVENT
UID:sabre-vobject-5457cd25-a2fb-4bfc-92e6-e825739b85a5
DTSTAMP:20260421T151947Z
SUMMARY:Tissés d’idées (Horaire varié)
DESCRIPTION:\n\nhttps://vdmt.ca/evenements/exposition/tissees-didees
LOCATION:Salle Alphonse-Desjardins (1145\, rue de Saint-Jovite)
DTSTART;TZID=America/New_York:20260505T000000
DTEND;TZID=America/New_York:20260505T000000
END:VEVENT
BEGIN:VEVENT
UID:sabre-vobject-4ce342c0-2fb6-438a-a7d6-c8f379da12e6
DTSTAMP:20260421T151947Z
SUMMARY:Tissés d’idées (Horaire varié)
DESCRIPTION:\n\nhttps://vdmt.ca/evenements/exposition/tissees-didees
LOCATION:Salle Alphonse-Desjardins (1145\, rue de Saint-Jovite)
DTSTART;TZID=America/New_York:20260506T000000
DTEND;TZID=America/New_York:20260506T000000
END:VEVENT
BEGIN:VEVENT
UID:sabre-vobject-e3d68bd1-46a2-4003-b428-25af72a4e043
DTSTAMP:20260421T151947Z
SUMMARY:Tissés d’idées (Horaire varié)
DESCRIPTION:\n\nhttps://vdmt.ca/evenements/exposition/tissees-didees
LOCATION:Salle Alphonse-Desjardins (1145\, rue de Saint-Jovite)
DTSTART;TZID=America/New_York:20260507T000000
DTEND;TZID=America/New_York:20260507T000000
END:VEVENT
BEGIN:VEVENT
UID:sabre-vobject-8345baf1-5e70-4ce9-8244-5e03c691c792
DTSTAMP:20260421T151947Z
SUMMARY:Tissés d’idées (Horaire varié)
DESCRIPTION:\n\nhttps://vdmt.ca/evenements/exposition/tissees-didees
LOCATION:Salle Alphonse-Desjardins (1145\, rue de Saint-Jovite)
DTSTART;TZID=America/New_York:20260508T000000
DTEND;TZID=America/New_York:20260508T000000
END:VEVENT
BEGIN:VEVENT
UID:sabre-vobject-fc49a195-9ce7-446c-9d87-10df6900b62a
DTSTAMP:20260421T151947Z
SUMMARY:Tissés d’idées (Horaire varié)
DESCRIPTION:\n\nhttps://vdmt.ca/evenements/exposition/tissees-didees
LOCATION:Salle Alphonse-Desjardins (1145\, rue de Saint-Jovite)
DTSTART;TZID=America/New_York:20260509T000000
DTEND;TZID=America/New_York:20260509T000000
END:VEVENT
BEGIN:VEVENT
UID:sabre-vobject-2a96cc74-adf4-4e6d-b799-34496bed13b9
DTSTAMP:20260421T151947Z
SUMMARY:Tissés d’idées (Horaire varié)
DESCRIPTION:\n\nhttps://vdmt.ca/evenements/exposition/tissees-didees
LOCATION:Salle Alphonse-Desjardins (1145\, rue de Saint-Jovite)
DTSTART;TZID=America/New_York:20260510T000000
DTEND;TZID=America/New_York:20260510T000000
END:VEVENT
BEGIN:VEVENT
UID:sabre-vobject-92c10a02-23fd-48de-adab-eabb7cd80bee
DTSTAMP:20260421T151947Z
SUMMARY:Tissés d’idées (Horaire varié)
DESCRIPTION:\n\nhttps://vdmt.ca/evenements/exposition/tissees-didees
LOCATION:Salle Alphonse-Desjardins (1145\, rue de Saint-Jovite)
DTSTART;TZID=America/New_York:20260511T000000
DTEND;TZID=America/New_York:20260511T000000
END:VEVENT
BEGIN:VEVENT
UID:sabre-vobject-43a63cb7-4778-4679-9a16-f9300df6cf5f
DTSTAMP:20260421T151947Z
SUMMARY:Tissés d’idées (Horaire varié)
DESCRIPTION:\n\nhttps://vdmt.ca/evenements/exposition/tissees-didees
LOCATION:Salle Alphonse-Desjardins (1145\, rue de Saint-Jovite)
DTSTART;TZID=America/New_York:20260512T000000
DTEND;TZID=America/New_York:20260512T000000
END:VEVENT
BEGIN:VEVENT
UID:sabre-vobject-dc000863-06bf-4d14-93cd-25710413705b
DTSTAMP:20260421T151947Z
SUMMARY:Tissés d’idées (Horaire varié)
DESCRIPTION:\n\nhttps://vdmt.ca/evenements/exposition/tissees-didees
LOCATION:Salle Alphonse-Desjardins (1145\, rue de Saint-Jovite)
DTSTART;TZID=America/New_York:20260513T000000
DTEND;TZID=America/New_York:20260513T000000
END:VEVENT
BEGIN:VEVENT
UID:sabre-vobject-898887d3-20f2-4deb-a289-9a6716c98242
DTSTAMP:20260421T151947Z
SUMMARY:Tissés d’idées (Horaire varié)
DESCRIPTION:\n\nhttps://vdmt.ca/evenements/exposition/tissees-didees
LOCATION:Salle Alphonse-Desjardins (1145\, rue de Saint-Jovite)
DTSTART;TZID=America/New_York:20260514T000000
DTEND;TZID=America/New_York:20260514T000000
END:VEVENT
BEGIN:VEVENT
UID:sabre-vobject-1145701e-5af0-4177-ae43-24c84a0ce310
DTSTAMP:20260421T151947Z
SUMMARY:Tissés d’idées (Horaire varié)
DESCRIPTION:\n\nhttps://vdmt.ca/evenements/exposition/tissees-didees
LOCATION:Salle Alphonse-Desjardins (1145\, rue de Saint-Jovite)
DTSTART;TZID=America/New_York:20260515T000000
DTEND;TZID=America/New_York:20260515T000000
END:VEVENT
END:VCALENDAR
