BEGIN:VCALENDAR
VERSION:2.0
PRODID:-//Sabre//Sabre VObject 4.5.1//EN
CALSCALE:GREGORIAN
X-WR-TIMEZONE:America/New_York
BEGIN:VEVENT
UID:sabre-vobject-5513c10e-bdcb-4f58-b4e1-3810fcfaaae3
DTSTAMP:20260421T140104Z
SUMMARY:Travaux de recherche sur la pollution plastique dans le Saint-Laure
 nt
DESCRIPTION:Découvrez les travaux de recherche sur la pollution plastique 
 dans le Saint-Laurent en images\, retombées et anecdotes.\n\nhttps://vdmt
 .ca/evenements/conference/pollution-plastique
LOCATION:Hôtel de ville (1145\, rue de Saint-Jovite)
DTSTART;TZID=America/New_York:20260423T190000
DTEND;TZID=America/New_York:20260423T203000
END:VEVENT
END:VCALENDAR
