BEGIN:VCALENDAR
VERSION:2.0
PRODID:-//Sabre//Sabre VObject 4.5.1//EN
CALSCALE:GREGORIAN
X-WR-TIMEZONE:America/New_York
BEGIN:VEVENT
UID:sabre-vobject-ec870b0f-0e45-424c-8bdd-4dd74b4e8276
DTSTAMP:20260421T111422Z
SUMMARY:Inscription - Camp de jour Mont-Tremblant
DESCRIPTION:Offert aux jeunes de 4 à 12 ans\, le camp de jour propose une 
 foule d’activités sportives\, récréatives et culturelles adaptées à
  chaque groupe d’âge.\n\nhttps://vdmt.ca/evenements/camp-de-jour/inscri
 ption-camp-de-jour-mont-tremblant
LOCATION:En ligne
DTSTART;TZID=America/New_York:20260422T000000
DTEND;TZID=America/New_York:20260422T000000
END:VEVENT
BEGIN:VEVENT
UID:sabre-vobject-7da68abe-a50f-44a1-8b2d-ce2b951d39a3
DTSTAMP:20260421T111422Z
SUMMARY:Inscription - Camp de jour Mont-Tremblant
DESCRIPTION:Offert aux jeunes de 4 à 12 ans\, le camp de jour propose une 
 foule d’activités sportives\, récréatives et culturelles adaptées à
  chaque groupe d’âge.\n\nhttps://vdmt.ca/evenements/camp-de-jour/inscri
 ption-camp-de-jour-mont-tremblant
LOCATION:En ligne
DTSTART;TZID=America/New_York:20260423T000000
DTEND;TZID=America/New_York:20260423T000000
END:VEVENT
BEGIN:VEVENT
UID:sabre-vobject-8feb1cb7-25aa-4289-82e9-dffe6a15344b
DTSTAMP:20260421T111422Z
SUMMARY:Inscription - Camp de jour Mont-Tremblant
DESCRIPTION:Offert aux jeunes de 4 à 12 ans\, le camp de jour propose une 
 foule d’activités sportives\, récréatives et culturelles adaptées à
  chaque groupe d’âge.\n\nhttps://vdmt.ca/evenements/camp-de-jour/inscri
 ption-camp-de-jour-mont-tremblant
LOCATION:En ligne
DTSTART;TZID=America/New_York:20260424T000000
DTEND;TZID=America/New_York:20260424T000000
END:VEVENT
BEGIN:VEVENT
UID:sabre-vobject-bb907614-c689-4a96-b5d0-536f7b8af232
DTSTAMP:20260421T111422Z
SUMMARY:Inscription - Camp de jour Mont-Tremblant
DESCRIPTION:Offert aux jeunes de 4 à 12 ans\, le camp de jour propose une 
 foule d’activités sportives\, récréatives et culturelles adaptées à
  chaque groupe d’âge.\n\nhttps://vdmt.ca/evenements/camp-de-jour/inscri
 ption-camp-de-jour-mont-tremblant
LOCATION:En ligne
DTSTART;TZID=America/New_York:20260425T000000
DTEND;TZID=America/New_York:20260425T000000
END:VEVENT
BEGIN:VEVENT
UID:sabre-vobject-7f4119e4-260a-4381-9b28-b12ce1e87218
DTSTAMP:20260421T111422Z
SUMMARY:Inscription - Camp de jour Mont-Tremblant
DESCRIPTION:Offert aux jeunes de 4 à 12 ans\, le camp de jour propose une 
 foule d’activités sportives\, récréatives et culturelles adaptées à
  chaque groupe d’âge.\n\nhttps://vdmt.ca/evenements/camp-de-jour/inscri
 ption-camp-de-jour-mont-tremblant
LOCATION:En ligne
DTSTART;TZID=America/New_York:20260426T000000
DTEND;TZID=America/New_York:20260426T000000
END:VEVENT
BEGIN:VEVENT
UID:sabre-vobject-b46b1572-b81b-461c-ae20-6d5c90d6913a
DTSTAMP:20260421T111422Z
SUMMARY:Inscription - Camp de jour Mont-Tremblant
DESCRIPTION:Offert aux jeunes de 4 à 12 ans\, le camp de jour propose une 
 foule d’activités sportives\, récréatives et culturelles adaptées à
  chaque groupe d’âge.\n\nhttps://vdmt.ca/evenements/camp-de-jour/inscri
 ption-camp-de-jour-mont-tremblant
LOCATION:En ligne
DTSTART;TZID=America/New_York:20260427T000000
DTEND;TZID=America/New_York:20260427T000000
END:VEVENT
BEGIN:VEVENT
UID:sabre-vobject-b74a6744-5e54-459f-98d1-bd543ccbb574
DTSTAMP:20260421T111422Z
SUMMARY:Inscription - Camp de jour Mont-Tremblant
DESCRIPTION:Offert aux jeunes de 4 à 12 ans\, le camp de jour propose une 
 foule d’activités sportives\, récréatives et culturelles adaptées à
  chaque groupe d’âge.\n\nhttps://vdmt.ca/evenements/camp-de-jour/inscri
 ption-camp-de-jour-mont-tremblant
LOCATION:En ligne
DTSTART;TZID=America/New_York:20260428T000000
DTEND;TZID=America/New_York:20260428T000000
END:VEVENT
BEGIN:VEVENT
UID:sabre-vobject-880d433d-537b-4339-ae97-22f37c163498
DTSTAMP:20260421T111422Z
SUMMARY:Inscription - Camp de jour Mont-Tremblant
DESCRIPTION:Offert aux jeunes de 4 à 12 ans\, le camp de jour propose une 
 foule d’activités sportives\, récréatives et culturelles adaptées à
  chaque groupe d’âge.\n\nhttps://vdmt.ca/evenements/camp-de-jour/inscri
 ption-camp-de-jour-mont-tremblant
LOCATION:En ligne
DTSTART;TZID=America/New_York:20260429T000000
DTEND;TZID=America/New_York:20260429T000000
END:VEVENT
BEGIN:VEVENT
UID:sabre-vobject-78ebf543-1a0b-4da8-8ad9-1f92d4b9312d
DTSTAMP:20260421T111422Z
SUMMARY:Inscription - Camp de jour Mont-Tremblant
DESCRIPTION:Offert aux jeunes de 4 à 12 ans\, le camp de jour propose une 
 foule d’activités sportives\, récréatives et culturelles adaptées à
  chaque groupe d’âge.\n\nhttps://vdmt.ca/evenements/camp-de-jour/inscri
 ption-camp-de-jour-mont-tremblant
LOCATION:En ligne
DTSTART;TZID=America/New_York:20260430T000000
DTEND;TZID=America/New_York:20260430T000000
END:VEVENT
BEGIN:VEVENT
UID:sabre-vobject-48c5c456-c2ca-4b85-922e-aced58c96908
DTSTAMP:20260421T111422Z
SUMMARY:Inscription - Camp de jour Mont-Tremblant
DESCRIPTION:Offert aux jeunes de 4 à 12 ans\, le camp de jour propose une 
 foule d’activités sportives\, récréatives et culturelles adaptées à
  chaque groupe d’âge.\n\nhttps://vdmt.ca/evenements/camp-de-jour/inscri
 ption-camp-de-jour-mont-tremblant
LOCATION:En ligne
DTSTART;TZID=America/New_York:20260501T000000
DTEND;TZID=America/New_York:20260501T000000
END:VEVENT
BEGIN:VEVENT
UID:sabre-vobject-bd906967-9c4a-4501-97b2-c8f2c39d106f
DTSTAMP:20260421T111422Z
SUMMARY:Inscription - Camp de jour Mont-Tremblant
DESCRIPTION:Offert aux jeunes de 4 à 12 ans\, le camp de jour propose une 
 foule d’activités sportives\, récréatives et culturelles adaptées à
  chaque groupe d’âge.\n\nhttps://vdmt.ca/evenements/camp-de-jour/inscri
 ption-camp-de-jour-mont-tremblant
LOCATION:En ligne
DTSTART;TZID=America/New_York:20260502T000000
DTEND;TZID=America/New_York:20260502T000000
END:VEVENT
BEGIN:VEVENT
UID:sabre-vobject-60911e8b-1587-4ae9-a25c-3503af7eda68
DTSTAMP:20260421T111422Z
SUMMARY:Inscription - Camp de jour Mont-Tremblant
DESCRIPTION:Offert aux jeunes de 4 à 12 ans\, le camp de jour propose une 
 foule d’activités sportives\, récréatives et culturelles adaptées à
  chaque groupe d’âge.\n\nhttps://vdmt.ca/evenements/camp-de-jour/inscri
 ption-camp-de-jour-mont-tremblant
LOCATION:En ligne
DTSTART;TZID=America/New_York:20260503T000000
DTEND;TZID=America/New_York:20260503T000000
END:VEVENT
BEGIN:VEVENT
UID:sabre-vobject-2b220fc0-ca2f-4c9c-8eda-c1f1f54830f4
DTSTAMP:20260421T111422Z
SUMMARY:Inscription - Camp de jour Mont-Tremblant
DESCRIPTION:Offert aux jeunes de 4 à 12 ans\, le camp de jour propose une 
 foule d’activités sportives\, récréatives et culturelles adaptées à
  chaque groupe d’âge.\n\nhttps://vdmt.ca/evenements/camp-de-jour/inscri
 ption-camp-de-jour-mont-tremblant
LOCATION:En ligne
DTSTART;TZID=America/New_York:20260504T000000
DTEND;TZID=America/New_York:20260504T000000
END:VEVENT
BEGIN:VEVENT
UID:sabre-vobject-597aaef7-fac7-410b-8ad6-3d00fe374487
DTSTAMP:20260421T111422Z
SUMMARY:Inscription - Camp de jour Mont-Tremblant
DESCRIPTION:Offert aux jeunes de 4 à 12 ans\, le camp de jour propose une 
 foule d’activités sportives\, récréatives et culturelles adaptées à
  chaque groupe d’âge.\n\nhttps://vdmt.ca/evenements/camp-de-jour/inscri
 ption-camp-de-jour-mont-tremblant
LOCATION:En ligne
DTSTART;TZID=America/New_York:20260505T000000
DTEND;TZID=America/New_York:20260505T000000
END:VEVENT
BEGIN:VEVENT
UID:sabre-vobject-f41731ab-aed4-45d0-afaa-0b38f55473fa
DTSTAMP:20260421T111422Z
SUMMARY:Inscription - Camp de jour Mont-Tremblant
DESCRIPTION:Offert aux jeunes de 4 à 12 ans\, le camp de jour propose une 
 foule d’activités sportives\, récréatives et culturelles adaptées à
  chaque groupe d’âge.\n\nhttps://vdmt.ca/evenements/camp-de-jour/inscri
 ption-camp-de-jour-mont-tremblant
LOCATION:En ligne
DTSTART;TZID=America/New_York:20260506T000000
DTEND;TZID=America/New_York:20260506T000000
END:VEVENT
BEGIN:VEVENT
UID:sabre-vobject-ba2e49e9-8cb5-453e-a15e-9692d7c0945d
DTSTAMP:20260421T111422Z
SUMMARY:Inscription - Camp de jour Mont-Tremblant
DESCRIPTION:Offert aux jeunes de 4 à 12 ans\, le camp de jour propose une 
 foule d’activités sportives\, récréatives et culturelles adaptées à
  chaque groupe d’âge.\n\nhttps://vdmt.ca/evenements/camp-de-jour/inscri
 ption-camp-de-jour-mont-tremblant
LOCATION:En ligne
DTSTART;TZID=America/New_York:20260507T000000
DTEND;TZID=America/New_York:20260507T000000
END:VEVENT
BEGIN:VEVENT
UID:sabre-vobject-6018e319-a096-453a-b6bd-1d8f427d5ee3
DTSTAMP:20260421T111422Z
SUMMARY:Inscription - Camp de jour Mont-Tremblant
DESCRIPTION:Offert aux jeunes de 4 à 12 ans\, le camp de jour propose une 
 foule d’activités sportives\, récréatives et culturelles adaptées à
  chaque groupe d’âge.\n\nhttps://vdmt.ca/evenements/camp-de-jour/inscri
 ption-camp-de-jour-mont-tremblant
LOCATION:En ligne
DTSTART;TZID=America/New_York:20260508T000000
DTEND;TZID=America/New_York:20260508T000000
END:VEVENT
BEGIN:VEVENT
UID:sabre-vobject-855e746e-5a30-4e42-b0ce-4b2ba95f58fb
DTSTAMP:20260421T111422Z
SUMMARY:Inscription - Camp de jour Mont-Tremblant
DESCRIPTION:Offert aux jeunes de 4 à 12 ans\, le camp de jour propose une 
 foule d’activités sportives\, récréatives et culturelles adaptées à
  chaque groupe d’âge.\n\nhttps://vdmt.ca/evenements/camp-de-jour/inscri
 ption-camp-de-jour-mont-tremblant
LOCATION:En ligne
DTSTART;TZID=America/New_York:20260509T000000
DTEND;TZID=America/New_York:20260509T000000
END:VEVENT
BEGIN:VEVENT
UID:sabre-vobject-6f9a092e-9e5b-480e-9eb2-af0afebc478d
DTSTAMP:20260421T111422Z
SUMMARY:Inscription - Camp de jour Mont-Tremblant
DESCRIPTION:Offert aux jeunes de 4 à 12 ans\, le camp de jour propose une 
 foule d’activités sportives\, récréatives et culturelles adaptées à
  chaque groupe d’âge.\n\nhttps://vdmt.ca/evenements/camp-de-jour/inscri
 ption-camp-de-jour-mont-tremblant
LOCATION:En ligne
DTSTART;TZID=America/New_York:20260510T000000
DTEND;TZID=America/New_York:20260510T000000
END:VEVENT
BEGIN:VEVENT
UID:sabre-vobject-0b16ebd9-c142-4a08-a019-88331745436a
DTSTAMP:20260421T111422Z
SUMMARY:Inscription - Camp de jour Mont-Tremblant
DESCRIPTION:Offert aux jeunes de 4 à 12 ans\, le camp de jour propose une 
 foule d’activités sportives\, récréatives et culturelles adaptées à
  chaque groupe d’âge.\n\nhttps://vdmt.ca/evenements/camp-de-jour/inscri
 ption-camp-de-jour-mont-tremblant
LOCATION:En ligne
DTSTART;TZID=America/New_York:20260511T000000
DTEND;TZID=America/New_York:20260511T000000
END:VEVENT
BEGIN:VEVENT
UID:sabre-vobject-396947a4-6fe6-4e20-a63e-abe2111e8827
DTSTAMP:20260421T111422Z
SUMMARY:Inscription - Camp de jour Mont-Tremblant
DESCRIPTION:Offert aux jeunes de 4 à 12 ans\, le camp de jour propose une 
 foule d’activités sportives\, récréatives et culturelles adaptées à
  chaque groupe d’âge.\n\nhttps://vdmt.ca/evenements/camp-de-jour/inscri
 ption-camp-de-jour-mont-tremblant
LOCATION:En ligne
DTSTART;TZID=America/New_York:20260512T000000
DTEND;TZID=America/New_York:20260512T000000
END:VEVENT
BEGIN:VEVENT
UID:sabre-vobject-7c55e7b4-1844-4892-9edc-1d4bcf78713e
DTSTAMP:20260421T111422Z
SUMMARY:Inscription - Camp de jour Mont-Tremblant
DESCRIPTION:Offert aux jeunes de 4 à 12 ans\, le camp de jour propose une 
 foule d’activités sportives\, récréatives et culturelles adaptées à
  chaque groupe d’âge.\n\nhttps://vdmt.ca/evenements/camp-de-jour/inscri
 ption-camp-de-jour-mont-tremblant
LOCATION:En ligne
DTSTART;TZID=America/New_York:20260513T000000
DTEND;TZID=America/New_York:20260513T000000
END:VEVENT
BEGIN:VEVENT
UID:sabre-vobject-ffb89218-e53a-49fa-8851-70ac6c567993
DTSTAMP:20260421T111422Z
SUMMARY:Inscription - Camp de jour Mont-Tremblant
DESCRIPTION:Offert aux jeunes de 4 à 12 ans\, le camp de jour propose une 
 foule d’activités sportives\, récréatives et culturelles adaptées à
  chaque groupe d’âge.\n\nhttps://vdmt.ca/evenements/camp-de-jour/inscri
 ption-camp-de-jour-mont-tremblant
LOCATION:En ligne
DTSTART;TZID=America/New_York:20260514T000000
DTEND;TZID=America/New_York:20260514T000000
END:VEVENT
BEGIN:VEVENT
UID:sabre-vobject-e10ed122-76d8-4592-91c7-5a9e0d0ce945
DTSTAMP:20260421T111422Z
SUMMARY:Inscription - Camp de jour Mont-Tremblant
DESCRIPTION:Offert aux jeunes de 4 à 12 ans\, le camp de jour propose une 
 foule d’activités sportives\, récréatives et culturelles adaptées à
  chaque groupe d’âge.\n\nhttps://vdmt.ca/evenements/camp-de-jour/inscri
 ption-camp-de-jour-mont-tremblant
LOCATION:En ligne
DTSTART;TZID=America/New_York:20260515T000000
DTEND;TZID=America/New_York:20260515T000000
END:VEVENT
BEGIN:VEVENT
UID:sabre-vobject-ea084887-1c85-4c09-9aa4-066d8cd26942
DTSTAMP:20260421T111422Z
SUMMARY:Inscription - Camp de jour Mont-Tremblant
DESCRIPTION:Offert aux jeunes de 4 à 12 ans\, le camp de jour propose une 
 foule d’activités sportives\, récréatives et culturelles adaptées à
  chaque groupe d’âge.\n\nhttps://vdmt.ca/evenements/camp-de-jour/inscri
 ption-camp-de-jour-mont-tremblant
LOCATION:En ligne
DTSTART;TZID=America/New_York:20260516T000000
DTEND;TZID=America/New_York:20260516T000000
END:VEVENT
BEGIN:VEVENT
UID:sabre-vobject-1656f576-7f66-4e88-8b88-c4a05348c08b
DTSTAMP:20260421T111422Z
SUMMARY:Inscription - Camp de jour Mont-Tremblant
DESCRIPTION:Offert aux jeunes de 4 à 12 ans\, le camp de jour propose une 
 foule d’activités sportives\, récréatives et culturelles adaptées à
  chaque groupe d’âge.\n\nhttps://vdmt.ca/evenements/camp-de-jour/inscri
 ption-camp-de-jour-mont-tremblant
LOCATION:En ligne
DTSTART;TZID=America/New_York:20260517T000000
DTEND;TZID=America/New_York:20260517T000000
END:VEVENT
BEGIN:VEVENT
UID:sabre-vobject-68fd8678-d6bc-4352-be4b-3fdba947797d
DTSTAMP:20260421T111422Z
SUMMARY:Inscription - Camp de jour Mont-Tremblant
DESCRIPTION:Offert aux jeunes de 4 à 12 ans\, le camp de jour propose une 
 foule d’activités sportives\, récréatives et culturelles adaptées à
  chaque groupe d’âge.\n\nhttps://vdmt.ca/evenements/camp-de-jour/inscri
 ption-camp-de-jour-mont-tremblant
LOCATION:En ligne
DTSTART;TZID=America/New_York:20260518T000000
DTEND;TZID=America/New_York:20260518T000000
END:VEVENT
BEGIN:VEVENT
UID:sabre-vobject-7d8eb037-6b5b-4572-91c3-0fe8e7d0409c
DTSTAMP:20260421T111422Z
SUMMARY:Inscription - Camp de jour Mont-Tremblant
DESCRIPTION:Offert aux jeunes de 4 à 12 ans\, le camp de jour propose une 
 foule d’activités sportives\, récréatives et culturelles adaptées à
  chaque groupe d’âge.\n\nhttps://vdmt.ca/evenements/camp-de-jour/inscri
 ption-camp-de-jour-mont-tremblant
LOCATION:En ligne
DTSTART;TZID=America/New_York:20260519T000000
DTEND;TZID=America/New_York:20260519T000000
END:VEVENT
END:VCALENDAR
