BEGIN:VCALENDAR
VERSION:2.0
PRODID:-//Sabre//Sabre VObject 4.5.1//EN
CALSCALE:GREGORIAN
X-WR-TIMEZONE:America/New_York
BEGIN:VEVENT
UID:sabre-vobject-1877a998-230f-4f87-a34a-dbaca469a4cd
DTSTAMP:20260421T135751Z
SUMMARY:MétamorphART (Horaire varié)
DESCRIPTION:Cette exposition met en lumière la créativité et l’engagem
 ent environnemental des élèves de l’école secondaire Curé-Mercure.\n
 \nhttps://vdmt.ca/evenements/exposition/metamorphart-par-des-eleves-de-lec
 ole-secondaire-cure-mercure
LOCATION:Salle Alphonse-Desjardins (1145\, rue de Saint-Jovite)
DTSTART;TZID=America/New_York:20260417T000000
DTEND;TZID=America/New_York:20260417T000000
END:VEVENT
BEGIN:VEVENT
UID:sabre-vobject-61d1d6f2-9244-4beb-b98d-8821a26daa08
DTSTAMP:20260421T135751Z
SUMMARY:MétamorphART (Horaire varié)
DESCRIPTION:Cette exposition met en lumière la créativité et l’engagem
 ent environnemental des élèves de l’école secondaire Curé-Mercure.\n
 \nhttps://vdmt.ca/evenements/exposition/metamorphart-par-des-eleves-de-lec
 ole-secondaire-cure-mercure
LOCATION:Salle Alphonse-Desjardins (1145\, rue de Saint-Jovite)
DTSTART;TZID=America/New_York:20260418T000000
DTEND;TZID=America/New_York:20260418T000000
END:VEVENT
BEGIN:VEVENT
UID:sabre-vobject-85ad3ec5-d9e3-4bf5-8ca4-b30af642c3e1
DTSTAMP:20260421T135751Z
SUMMARY:MétamorphART (Horaire varié)
DESCRIPTION:Cette exposition met en lumière la créativité et l’engagem
 ent environnemental des élèves de l’école secondaire Curé-Mercure.\n
 \nhttps://vdmt.ca/evenements/exposition/metamorphart-par-des-eleves-de-lec
 ole-secondaire-cure-mercure
LOCATION:Salle Alphonse-Desjardins (1145\, rue de Saint-Jovite)
DTSTART;TZID=America/New_York:20260419T000000
DTEND;TZID=America/New_York:20260419T000000
END:VEVENT
BEGIN:VEVENT
UID:sabre-vobject-767e5d6a-60bd-4195-a1f6-cc88c7c1254f
DTSTAMP:20260421T135751Z
SUMMARY:MétamorphART (Horaire varié)
DESCRIPTION:Cette exposition met en lumière la créativité et l’engagem
 ent environnemental des élèves de l’école secondaire Curé-Mercure.\n
 \nhttps://vdmt.ca/evenements/exposition/metamorphart-par-des-eleves-de-lec
 ole-secondaire-cure-mercure
LOCATION:Salle Alphonse-Desjardins (1145\, rue de Saint-Jovite)
DTSTART;TZID=America/New_York:20260420T000000
DTEND;TZID=America/New_York:20260420T000000
END:VEVENT
BEGIN:VEVENT
UID:sabre-vobject-f885ccd4-6afd-4d0c-beec-2a7314a2bdf1
DTSTAMP:20260421T135751Z
SUMMARY:MétamorphART (Horaire varié)
DESCRIPTION:Cette exposition met en lumière la créativité et l’engagem
 ent environnemental des élèves de l’école secondaire Curé-Mercure.\n
 \nhttps://vdmt.ca/evenements/exposition/metamorphart-par-des-eleves-de-lec
 ole-secondaire-cure-mercure
LOCATION:Salle Alphonse-Desjardins (1145\, rue de Saint-Jovite)
DTSTART;TZID=America/New_York:20260421T000000
DTEND;TZID=America/New_York:20260421T000000
END:VEVENT
BEGIN:VEVENT
UID:sabre-vobject-d32c3add-807e-451e-9965-91175239243d
DTSTAMP:20260421T135751Z
SUMMARY:MétamorphART (Horaire varié)
DESCRIPTION:Cette exposition met en lumière la créativité et l’engagem
 ent environnemental des élèves de l’école secondaire Curé-Mercure.\n
 \nhttps://vdmt.ca/evenements/exposition/metamorphart-par-des-eleves-de-lec
 ole-secondaire-cure-mercure
LOCATION:Salle Alphonse-Desjardins (1145\, rue de Saint-Jovite)
DTSTART;TZID=America/New_York:20260422T000000
DTEND;TZID=America/New_York:20260422T000000
END:VEVENT
BEGIN:VEVENT
UID:sabre-vobject-298d884b-f607-4a29-b10a-9cd45dcfabae
DTSTAMP:20260421T135751Z
SUMMARY:MétamorphART (Horaire varié)
DESCRIPTION:Cette exposition met en lumière la créativité et l’engagem
 ent environnemental des élèves de l’école secondaire Curé-Mercure.\n
 \nhttps://vdmt.ca/evenements/exposition/metamorphart-par-des-eleves-de-lec
 ole-secondaire-cure-mercure
LOCATION:Salle Alphonse-Desjardins (1145\, rue de Saint-Jovite)
DTSTART;TZID=America/New_York:20260423T000000
DTEND;TZID=America/New_York:20260423T000000
END:VEVENT
BEGIN:VEVENT
UID:sabre-vobject-ff381ff2-a232-4dc9-bc14-6d93b99857d3
DTSTAMP:20260421T135751Z
SUMMARY:MétamorphART (Horaire varié)
DESCRIPTION:Cette exposition met en lumière la créativité et l’engagem
 ent environnemental des élèves de l’école secondaire Curé-Mercure.\n
 \nhttps://vdmt.ca/evenements/exposition/metamorphart-par-des-eleves-de-lec
 ole-secondaire-cure-mercure
LOCATION:Salle Alphonse-Desjardins (1145\, rue de Saint-Jovite)
DTSTART;TZID=America/New_York:20260424T000000
DTEND;TZID=America/New_York:20260424T000000
END:VEVENT
END:VCALENDAR
