BEGIN:VCALENDAR
VERSION:2.0
PRODID:-//Sabre//Sabre VObject 4.5.1//EN
CALSCALE:GREGORIAN
X-WR-TIMEZONE:America/New_York
BEGIN:VEVENT
UID:sabre-vobject-29bc8c71-3ed5-4faf-9526-5020eb0fd7c6
DTSTAMP:20260420T193038Z
SUMMARY:Animation de jeux de société
DESCRIPTION:\n\nhttps://vdmt.ca/evenements/activite-speciale/animation-de-j
 eux-de-societe
LOCATION:Bibliothèque Samuel-Ouimet (1145\, rue de saint-jovite)
DTSTART;TZID=America/New_York:20260303T130000
DTEND;TZID=America/New_York:20260303T150000
END:VEVENT
END:VCALENDAR
