BEGIN:VCALENDAR
VERSION:2.0
PRODID:-//Sabre//Sabre VObject 4.5.1//EN
CALSCALE:GREGORIAN
X-WR-TIMEZONE:America/New_York
BEGIN:VEVENT
UID:sabre-vobject-928d60f0-c969-4316-84e6-f96b4d5f34fb
DTSTAMP:20260421T184232Z
SUMMARY:Quels sont vos préférences et besoins en matières d’habitation
 ?
DESCRIPTION:Répondez à un court sondage pour indiquer vos préférences e
 t besoins en matière d’habitation à Mont-Tremblant!\n\nhttps://vdmt.ca
 /evenements/sondage/sondage-sur-vos-preferences-et-besoins-en-matieres-dha
 bitation
LOCATION:En ligne
DTSTART;TZID=America/New_York:20260205T000000
DTEND;TZID=America/New_York:20260205T000000
END:VEVENT
BEGIN:VEVENT
UID:sabre-vobject-72385801-5f17-47a9-9dd9-0875afc6471f
DTSTAMP:20260421T184232Z
SUMMARY:Quels sont vos préférences et besoins en matières d’habitation
 ?
DESCRIPTION:Répondez à un court sondage pour indiquer vos préférences e
 t besoins en matière d’habitation à Mont-Tremblant!\n\nhttps://vdmt.ca
 /evenements/sondage/sondage-sur-vos-preferences-et-besoins-en-matieres-dha
 bitation
LOCATION:En ligne
DTSTART;TZID=America/New_York:20260206T000000
DTEND;TZID=America/New_York:20260206T000000
END:VEVENT
BEGIN:VEVENT
UID:sabre-vobject-03568748-5f8d-4e20-9ffe-e743a085dd08
DTSTAMP:20260421T184232Z
SUMMARY:Quels sont vos préférences et besoins en matières d’habitation
 ?
DESCRIPTION:Répondez à un court sondage pour indiquer vos préférences e
 t besoins en matière d’habitation à Mont-Tremblant!\n\nhttps://vdmt.ca
 /evenements/sondage/sondage-sur-vos-preferences-et-besoins-en-matieres-dha
 bitation
LOCATION:En ligne
DTSTART;TZID=America/New_York:20260207T000000
DTEND;TZID=America/New_York:20260207T000000
END:VEVENT
BEGIN:VEVENT
UID:sabre-vobject-c7ee2110-0cbd-41b6-aafe-33b70f07a383
DTSTAMP:20260421T184232Z
SUMMARY:Quels sont vos préférences et besoins en matières d’habitation
 ?
DESCRIPTION:Répondez à un court sondage pour indiquer vos préférences e
 t besoins en matière d’habitation à Mont-Tremblant!\n\nhttps://vdmt.ca
 /evenements/sondage/sondage-sur-vos-preferences-et-besoins-en-matieres-dha
 bitation
LOCATION:En ligne
DTSTART;TZID=America/New_York:20260208T000000
DTEND;TZID=America/New_York:20260208T000000
END:VEVENT
BEGIN:VEVENT
UID:sabre-vobject-4e2687b2-ad80-4296-9952-b8c7f980add6
DTSTAMP:20260421T184232Z
SUMMARY:Quels sont vos préférences et besoins en matières d’habitation
 ?
DESCRIPTION:Répondez à un court sondage pour indiquer vos préférences e
 t besoins en matière d’habitation à Mont-Tremblant!\n\nhttps://vdmt.ca
 /evenements/sondage/sondage-sur-vos-preferences-et-besoins-en-matieres-dha
 bitation
LOCATION:En ligne
DTSTART;TZID=America/New_York:20260209T000000
DTEND;TZID=America/New_York:20260209T000000
END:VEVENT
BEGIN:VEVENT
UID:sabre-vobject-f5fe7e57-5edd-46a9-a501-9df36f9a1304
DTSTAMP:20260421T184232Z
SUMMARY:Quels sont vos préférences et besoins en matières d’habitation
 ?
DESCRIPTION:Répondez à un court sondage pour indiquer vos préférences e
 t besoins en matière d’habitation à Mont-Tremblant!\n\nhttps://vdmt.ca
 /evenements/sondage/sondage-sur-vos-preferences-et-besoins-en-matieres-dha
 bitation
LOCATION:En ligne
DTSTART;TZID=America/New_York:20260210T000000
DTEND;TZID=America/New_York:20260210T000000
END:VEVENT
BEGIN:VEVENT
UID:sabre-vobject-a7ea8220-57b5-4946-b5f9-0dd07b927307
DTSTAMP:20260421T184232Z
SUMMARY:Quels sont vos préférences et besoins en matières d’habitation
 ?
DESCRIPTION:Répondez à un court sondage pour indiquer vos préférences e
 t besoins en matière d’habitation à Mont-Tremblant!\n\nhttps://vdmt.ca
 /evenements/sondage/sondage-sur-vos-preferences-et-besoins-en-matieres-dha
 bitation
LOCATION:En ligne
DTSTART;TZID=America/New_York:20260211T000000
DTEND;TZID=America/New_York:20260211T000000
END:VEVENT
BEGIN:VEVENT
UID:sabre-vobject-2d9518a7-e623-48ec-9833-1c6cc6a71483
DTSTAMP:20260421T184232Z
SUMMARY:Quels sont vos préférences et besoins en matières d’habitation
 ?
DESCRIPTION:Répondez à un court sondage pour indiquer vos préférences e
 t besoins en matière d’habitation à Mont-Tremblant!\n\nhttps://vdmt.ca
 /evenements/sondage/sondage-sur-vos-preferences-et-besoins-en-matieres-dha
 bitation
LOCATION:En ligne
DTSTART;TZID=America/New_York:20260212T000000
DTEND;TZID=America/New_York:20260212T000000
END:VEVENT
BEGIN:VEVENT
UID:sabre-vobject-2a2a8eb2-d347-4f43-98ff-67337dd81c6e
DTSTAMP:20260421T184232Z
SUMMARY:Quels sont vos préférences et besoins en matières d’habitation
 ?
DESCRIPTION:Répondez à un court sondage pour indiquer vos préférences e
 t besoins en matière d’habitation à Mont-Tremblant!\n\nhttps://vdmt.ca
 /evenements/sondage/sondage-sur-vos-preferences-et-besoins-en-matieres-dha
 bitation
LOCATION:En ligne
DTSTART;TZID=America/New_York:20260213T000000
DTEND;TZID=America/New_York:20260213T000000
END:VEVENT
BEGIN:VEVENT
UID:sabre-vobject-83866222-1238-48f2-8a9f-d8dd3d087e4e
DTSTAMP:20260421T184232Z
SUMMARY:Quels sont vos préférences et besoins en matières d’habitation
 ?
DESCRIPTION:Répondez à un court sondage pour indiquer vos préférences e
 t besoins en matière d’habitation à Mont-Tremblant!\n\nhttps://vdmt.ca
 /evenements/sondage/sondage-sur-vos-preferences-et-besoins-en-matieres-dha
 bitation
LOCATION:En ligne
DTSTART;TZID=America/New_York:20260214T000000
DTEND;TZID=America/New_York:20260214T000000
END:VEVENT
BEGIN:VEVENT
UID:sabre-vobject-7b2473fb-0319-43fc-817b-d2984a77831f
DTSTAMP:20260421T184232Z
SUMMARY:Quels sont vos préférences et besoins en matières d’habitation
 ?
DESCRIPTION:Répondez à un court sondage pour indiquer vos préférences e
 t besoins en matière d’habitation à Mont-Tremblant!\n\nhttps://vdmt.ca
 /evenements/sondage/sondage-sur-vos-preferences-et-besoins-en-matieres-dha
 bitation
LOCATION:En ligne
DTSTART;TZID=America/New_York:20260215T000000
DTEND;TZID=America/New_York:20260215T000000
END:VEVENT
BEGIN:VEVENT
UID:sabre-vobject-b9404a6d-5b2c-41df-8d3c-48fbde60f372
DTSTAMP:20260421T184232Z
SUMMARY:Quels sont vos préférences et besoins en matières d’habitation
 ?
DESCRIPTION:Répondez à un court sondage pour indiquer vos préférences e
 t besoins en matière d’habitation à Mont-Tremblant!\n\nhttps://vdmt.ca
 /evenements/sondage/sondage-sur-vos-preferences-et-besoins-en-matieres-dha
 bitation
LOCATION:En ligne
DTSTART;TZID=America/New_York:20260216T000000
DTEND;TZID=America/New_York:20260216T000000
END:VEVENT
BEGIN:VEVENT
UID:sabre-vobject-b113525f-46f3-41ef-bd29-a4befafbdf0a
DTSTAMP:20260421T184232Z
SUMMARY:Quels sont vos préférences et besoins en matières d’habitation
 ?
DESCRIPTION:Répondez à un court sondage pour indiquer vos préférences e
 t besoins en matière d’habitation à Mont-Tremblant!\n\nhttps://vdmt.ca
 /evenements/sondage/sondage-sur-vos-preferences-et-besoins-en-matieres-dha
 bitation
LOCATION:En ligne
DTSTART;TZID=America/New_York:20260217T000000
DTEND;TZID=America/New_York:20260217T000000
END:VEVENT
BEGIN:VEVENT
UID:sabre-vobject-1edc5528-0ba0-4ca7-a5e3-dc39d4d94602
DTSTAMP:20260421T184232Z
SUMMARY:Quels sont vos préférences et besoins en matières d’habitation
 ?
DESCRIPTION:Répondez à un court sondage pour indiquer vos préférences e
 t besoins en matière d’habitation à Mont-Tremblant!\n\nhttps://vdmt.ca
 /evenements/sondage/sondage-sur-vos-preferences-et-besoins-en-matieres-dha
 bitation
LOCATION:En ligne
DTSTART;TZID=America/New_York:20260218T000000
DTEND;TZID=America/New_York:20260218T000000
END:VEVENT
BEGIN:VEVENT
UID:sabre-vobject-9d01f2ef-d01a-4a1d-bea8-37e798fd6ec5
DTSTAMP:20260421T184232Z
SUMMARY:Quels sont vos préférences et besoins en matières d’habitation
 ?
DESCRIPTION:Répondez à un court sondage pour indiquer vos préférences e
 t besoins en matière d’habitation à Mont-Tremblant!\n\nhttps://vdmt.ca
 /evenements/sondage/sondage-sur-vos-preferences-et-besoins-en-matieres-dha
 bitation
LOCATION:En ligne
DTSTART;TZID=America/New_York:20260219T000000
DTEND;TZID=America/New_York:20260219T000000
END:VEVENT
BEGIN:VEVENT
UID:sabre-vobject-1398d82f-b514-4202-8def-7ee1ab36e816
DTSTAMP:20260421T184232Z
SUMMARY:Quels sont vos préférences et besoins en matières d’habitation
 ?
DESCRIPTION:Répondez à un court sondage pour indiquer vos préférences e
 t besoins en matière d’habitation à Mont-Tremblant!\n\nhttps://vdmt.ca
 /evenements/sondage/sondage-sur-vos-preferences-et-besoins-en-matieres-dha
 bitation
LOCATION:En ligne
DTSTART;TZID=America/New_York:20260220T000000
DTEND;TZID=America/New_York:20260220T000000
END:VEVENT
BEGIN:VEVENT
UID:sabre-vobject-e287bd79-3afd-449f-b1bc-010501173c94
DTSTAMP:20260421T184232Z
SUMMARY:Quels sont vos préférences et besoins en matières d’habitation
 ?
DESCRIPTION:Répondez à un court sondage pour indiquer vos préférences e
 t besoins en matière d’habitation à Mont-Tremblant!\n\nhttps://vdmt.ca
 /evenements/sondage/sondage-sur-vos-preferences-et-besoins-en-matieres-dha
 bitation
LOCATION:En ligne
DTSTART;TZID=America/New_York:20260221T000000
DTEND;TZID=America/New_York:20260221T000000
END:VEVENT
BEGIN:VEVENT
UID:sabre-vobject-4a97da26-03be-449a-b260-2b0c45152ad3
DTSTAMP:20260421T184232Z
SUMMARY:Quels sont vos préférences et besoins en matières d’habitation
 ?
DESCRIPTION:Répondez à un court sondage pour indiquer vos préférences e
 t besoins en matière d’habitation à Mont-Tremblant!\n\nhttps://vdmt.ca
 /evenements/sondage/sondage-sur-vos-preferences-et-besoins-en-matieres-dha
 bitation
LOCATION:En ligne
DTSTART;TZID=America/New_York:20260222T000000
DTEND;TZID=America/New_York:20260222T000000
END:VEVENT
BEGIN:VEVENT
UID:sabre-vobject-2a14b69e-c729-4bcd-a2f1-723b34f4090e
DTSTAMP:20260421T184232Z
SUMMARY:Quels sont vos préférences et besoins en matières d’habitation
 ?
DESCRIPTION:Répondez à un court sondage pour indiquer vos préférences e
 t besoins en matière d’habitation à Mont-Tremblant!\n\nhttps://vdmt.ca
 /evenements/sondage/sondage-sur-vos-preferences-et-besoins-en-matieres-dha
 bitation
LOCATION:En ligne
DTSTART;TZID=America/New_York:20260223T000000
DTEND;TZID=America/New_York:20260223T000000
END:VEVENT
BEGIN:VEVENT
UID:sabre-vobject-5cbc4d7c-58ab-47b7-bc1a-fdd86e6c6052
DTSTAMP:20260421T184232Z
SUMMARY:Quels sont vos préférences et besoins en matières d’habitation
 ?
DESCRIPTION:Répondez à un court sondage pour indiquer vos préférences e
 t besoins en matière d’habitation à Mont-Tremblant!\n\nhttps://vdmt.ca
 /evenements/sondage/sondage-sur-vos-preferences-et-besoins-en-matieres-dha
 bitation
LOCATION:En ligne
DTSTART;TZID=America/New_York:20260224T000000
DTEND;TZID=America/New_York:20260224T000000
END:VEVENT
BEGIN:VEVENT
UID:sabre-vobject-6e1038b4-f597-4b68-b32e-1d6876adb292
DTSTAMP:20260421T184232Z
SUMMARY:Quels sont vos préférences et besoins en matières d’habitation
 ?
DESCRIPTION:Répondez à un court sondage pour indiquer vos préférences e
 t besoins en matière d’habitation à Mont-Tremblant!\n\nhttps://vdmt.ca
 /evenements/sondage/sondage-sur-vos-preferences-et-besoins-en-matieres-dha
 bitation
LOCATION:En ligne
DTSTART;TZID=America/New_York:20260225T000000
DTEND;TZID=America/New_York:20260225T000000
END:VEVENT
BEGIN:VEVENT
UID:sabre-vobject-fe4c94a9-c38c-4842-93a3-86ac0671d404
DTSTAMP:20260421T184232Z
SUMMARY:Quels sont vos préférences et besoins en matières d’habitation
 ?
DESCRIPTION:Répondez à un court sondage pour indiquer vos préférences e
 t besoins en matière d’habitation à Mont-Tremblant!\n\nhttps://vdmt.ca
 /evenements/sondage/sondage-sur-vos-preferences-et-besoins-en-matieres-dha
 bitation
LOCATION:En ligne
DTSTART;TZID=America/New_York:20260226T000000
DTEND;TZID=America/New_York:20260226T000000
END:VEVENT
BEGIN:VEVENT
UID:sabre-vobject-b6b88cf3-4d67-4e6a-902f-2a4cb0a16d1c
DTSTAMP:20260421T184232Z
SUMMARY:Quels sont vos préférences et besoins en matières d’habitation
 ?
DESCRIPTION:Répondez à un court sondage pour indiquer vos préférences e
 t besoins en matière d’habitation à Mont-Tremblant!\n\nhttps://vdmt.ca
 /evenements/sondage/sondage-sur-vos-preferences-et-besoins-en-matieres-dha
 bitation
LOCATION:En ligne
DTSTART;TZID=America/New_York:20260227T000000
DTEND;TZID=America/New_York:20260227T000000
END:VEVENT
BEGIN:VEVENT
UID:sabre-vobject-66e63eee-3592-4427-b359-421b74bd5519
DTSTAMP:20260421T184232Z
SUMMARY:Quels sont vos préférences et besoins en matières d’habitation
 ?
DESCRIPTION:Répondez à un court sondage pour indiquer vos préférences e
 t besoins en matière d’habitation à Mont-Tremblant!\n\nhttps://vdmt.ca
 /evenements/sondage/sondage-sur-vos-preferences-et-besoins-en-matieres-dha
 bitation
LOCATION:En ligne
DTSTART;TZID=America/New_York:20260228T000000
DTEND;TZID=America/New_York:20260228T000000
END:VEVENT
BEGIN:VEVENT
UID:sabre-vobject-e96450ec-1559-4cb1-86ce-93eb17d86145
DTSTAMP:20260421T184232Z
SUMMARY:Quels sont vos préférences et besoins en matières d’habitation
 ?
DESCRIPTION:Répondez à un court sondage pour indiquer vos préférences e
 t besoins en matière d’habitation à Mont-Tremblant!\n\nhttps://vdmt.ca
 /evenements/sondage/sondage-sur-vos-preferences-et-besoins-en-matieres-dha
 bitation
LOCATION:En ligne
DTSTART;TZID=America/New_York:20260301T000000
DTEND;TZID=America/New_York:20260301T000000
END:VEVENT
BEGIN:VEVENT
UID:sabre-vobject-ab596cd4-3feb-4526-8179-8fb3c2a6b274
DTSTAMP:20260421T184232Z
SUMMARY:Quels sont vos préférences et besoins en matières d’habitation
 ?
DESCRIPTION:Répondez à un court sondage pour indiquer vos préférences e
 t besoins en matière d’habitation à Mont-Tremblant!\n\nhttps://vdmt.ca
 /evenements/sondage/sondage-sur-vos-preferences-et-besoins-en-matieres-dha
 bitation
LOCATION:En ligne
DTSTART;TZID=America/New_York:20260302T000000
DTEND;TZID=America/New_York:20260302T000000
END:VEVENT
END:VCALENDAR
