BEGIN:VCALENDAR
VERSION:2.0
PRODID:-//Sabre//Sabre VObject 4.5.1//EN
CALSCALE:GREGORIAN
X-WR-TIMEZONE:America/New_York
BEGIN:VEVENT
UID:sabre-vobject-d09e7ce9-bccf-4926-8808-e9deb70f8640
DTSTAMP:20260421T180121Z
SUMMARY:Week-end de ventes-débarras
DESCRIPTION:\n\nhttps://vdmt.ca/evenements/activite-speciale/week-end-de-ve
 ntes-debarras-2026-05-16
LOCATION:Mont-Tremblant
DTSTART;TZID=America/New_York:20260516T000000
DTEND;TZID=America/New_York:20260516T000000
END:VEVENT
BEGIN:VEVENT
UID:sabre-vobject-2b5f0245-71e6-446f-b93c-4cc45db0ee3b
DTSTAMP:20260421T180121Z
SUMMARY:Week-end de ventes-débarras
DESCRIPTION:\n\nhttps://vdmt.ca/evenements/activite-speciale/week-end-de-ve
 ntes-debarras-2026-05-16
LOCATION:Mont-Tremblant
DTSTART;TZID=America/New_York:20260517T000000
DTEND;TZID=America/New_York:20260517T000000
END:VEVENT
BEGIN:VEVENT
UID:sabre-vobject-b706dc0c-c990-4b5b-88bc-67f479df8a9e
DTSTAMP:20260421T180121Z
SUMMARY:Week-end de ventes-débarras
DESCRIPTION:\n\nhttps://vdmt.ca/evenements/activite-speciale/week-end-de-ve
 ntes-debarras-2026-05-16
LOCATION:Mont-Tremblant
DTSTART;TZID=America/New_York:20260518T000000
DTEND;TZID=America/New_York:20260518T000000
END:VEVENT
END:VCALENDAR
