BEGIN:VCALENDAR
VERSION:2.0
PRODID:-//Sabre//Sabre VObject 4.5.1//EN
CALSCALE:GREGORIAN
X-WR-TIMEZONE:America/New_York
BEGIN:VEVENT
UID:sabre-vobject-36ad708c-4ca3-4df9-a34e-0022749f0ed8
DTSTAMP:20260420T170825Z
SUMMARY:Week-end de ventes-débarras
DESCRIPTION:\n\nhttps://vdmt.ca/evenements/activite-speciale/week-end-de-ve
 ntes-debarras-1
LOCATION:Mont-Tremblant
DTSTART;TZID=America/New_York:20260905T000000
DTEND;TZID=America/New_York:20260905T000000
END:VEVENT
BEGIN:VEVENT
UID:sabre-vobject-4f865907-9fc9-4fad-94f1-1399ccee1220
DTSTAMP:20260420T170825Z
SUMMARY:Week-end de ventes-débarras
DESCRIPTION:\n\nhttps://vdmt.ca/evenements/activite-speciale/week-end-de-ve
 ntes-debarras-1
LOCATION:Mont-Tremblant
DTSTART;TZID=America/New_York:20260906T000000
DTEND;TZID=America/New_York:20260906T000000
END:VEVENT
BEGIN:VEVENT
UID:sabre-vobject-c47019e5-dc44-45ce-8b06-f6d86ae41a71
DTSTAMP:20260420T170825Z
SUMMARY:Week-end de ventes-débarras
DESCRIPTION:\n\nhttps://vdmt.ca/evenements/activite-speciale/week-end-de-ve
 ntes-debarras-1
LOCATION:Mont-Tremblant
DTSTART;TZID=America/New_York:20260907T000000
DTEND;TZID=America/New_York:20260907T000000
END:VEVENT
END:VCALENDAR
