BEGIN:VCALENDAR
VERSION:2.0
PRODID:-//Sabre//Sabre VObject 4.5.1//EN
CALSCALE:GREGORIAN
X-WR-TIMEZONE:America/New_York
BEGIN:VEVENT
UID:sabre-vobject-6b317394-6903-42f5-8290-f44a4c53d09d
DTSTAMP:20260420T154922Z
SUMMARY:Collecte des encombrants (gros rebuts)
DESCRIPTION:\n\nhttps://vdmt.ca/evenements/collecte-speciale/collecte-des-e
 ncombrants-gros-rebuts
LOCATION:Mont-Tremblant
DTSTART;TZID=America/New_York:20260518T000000
DTEND;TZID=America/New_York:20260518T000000
END:VEVENT
BEGIN:VEVENT
UID:sabre-vobject-77b5076b-d23d-4ff0-9294-1204578f0389
DTSTAMP:20260420T154922Z
SUMMARY:Collecte des encombrants (gros rebuts)
DESCRIPTION:\n\nhttps://vdmt.ca/evenements/collecte-speciale/collecte-des-e
 ncombrants-gros-rebuts
LOCATION:Mont-Tremblant
DTSTART;TZID=America/New_York:20260519T000000
DTEND;TZID=America/New_York:20260519T000000
END:VEVENT
BEGIN:VEVENT
UID:sabre-vobject-2801dcee-16ae-4b82-b763-a7e0cfcb9040
DTSTAMP:20260420T154922Z
SUMMARY:Collecte des encombrants (gros rebuts)
DESCRIPTION:\n\nhttps://vdmt.ca/evenements/collecte-speciale/collecte-des-e
 ncombrants-gros-rebuts
LOCATION:Mont-Tremblant
DTSTART;TZID=America/New_York:20260520T000000
DTEND;TZID=America/New_York:20260520T000000
END:VEVENT
BEGIN:VEVENT
UID:sabre-vobject-f84ce7f0-0109-4d2d-b107-6bab2549ad3b
DTSTAMP:20260420T154922Z
SUMMARY:Collecte des encombrants (gros rebuts)
DESCRIPTION:\n\nhttps://vdmt.ca/evenements/collecte-speciale/collecte-des-e
 ncombrants-gros-rebuts
LOCATION:Mont-Tremblant
DTSTART;TZID=America/New_York:20260521T000000
DTEND;TZID=America/New_York:20260521T000000
END:VEVENT
BEGIN:VEVENT
UID:sabre-vobject-4d296402-1cfe-4e41-bd08-fdfa1e1fa0bb
DTSTAMP:20260420T154922Z
SUMMARY:Collecte des encombrants (gros rebuts)
DESCRIPTION:\n\nhttps://vdmt.ca/evenements/collecte-speciale/collecte-des-e
 ncombrants-gros-rebuts
LOCATION:Mont-Tremblant
DTSTART;TZID=America/New_York:20260522T000000
DTEND;TZID=America/New_York:20260522T000000
END:VEVENT
END:VCALENDAR
