BEGIN:VCALENDAR
VERSION:2.0
PRODID:-//Sabre//Sabre VObject 4.5.1//EN
CALSCALE:GREGORIAN
X-WR-TIMEZONE:America/New_York
BEGIN:VEVENT
UID:sabre-vobject-b234b75f-3cdd-4b13-8ada-2e2db2f932f0
DTSTAMP:20260420T193306Z
SUMMARY:D’hier à aujourd’hui\, de la nature à la pièce
DESCRIPTION:Du 30 janvier au 15 mars\, découvrez l’exposition « D’hie
 r à aujourd’hui\, de la nature à la pièce »\, à la salle Alphonse-D
 esjardins.\n\nhttps://vdmt.ca/evenements/exposition/dhier-a-aujourdhui-de-
 la-nature-a-la-piece
LOCATION:Salle Alphonse-Desjardins
DTSTART;TZID=America/New_York:20260130T000000
DTEND;TZID=America/New_York:20260130T000000
END:VEVENT
BEGIN:VEVENT
UID:sabre-vobject-691bd6a1-2d9a-4b27-90f3-fc9edee89f14
DTSTAMP:20260420T193306Z
SUMMARY:D’hier à aujourd’hui\, de la nature à la pièce
DESCRIPTION:Du 30 janvier au 15 mars\, découvrez l’exposition « D’hie
 r à aujourd’hui\, de la nature à la pièce »\, à la salle Alphonse-D
 esjardins.\n\nhttps://vdmt.ca/evenements/exposition/dhier-a-aujourdhui-de-
 la-nature-a-la-piece
LOCATION:Salle Alphonse-Desjardins
DTSTART;TZID=America/New_York:20260131T000000
DTEND;TZID=America/New_York:20260131T000000
END:VEVENT
BEGIN:VEVENT
UID:sabre-vobject-677ac644-eea7-4dfd-b49b-73d76a51d851
DTSTAMP:20260420T193306Z
SUMMARY:D’hier à aujourd’hui\, de la nature à la pièce
DESCRIPTION:Du 30 janvier au 15 mars\, découvrez l’exposition « D’hie
 r à aujourd’hui\, de la nature à la pièce »\, à la salle Alphonse-D
 esjardins.\n\nhttps://vdmt.ca/evenements/exposition/dhier-a-aujourdhui-de-
 la-nature-a-la-piece
LOCATION:Salle Alphonse-Desjardins
DTSTART;TZID=America/New_York:20260201T000000
DTEND;TZID=America/New_York:20260201T000000
END:VEVENT
BEGIN:VEVENT
UID:sabre-vobject-a4ec3490-08c9-46ee-b305-720d60e870ac
DTSTAMP:20260420T193306Z
SUMMARY:D’hier à aujourd’hui\, de la nature à la pièce
DESCRIPTION:Du 30 janvier au 15 mars\, découvrez l’exposition « D’hie
 r à aujourd’hui\, de la nature à la pièce »\, à la salle Alphonse-D
 esjardins.\n\nhttps://vdmt.ca/evenements/exposition/dhier-a-aujourdhui-de-
 la-nature-a-la-piece
LOCATION:Salle Alphonse-Desjardins
DTSTART;TZID=America/New_York:20260202T000000
DTEND;TZID=America/New_York:20260202T000000
END:VEVENT
BEGIN:VEVENT
UID:sabre-vobject-31325ce2-7fb6-4e47-abf3-1c30d69bfab6
DTSTAMP:20260420T193306Z
SUMMARY:D’hier à aujourd’hui\, de la nature à la pièce
DESCRIPTION:Du 30 janvier au 15 mars\, découvrez l’exposition « D’hie
 r à aujourd’hui\, de la nature à la pièce »\, à la salle Alphonse-D
 esjardins.\n\nhttps://vdmt.ca/evenements/exposition/dhier-a-aujourdhui-de-
 la-nature-a-la-piece
LOCATION:Salle Alphonse-Desjardins
DTSTART;TZID=America/New_York:20260203T000000
DTEND;TZID=America/New_York:20260203T000000
END:VEVENT
BEGIN:VEVENT
UID:sabre-vobject-06c1edd2-5a87-4e46-a5ad-f054c6c5b09c
DTSTAMP:20260420T193306Z
SUMMARY:D’hier à aujourd’hui\, de la nature à la pièce
DESCRIPTION:Du 30 janvier au 15 mars\, découvrez l’exposition « D’hie
 r à aujourd’hui\, de la nature à la pièce »\, à la salle Alphonse-D
 esjardins.\n\nhttps://vdmt.ca/evenements/exposition/dhier-a-aujourdhui-de-
 la-nature-a-la-piece
LOCATION:Salle Alphonse-Desjardins
DTSTART;TZID=America/New_York:20260204T000000
DTEND;TZID=America/New_York:20260204T000000
END:VEVENT
BEGIN:VEVENT
UID:sabre-vobject-66a4cc9b-1ae9-4f65-a742-3f3ccdf7f354
DTSTAMP:20260420T193306Z
SUMMARY:D’hier à aujourd’hui\, de la nature à la pièce
DESCRIPTION:Du 30 janvier au 15 mars\, découvrez l’exposition « D’hie
 r à aujourd’hui\, de la nature à la pièce »\, à la salle Alphonse-D
 esjardins.\n\nhttps://vdmt.ca/evenements/exposition/dhier-a-aujourdhui-de-
 la-nature-a-la-piece
LOCATION:Salle Alphonse-Desjardins
DTSTART;TZID=America/New_York:20260205T000000
DTEND;TZID=America/New_York:20260205T000000
END:VEVENT
BEGIN:VEVENT
UID:sabre-vobject-cb2528e6-4117-4048-a412-944febb52cd4
DTSTAMP:20260420T193306Z
SUMMARY:D’hier à aujourd’hui\, de la nature à la pièce
DESCRIPTION:Du 30 janvier au 15 mars\, découvrez l’exposition « D’hie
 r à aujourd’hui\, de la nature à la pièce »\, à la salle Alphonse-D
 esjardins.\n\nhttps://vdmt.ca/evenements/exposition/dhier-a-aujourdhui-de-
 la-nature-a-la-piece
LOCATION:Salle Alphonse-Desjardins
DTSTART;TZID=America/New_York:20260206T000000
DTEND;TZID=America/New_York:20260206T000000
END:VEVENT
BEGIN:VEVENT
UID:sabre-vobject-8bae93d1-6059-409c-bcb7-0112176c6ede
DTSTAMP:20260420T193306Z
SUMMARY:D’hier à aujourd’hui\, de la nature à la pièce
DESCRIPTION:Du 30 janvier au 15 mars\, découvrez l’exposition « D’hie
 r à aujourd’hui\, de la nature à la pièce »\, à la salle Alphonse-D
 esjardins.\n\nhttps://vdmt.ca/evenements/exposition/dhier-a-aujourdhui-de-
 la-nature-a-la-piece
LOCATION:Salle Alphonse-Desjardins
DTSTART;TZID=America/New_York:20260207T000000
DTEND;TZID=America/New_York:20260207T000000
END:VEVENT
BEGIN:VEVENT
UID:sabre-vobject-d9ec0874-9fd8-4c6e-abbc-0f335eb13ff5
DTSTAMP:20260420T193306Z
SUMMARY:D’hier à aujourd’hui\, de la nature à la pièce
DESCRIPTION:Du 30 janvier au 15 mars\, découvrez l’exposition « D’hie
 r à aujourd’hui\, de la nature à la pièce »\, à la salle Alphonse-D
 esjardins.\n\nhttps://vdmt.ca/evenements/exposition/dhier-a-aujourdhui-de-
 la-nature-a-la-piece
LOCATION:Salle Alphonse-Desjardins
DTSTART;TZID=America/New_York:20260208T000000
DTEND;TZID=America/New_York:20260208T000000
END:VEVENT
BEGIN:VEVENT
UID:sabre-vobject-74b2e1e3-99a5-4ffd-9625-3520d3070d7f
DTSTAMP:20260420T193306Z
SUMMARY:D’hier à aujourd’hui\, de la nature à la pièce
DESCRIPTION:Du 30 janvier au 15 mars\, découvrez l’exposition « D’hie
 r à aujourd’hui\, de la nature à la pièce »\, à la salle Alphonse-D
 esjardins.\n\nhttps://vdmt.ca/evenements/exposition/dhier-a-aujourdhui-de-
 la-nature-a-la-piece
LOCATION:Salle Alphonse-Desjardins
DTSTART;TZID=America/New_York:20260209T000000
DTEND;TZID=America/New_York:20260209T000000
END:VEVENT
BEGIN:VEVENT
UID:sabre-vobject-69acd04b-1219-4589-b265-db88481fcbf6
DTSTAMP:20260420T193306Z
SUMMARY:D’hier à aujourd’hui\, de la nature à la pièce
DESCRIPTION:Du 30 janvier au 15 mars\, découvrez l’exposition « D’hie
 r à aujourd’hui\, de la nature à la pièce »\, à la salle Alphonse-D
 esjardins.\n\nhttps://vdmt.ca/evenements/exposition/dhier-a-aujourdhui-de-
 la-nature-a-la-piece
LOCATION:Salle Alphonse-Desjardins
DTSTART;TZID=America/New_York:20260210T000000
DTEND;TZID=America/New_York:20260210T000000
END:VEVENT
BEGIN:VEVENT
UID:sabre-vobject-b338b07c-313d-40a6-9ba8-5e590add441a
DTSTAMP:20260420T193306Z
SUMMARY:D’hier à aujourd’hui\, de la nature à la pièce
DESCRIPTION:Du 30 janvier au 15 mars\, découvrez l’exposition « D’hie
 r à aujourd’hui\, de la nature à la pièce »\, à la salle Alphonse-D
 esjardins.\n\nhttps://vdmt.ca/evenements/exposition/dhier-a-aujourdhui-de-
 la-nature-a-la-piece
LOCATION:Salle Alphonse-Desjardins
DTSTART;TZID=America/New_York:20260211T000000
DTEND;TZID=America/New_York:20260211T000000
END:VEVENT
BEGIN:VEVENT
UID:sabre-vobject-bc23e31d-bafd-4125-9184-83576e949e47
DTSTAMP:20260420T193306Z
SUMMARY:D’hier à aujourd’hui\, de la nature à la pièce
DESCRIPTION:Du 30 janvier au 15 mars\, découvrez l’exposition « D’hie
 r à aujourd’hui\, de la nature à la pièce »\, à la salle Alphonse-D
 esjardins.\n\nhttps://vdmt.ca/evenements/exposition/dhier-a-aujourdhui-de-
 la-nature-a-la-piece
LOCATION:Salle Alphonse-Desjardins
DTSTART;TZID=America/New_York:20260212T000000
DTEND;TZID=America/New_York:20260212T000000
END:VEVENT
BEGIN:VEVENT
UID:sabre-vobject-b8511b84-85e5-4846-b694-3634ce6e47ab
DTSTAMP:20260420T193306Z
SUMMARY:D’hier à aujourd’hui\, de la nature à la pièce
DESCRIPTION:Du 30 janvier au 15 mars\, découvrez l’exposition « D’hie
 r à aujourd’hui\, de la nature à la pièce »\, à la salle Alphonse-D
 esjardins.\n\nhttps://vdmt.ca/evenements/exposition/dhier-a-aujourdhui-de-
 la-nature-a-la-piece
LOCATION:Salle Alphonse-Desjardins
DTSTART;TZID=America/New_York:20260213T000000
DTEND;TZID=America/New_York:20260213T000000
END:VEVENT
BEGIN:VEVENT
UID:sabre-vobject-9dfecdc5-cce7-4c65-be9d-cfa8fe94e821
DTSTAMP:20260420T193306Z
SUMMARY:D’hier à aujourd’hui\, de la nature à la pièce
DESCRIPTION:Du 30 janvier au 15 mars\, découvrez l’exposition « D’hie
 r à aujourd’hui\, de la nature à la pièce »\, à la salle Alphonse-D
 esjardins.\n\nhttps://vdmt.ca/evenements/exposition/dhier-a-aujourdhui-de-
 la-nature-a-la-piece
LOCATION:Salle Alphonse-Desjardins
DTSTART;TZID=America/New_York:20260214T000000
DTEND;TZID=America/New_York:20260214T000000
END:VEVENT
BEGIN:VEVENT
UID:sabre-vobject-273114ee-63b3-4094-b2b7-c401aef81ea5
DTSTAMP:20260420T193306Z
SUMMARY:D’hier à aujourd’hui\, de la nature à la pièce
DESCRIPTION:Du 30 janvier au 15 mars\, découvrez l’exposition « D’hie
 r à aujourd’hui\, de la nature à la pièce »\, à la salle Alphonse-D
 esjardins.\n\nhttps://vdmt.ca/evenements/exposition/dhier-a-aujourdhui-de-
 la-nature-a-la-piece
LOCATION:Salle Alphonse-Desjardins
DTSTART;TZID=America/New_York:20260215T000000
DTEND;TZID=America/New_York:20260215T000000
END:VEVENT
BEGIN:VEVENT
UID:sabre-vobject-e37c03e2-5cd5-4767-b1fc-7b10763ea809
DTSTAMP:20260420T193306Z
SUMMARY:D’hier à aujourd’hui\, de la nature à la pièce
DESCRIPTION:Du 30 janvier au 15 mars\, découvrez l’exposition « D’hie
 r à aujourd’hui\, de la nature à la pièce »\, à la salle Alphonse-D
 esjardins.\n\nhttps://vdmt.ca/evenements/exposition/dhier-a-aujourdhui-de-
 la-nature-a-la-piece
LOCATION:Salle Alphonse-Desjardins
DTSTART;TZID=America/New_York:20260216T000000
DTEND;TZID=America/New_York:20260216T000000
END:VEVENT
BEGIN:VEVENT
UID:sabre-vobject-2cfb06ee-7331-4c22-83b8-ecd59b689234
DTSTAMP:20260420T193306Z
SUMMARY:D’hier à aujourd’hui\, de la nature à la pièce
DESCRIPTION:Du 30 janvier au 15 mars\, découvrez l’exposition « D’hie
 r à aujourd’hui\, de la nature à la pièce »\, à la salle Alphonse-D
 esjardins.\n\nhttps://vdmt.ca/evenements/exposition/dhier-a-aujourdhui-de-
 la-nature-a-la-piece
LOCATION:Salle Alphonse-Desjardins
DTSTART;TZID=America/New_York:20260217T000000
DTEND;TZID=America/New_York:20260217T000000
END:VEVENT
BEGIN:VEVENT
UID:sabre-vobject-fe0ea0bf-b619-42da-b513-2a5d136194a5
DTSTAMP:20260420T193306Z
SUMMARY:D’hier à aujourd’hui\, de la nature à la pièce
DESCRIPTION:Du 30 janvier au 15 mars\, découvrez l’exposition « D’hie
 r à aujourd’hui\, de la nature à la pièce »\, à la salle Alphonse-D
 esjardins.\n\nhttps://vdmt.ca/evenements/exposition/dhier-a-aujourdhui-de-
 la-nature-a-la-piece
LOCATION:Salle Alphonse-Desjardins
DTSTART;TZID=America/New_York:20260218T000000
DTEND;TZID=America/New_York:20260218T000000
END:VEVENT
BEGIN:VEVENT
UID:sabre-vobject-bd643810-5961-45a1-8bac-fd4c8e46dd58
DTSTAMP:20260420T193306Z
SUMMARY:D’hier à aujourd’hui\, de la nature à la pièce
DESCRIPTION:Du 30 janvier au 15 mars\, découvrez l’exposition « D’hie
 r à aujourd’hui\, de la nature à la pièce »\, à la salle Alphonse-D
 esjardins.\n\nhttps://vdmt.ca/evenements/exposition/dhier-a-aujourdhui-de-
 la-nature-a-la-piece
LOCATION:Salle Alphonse-Desjardins
DTSTART;TZID=America/New_York:20260219T000000
DTEND;TZID=America/New_York:20260219T000000
END:VEVENT
BEGIN:VEVENT
UID:sabre-vobject-2afe2e06-067a-4de6-95fd-e7ed6f404ed3
DTSTAMP:20260420T193306Z
SUMMARY:D’hier à aujourd’hui\, de la nature à la pièce
DESCRIPTION:Du 30 janvier au 15 mars\, découvrez l’exposition « D’hie
 r à aujourd’hui\, de la nature à la pièce »\, à la salle Alphonse-D
 esjardins.\n\nhttps://vdmt.ca/evenements/exposition/dhier-a-aujourdhui-de-
 la-nature-a-la-piece
LOCATION:Salle Alphonse-Desjardins
DTSTART;TZID=America/New_York:20260220T000000
DTEND;TZID=America/New_York:20260220T000000
END:VEVENT
BEGIN:VEVENT
UID:sabre-vobject-398b86fc-fd14-4386-b7d5-325b5f4a9b66
DTSTAMP:20260420T193306Z
SUMMARY:D’hier à aujourd’hui\, de la nature à la pièce
DESCRIPTION:Du 30 janvier au 15 mars\, découvrez l’exposition « D’hie
 r à aujourd’hui\, de la nature à la pièce »\, à la salle Alphonse-D
 esjardins.\n\nhttps://vdmt.ca/evenements/exposition/dhier-a-aujourdhui-de-
 la-nature-a-la-piece
LOCATION:Salle Alphonse-Desjardins
DTSTART;TZID=America/New_York:20260221T000000
DTEND;TZID=America/New_York:20260221T000000
END:VEVENT
BEGIN:VEVENT
UID:sabre-vobject-780c77f8-c04b-4973-8798-e0faa7ad15c8
DTSTAMP:20260420T193306Z
SUMMARY:D’hier à aujourd’hui\, de la nature à la pièce
DESCRIPTION:Du 30 janvier au 15 mars\, découvrez l’exposition « D’hie
 r à aujourd’hui\, de la nature à la pièce »\, à la salle Alphonse-D
 esjardins.\n\nhttps://vdmt.ca/evenements/exposition/dhier-a-aujourdhui-de-
 la-nature-a-la-piece
LOCATION:Salle Alphonse-Desjardins
DTSTART;TZID=America/New_York:20260222T000000
DTEND;TZID=America/New_York:20260222T000000
END:VEVENT
BEGIN:VEVENT
UID:sabre-vobject-6673a8d1-6d25-468b-bf53-e4a2a151b9fe
DTSTAMP:20260420T193306Z
SUMMARY:D’hier à aujourd’hui\, de la nature à la pièce
DESCRIPTION:Du 30 janvier au 15 mars\, découvrez l’exposition « D’hie
 r à aujourd’hui\, de la nature à la pièce »\, à la salle Alphonse-D
 esjardins.\n\nhttps://vdmt.ca/evenements/exposition/dhier-a-aujourdhui-de-
 la-nature-a-la-piece
LOCATION:Salle Alphonse-Desjardins
DTSTART;TZID=America/New_York:20260223T000000
DTEND;TZID=America/New_York:20260223T000000
END:VEVENT
BEGIN:VEVENT
UID:sabre-vobject-a4389cb0-1b61-4e5f-9d3f-208017a88b23
DTSTAMP:20260420T193306Z
SUMMARY:D’hier à aujourd’hui\, de la nature à la pièce
DESCRIPTION:Du 30 janvier au 15 mars\, découvrez l’exposition « D’hie
 r à aujourd’hui\, de la nature à la pièce »\, à la salle Alphonse-D
 esjardins.\n\nhttps://vdmt.ca/evenements/exposition/dhier-a-aujourdhui-de-
 la-nature-a-la-piece
LOCATION:Salle Alphonse-Desjardins
DTSTART;TZID=America/New_York:20260224T000000
DTEND;TZID=America/New_York:20260224T000000
END:VEVENT
BEGIN:VEVENT
UID:sabre-vobject-b628115f-3671-4da8-ae30-a29e6b029dd1
DTSTAMP:20260420T193306Z
SUMMARY:D’hier à aujourd’hui\, de la nature à la pièce
DESCRIPTION:Du 30 janvier au 15 mars\, découvrez l’exposition « D’hie
 r à aujourd’hui\, de la nature à la pièce »\, à la salle Alphonse-D
 esjardins.\n\nhttps://vdmt.ca/evenements/exposition/dhier-a-aujourdhui-de-
 la-nature-a-la-piece
LOCATION:Salle Alphonse-Desjardins
DTSTART;TZID=America/New_York:20260225T000000
DTEND;TZID=America/New_York:20260225T000000
END:VEVENT
BEGIN:VEVENT
UID:sabre-vobject-89b80c2b-ee24-404b-8f2f-404737853fa4
DTSTAMP:20260420T193306Z
SUMMARY:D’hier à aujourd’hui\, de la nature à la pièce
DESCRIPTION:Du 30 janvier au 15 mars\, découvrez l’exposition « D’hie
 r à aujourd’hui\, de la nature à la pièce »\, à la salle Alphonse-D
 esjardins.\n\nhttps://vdmt.ca/evenements/exposition/dhier-a-aujourdhui-de-
 la-nature-a-la-piece
LOCATION:Salle Alphonse-Desjardins
DTSTART;TZID=America/New_York:20260226T000000
DTEND;TZID=America/New_York:20260226T000000
END:VEVENT
BEGIN:VEVENT
UID:sabre-vobject-e0ae3e5d-047b-4b5f-8fae-c6fc17aa1106
DTSTAMP:20260420T193306Z
SUMMARY:D’hier à aujourd’hui\, de la nature à la pièce
DESCRIPTION:Du 30 janvier au 15 mars\, découvrez l’exposition « D’hie
 r à aujourd’hui\, de la nature à la pièce »\, à la salle Alphonse-D
 esjardins.\n\nhttps://vdmt.ca/evenements/exposition/dhier-a-aujourdhui-de-
 la-nature-a-la-piece
LOCATION:Salle Alphonse-Desjardins
DTSTART;TZID=America/New_York:20260227T000000
DTEND;TZID=America/New_York:20260227T000000
END:VEVENT
BEGIN:VEVENT
UID:sabre-vobject-6796776f-b4b0-4e09-8ba4-9ddfa73a59be
DTSTAMP:20260420T193306Z
SUMMARY:D’hier à aujourd’hui\, de la nature à la pièce
DESCRIPTION:Du 30 janvier au 15 mars\, découvrez l’exposition « D’hie
 r à aujourd’hui\, de la nature à la pièce »\, à la salle Alphonse-D
 esjardins.\n\nhttps://vdmt.ca/evenements/exposition/dhier-a-aujourdhui-de-
 la-nature-a-la-piece
LOCATION:Salle Alphonse-Desjardins
DTSTART;TZID=America/New_York:20260228T000000
DTEND;TZID=America/New_York:20260228T000000
END:VEVENT
BEGIN:VEVENT
UID:sabre-vobject-f2f2aa17-56e7-4f8c-b67a-f69f5e9d6049
DTSTAMP:20260420T193306Z
SUMMARY:D’hier à aujourd’hui\, de la nature à la pièce
DESCRIPTION:Du 30 janvier au 15 mars\, découvrez l’exposition « D’hie
 r à aujourd’hui\, de la nature à la pièce »\, à la salle Alphonse-D
 esjardins.\n\nhttps://vdmt.ca/evenements/exposition/dhier-a-aujourdhui-de-
 la-nature-a-la-piece
LOCATION:Salle Alphonse-Desjardins
DTSTART;TZID=America/New_York:20260301T000000
DTEND;TZID=America/New_York:20260301T000000
END:VEVENT
BEGIN:VEVENT
UID:sabre-vobject-87dad8ca-3a42-4275-9840-38e03413aaa9
DTSTAMP:20260420T193306Z
SUMMARY:D’hier à aujourd’hui\, de la nature à la pièce
DESCRIPTION:Du 30 janvier au 15 mars\, découvrez l’exposition « D’hie
 r à aujourd’hui\, de la nature à la pièce »\, à la salle Alphonse-D
 esjardins.\n\nhttps://vdmt.ca/evenements/exposition/dhier-a-aujourdhui-de-
 la-nature-a-la-piece
LOCATION:Salle Alphonse-Desjardins
DTSTART;TZID=America/New_York:20260302T000000
DTEND;TZID=America/New_York:20260302T000000
END:VEVENT
BEGIN:VEVENT
UID:sabre-vobject-9a22bec4-5503-4a62-90c3-0be07ee91fa3
DTSTAMP:20260420T193306Z
SUMMARY:D’hier à aujourd’hui\, de la nature à la pièce
DESCRIPTION:Du 30 janvier au 15 mars\, découvrez l’exposition « D’hie
 r à aujourd’hui\, de la nature à la pièce »\, à la salle Alphonse-D
 esjardins.\n\nhttps://vdmt.ca/evenements/exposition/dhier-a-aujourdhui-de-
 la-nature-a-la-piece
LOCATION:Salle Alphonse-Desjardins
DTSTART;TZID=America/New_York:20260303T000000
DTEND;TZID=America/New_York:20260303T000000
END:VEVENT
BEGIN:VEVENT
UID:sabre-vobject-ea390db5-8f9a-41c8-987d-c896632872ba
DTSTAMP:20260420T193306Z
SUMMARY:D’hier à aujourd’hui\, de la nature à la pièce
DESCRIPTION:Du 30 janvier au 15 mars\, découvrez l’exposition « D’hie
 r à aujourd’hui\, de la nature à la pièce »\, à la salle Alphonse-D
 esjardins.\n\nhttps://vdmt.ca/evenements/exposition/dhier-a-aujourdhui-de-
 la-nature-a-la-piece
LOCATION:Salle Alphonse-Desjardins
DTSTART;TZID=America/New_York:20260304T000000
DTEND;TZID=America/New_York:20260304T000000
END:VEVENT
BEGIN:VEVENT
UID:sabre-vobject-d0e22219-086e-441b-a5c3-9f6c9067a3aa
DTSTAMP:20260420T193306Z
SUMMARY:D’hier à aujourd’hui\, de la nature à la pièce
DESCRIPTION:Du 30 janvier au 15 mars\, découvrez l’exposition « D’hie
 r à aujourd’hui\, de la nature à la pièce »\, à la salle Alphonse-D
 esjardins.\n\nhttps://vdmt.ca/evenements/exposition/dhier-a-aujourdhui-de-
 la-nature-a-la-piece
LOCATION:Salle Alphonse-Desjardins
DTSTART;TZID=America/New_York:20260305T000000
DTEND;TZID=America/New_York:20260305T000000
END:VEVENT
BEGIN:VEVENT
UID:sabre-vobject-7f8af354-313c-481b-96bf-46e77a18a905
DTSTAMP:20260420T193306Z
SUMMARY:D’hier à aujourd’hui\, de la nature à la pièce
DESCRIPTION:Du 30 janvier au 15 mars\, découvrez l’exposition « D’hie
 r à aujourd’hui\, de la nature à la pièce »\, à la salle Alphonse-D
 esjardins.\n\nhttps://vdmt.ca/evenements/exposition/dhier-a-aujourdhui-de-
 la-nature-a-la-piece
LOCATION:Salle Alphonse-Desjardins
DTSTART;TZID=America/New_York:20260306T000000
DTEND;TZID=America/New_York:20260306T000000
END:VEVENT
BEGIN:VEVENT
UID:sabre-vobject-e09d8501-4d2b-42b1-9168-1f21b1bd2fce
DTSTAMP:20260420T193306Z
SUMMARY:D’hier à aujourd’hui\, de la nature à la pièce
DESCRIPTION:Du 30 janvier au 15 mars\, découvrez l’exposition « D’hie
 r à aujourd’hui\, de la nature à la pièce »\, à la salle Alphonse-D
 esjardins.\n\nhttps://vdmt.ca/evenements/exposition/dhier-a-aujourdhui-de-
 la-nature-a-la-piece
LOCATION:Salle Alphonse-Desjardins
DTSTART;TZID=America/New_York:20260307T000000
DTEND;TZID=America/New_York:20260307T000000
END:VEVENT
BEGIN:VEVENT
UID:sabre-vobject-a909bea1-1892-4573-9a57-147c156e9ef8
DTSTAMP:20260420T193306Z
SUMMARY:D’hier à aujourd’hui\, de la nature à la pièce
DESCRIPTION:Du 30 janvier au 15 mars\, découvrez l’exposition « D’hie
 r à aujourd’hui\, de la nature à la pièce »\, à la salle Alphonse-D
 esjardins.\n\nhttps://vdmt.ca/evenements/exposition/dhier-a-aujourdhui-de-
 la-nature-a-la-piece
LOCATION:Salle Alphonse-Desjardins
DTSTART;TZID=America/New_York:20260308T000000
DTEND;TZID=America/New_York:20260308T000000
END:VEVENT
BEGIN:VEVENT
UID:sabre-vobject-8e0b0ece-9416-498d-830f-8f1eb54bc138
DTSTAMP:20260420T193306Z
SUMMARY:D’hier à aujourd’hui\, de la nature à la pièce
DESCRIPTION:Du 30 janvier au 15 mars\, découvrez l’exposition « D’hie
 r à aujourd’hui\, de la nature à la pièce »\, à la salle Alphonse-D
 esjardins.\n\nhttps://vdmt.ca/evenements/exposition/dhier-a-aujourdhui-de-
 la-nature-a-la-piece
LOCATION:Salle Alphonse-Desjardins
DTSTART;TZID=America/New_York:20260309T000000
DTEND;TZID=America/New_York:20260309T000000
END:VEVENT
BEGIN:VEVENT
UID:sabre-vobject-3a3569d8-4cee-404a-9bc3-6d3e0a80342c
DTSTAMP:20260420T193306Z
SUMMARY:D’hier à aujourd’hui\, de la nature à la pièce
DESCRIPTION:Du 30 janvier au 15 mars\, découvrez l’exposition « D’hie
 r à aujourd’hui\, de la nature à la pièce »\, à la salle Alphonse-D
 esjardins.\n\nhttps://vdmt.ca/evenements/exposition/dhier-a-aujourdhui-de-
 la-nature-a-la-piece
LOCATION:Salle Alphonse-Desjardins
DTSTART;TZID=America/New_York:20260310T000000
DTEND;TZID=America/New_York:20260310T000000
END:VEVENT
BEGIN:VEVENT
UID:sabre-vobject-128da0d1-4413-416f-b474-fd160a7c0672
DTSTAMP:20260420T193306Z
SUMMARY:D’hier à aujourd’hui\, de la nature à la pièce
DESCRIPTION:Du 30 janvier au 15 mars\, découvrez l’exposition « D’hie
 r à aujourd’hui\, de la nature à la pièce »\, à la salle Alphonse-D
 esjardins.\n\nhttps://vdmt.ca/evenements/exposition/dhier-a-aujourdhui-de-
 la-nature-a-la-piece
LOCATION:Salle Alphonse-Desjardins
DTSTART;TZID=America/New_York:20260311T000000
DTEND;TZID=America/New_York:20260311T000000
END:VEVENT
BEGIN:VEVENT
UID:sabre-vobject-3e5fc1a6-87fb-406c-b045-0d3566025595
DTSTAMP:20260420T193306Z
SUMMARY:D’hier à aujourd’hui\, de la nature à la pièce
DESCRIPTION:Du 30 janvier au 15 mars\, découvrez l’exposition « D’hie
 r à aujourd’hui\, de la nature à la pièce »\, à la salle Alphonse-D
 esjardins.\n\nhttps://vdmt.ca/evenements/exposition/dhier-a-aujourdhui-de-
 la-nature-a-la-piece
LOCATION:Salle Alphonse-Desjardins
DTSTART;TZID=America/New_York:20260312T000000
DTEND;TZID=America/New_York:20260312T000000
END:VEVENT
BEGIN:VEVENT
UID:sabre-vobject-92f80955-1a42-4b0c-bdaa-71f52305425d
DTSTAMP:20260420T193306Z
SUMMARY:D’hier à aujourd’hui\, de la nature à la pièce
DESCRIPTION:Du 30 janvier au 15 mars\, découvrez l’exposition « D’hie
 r à aujourd’hui\, de la nature à la pièce »\, à la salle Alphonse-D
 esjardins.\n\nhttps://vdmt.ca/evenements/exposition/dhier-a-aujourdhui-de-
 la-nature-a-la-piece
LOCATION:Salle Alphonse-Desjardins
DTSTART;TZID=America/New_York:20260313T000000
DTEND;TZID=America/New_York:20260313T000000
END:VEVENT
BEGIN:VEVENT
UID:sabre-vobject-5087bec8-000f-423d-9a87-773a6c1f1369
DTSTAMP:20260420T193306Z
SUMMARY:D’hier à aujourd’hui\, de la nature à la pièce
DESCRIPTION:Du 30 janvier au 15 mars\, découvrez l’exposition « D’hie
 r à aujourd’hui\, de la nature à la pièce »\, à la salle Alphonse-D
 esjardins.\n\nhttps://vdmt.ca/evenements/exposition/dhier-a-aujourdhui-de-
 la-nature-a-la-piece
LOCATION:Salle Alphonse-Desjardins
DTSTART;TZID=America/New_York:20260314T000000
DTEND;TZID=America/New_York:20260314T000000
END:VEVENT
BEGIN:VEVENT
UID:sabre-vobject-5bc94e47-9cbf-400c-9a4b-fd0ed23d1720
DTSTAMP:20260420T193306Z
SUMMARY:D’hier à aujourd’hui\, de la nature à la pièce
DESCRIPTION:Du 30 janvier au 15 mars\, découvrez l’exposition « D’hie
 r à aujourd’hui\, de la nature à la pièce »\, à la salle Alphonse-D
 esjardins.\n\nhttps://vdmt.ca/evenements/exposition/dhier-a-aujourdhui-de-
 la-nature-a-la-piece
LOCATION:Salle Alphonse-Desjardins
DTSTART;TZID=America/New_York:20260315T000000
DTEND;TZID=America/New_York:20260315T000000
END:VEVENT
END:VCALENDAR
