BEGIN:VCALENDAR
VERSION:2.0
PRODID:-//Sabre//Sabre VObject 4.5.1//EN
CALSCALE:GREGORIAN
X-WR-TIMEZONE:America/New_York
BEGIN:VEVENT
UID:sabre-vobject-e6a557c5-4af1-4cfa-8648-be85b4330050
DTSTAMP:20260421T134810Z
SUMMARY:La santé cognitive des personnes aînées
DESCRIPTION:\n\nhttps://vdmt.ca/evenements/atelier/la-sante-cognitive-des-p
 ersonnes-ainees
LOCATION:Bibliothèque Samuel-Ouimet (1145\, rue de Saint-Jovite)
DTSTART;TZID=America/New_York:20260422T140000
DTEND;TZID=America/New_York:20260422T160000
END:VEVENT
END:VCALENDAR
